BEGIN:VCALENDAR
VERSION:2.0
PRODID:-//bjbraila.ro - ECPv6.15.20//NONSGML v1.0//EN
CALSCALE:GREGORIAN
METHOD:PUBLISH
X-WR-CALNAME:bjbraila.ro
X-ORIGINAL-URL:https://www.bjbraila.ro
X-WR-CALDESC:Evenimente pentru bjbraila.ro
REFRESH-INTERVAL;VALUE=DURATION:PT1H
X-Robots-Tag:noindex
X-PUBLISHED-TTL:PT1H
BEGIN:VTIMEZONE
TZID:Europe/Helsinki
BEGIN:DAYLIGHT
TZOFFSETFROM:+0200
TZOFFSETTO:+0300
TZNAME:EEST
DTSTART:20240331T010000
END:DAYLIGHT
BEGIN:STANDARD
TZOFFSETFROM:+0300
TZOFFSETTO:+0200
TZNAME:EET
DTSTART:20241027T010000
END:STANDARD
BEGIN:DAYLIGHT
TZOFFSETFROM:+0200
TZOFFSETTO:+0300
TZNAME:EEST
DTSTART:20250330T010000
END:DAYLIGHT
BEGIN:STANDARD
TZOFFSETFROM:+0300
TZOFFSETTO:+0200
TZNAME:EET
DTSTART:20251026T010000
END:STANDARD
BEGIN:DAYLIGHT
TZOFFSETFROM:+0200
TZOFFSETTO:+0300
TZNAME:EEST
DTSTART:20260329T010000
END:DAYLIGHT
BEGIN:STANDARD
TZOFFSETFROM:+0300
TZOFFSETTO:+0200
TZNAME:EET
DTSTART:20261025T010000
END:STANDARD
END:VTIMEZONE
BEGIN:VEVENT
DTSTART;TZID=Europe/Helsinki:20250505T080000
DTEND;TZID=Europe/Helsinki:20250505T160000
DTSTAMP:20260420T184120
CREATED:20250505T054659Z
LAST-MODIFIED:20250505T054659Z
UID:9094-1746432000-1746460800@www.bjbraila.ro
SUMMARY:Club robotică
DESCRIPTION:Club robotică \n\ncoordonator: Silviu Gheorghe;\nlocația: Makerspace\, etajul 1;\nora: 08.00 – 16.00;\natelier adresat tinerilor cu vârsta cuprinsă între 14 și 19 ani;\ndetalii: 0239 611 292
URL:https://www.bjbraila.ro/eveniment/club-robotica-16/
LOCATION:Biblioteca “Panait Istrati” Braila\, Piața Poligon nr. 4\, Brăila\, Brăila\, 810026\, România
ORGANIZER;CN="Biblioteca %E2%80%9CPanait Istrati%E2%80%9D Braila":MAILTO:bjpi@bjbraila.ro
END:VEVENT
BEGIN:VEVENT
DTSTART;TZID=Europe/Helsinki:20250505T170000
DTEND;TZID=Europe/Helsinki:20250505T180000
DTSTAMP:20260420T184120
CREATED:20250505T055022Z
LAST-MODIFIED:20250505T055022Z
UID:9100-1746464400-1746468000@www.bjbraila.ro
SUMMARY:Engleza de la zero
DESCRIPTION:Engleza de la zero \n\ncoordonator: Violeta Eftime;\nlocația: Centrul de instruire\, etajul 3;\nora: 17.00 – 18.00;\natelier adresat persoanelor adulte;\ndetalii: 0239 611 292
URL:https://www.bjbraila.ro/eveniment/engleza-de-la-zero-5/
LOCATION:Biblioteca “Panait Istrati” Braila\, Piața Poligon nr. 4\, Brăila\, Brăila\, 810026\, România
CATEGORIES:Evenimente
ORGANIZER;CN="Biblioteca %E2%80%9CPanait Istrati%E2%80%9D Braila":MAILTO:bjpi@bjbraila.ro
END:VEVENT
BEGIN:VEVENT
DTSTART;TZID=Europe/Helsinki:20250505T170000
DTEND;TZID=Europe/Helsinki:20250505T190000
DTSTAMP:20260420T184120
CREATED:20250505T054826Z
LAST-MODIFIED:20250505T054848Z
UID:9096-1746464400-1746471600@www.bjbraila.ro
SUMMARY:Curs Antreprenoriat
DESCRIPTION:Curs Antreprenoriat \n\ncoordonator: Marius Coadă;\nlocația: sala Fănuș Neagu\, etajul 3;\nora: 17.00 – 19.00;\natelier adresat tinerilor de peste 14 ani;\ndetalii: 0239 611 292
URL:https://www.bjbraila.ro/eveniment/curs-antreprenoriat-4/
LOCATION:Biblioteca “Panait Istrati” Braila\, Piața Poligon nr. 4\, Brăila\, Brăila\, 810026\, România
CATEGORIES:Evenimente
ORGANIZER;CN="Biblioteca %E2%80%9CPanait Istrati%E2%80%9D Braila":MAILTO:bjpi@bjbraila.ro
END:VEVENT
BEGIN:VEVENT
DTSTART;TZID=Europe/Helsinki:20250505T170000
DTEND;TZID=Europe/Helsinki:20250505T190000
DTSTAMP:20260420T184120
CREATED:20250505T054932Z
LAST-MODIFIED:20250505T054932Z
UID:9098-1746464400-1746471600@www.bjbraila.ro
SUMMARY:Alcoolicii Anonimi
DESCRIPTION:Alcoolicii Anonimi \n\nlocația: sala Panait Istrati\, etajul 3;\nora: 17.00 – 19.00;\ndetalii: 0239 611 292
URL:https://www.bjbraila.ro/eveniment/alcoolicii-anonimi-5/
LOCATION:Biblioteca “Panait Istrati” Braila\, Piața Poligon nr. 4\, Brăila\, Brăila\, 810026\, România
CATEGORIES:Evenimente
ORGANIZER;CN="Biblioteca %E2%80%9CPanait Istrati%E2%80%9D Braila":MAILTO:bjpi@bjbraila.ro
END:VEVENT
END:VCALENDAR