BEGIN:VCALENDAR
VERSION:2.0
PRODID:-//bjbraila.ro - ECPv6.15.20//NONSGML v1.0//EN
CALSCALE:GREGORIAN
METHOD:PUBLISH
X-ORIGINAL-URL:https://www.bjbraila.ro
X-WR-CALDESC:Evenimente pentru bjbraila.ro
REFRESH-INTERVAL;VALUE=DURATION:PT1H
X-Robots-Tag:noindex
X-PUBLISHED-TTL:PT1H
BEGIN:VTIMEZONE
TZID:Europe/Helsinki
BEGIN:DAYLIGHT
TZOFFSETFROM:+0200
TZOFFSETTO:+0300
TZNAME:EEST
DTSTART:20240331T010000
END:DAYLIGHT
BEGIN:STANDARD
TZOFFSETFROM:+0300
TZOFFSETTO:+0200
TZNAME:EET
DTSTART:20241027T010000
END:STANDARD
BEGIN:DAYLIGHT
TZOFFSETFROM:+0200
TZOFFSETTO:+0300
TZNAME:EEST
DTSTART:20250330T010000
END:DAYLIGHT
BEGIN:STANDARD
TZOFFSETFROM:+0300
TZOFFSETTO:+0200
TZNAME:EET
DTSTART:20251026T010000
END:STANDARD
BEGIN:DAYLIGHT
TZOFFSETFROM:+0200
TZOFFSETTO:+0300
TZNAME:EEST
DTSTART:20260329T010000
END:DAYLIGHT
BEGIN:STANDARD
TZOFFSETFROM:+0300
TZOFFSETTO:+0200
TZNAME:EET
DTSTART:20261025T010000
END:STANDARD
END:VTIMEZONE
BEGIN:VEVENT
DTSTART;TZID=Europe/Helsinki:20250506T080000
DTEND;TZID=Europe/Helsinki:20250506T160000
DTSTAMP:20260420T183510
CREATED:20250505T055129Z
LAST-MODIFIED:20250505T055129Z
UID:9102-1746518400-1746547200@www.bjbraila.ro
SUMMARY:Club robotică
DESCRIPTION:Club robotică \n\ncoordonator: Silviu Gheorghe;\nlocația: Makerspace\, etajul 1;\nora: 08.00 – 16.00;\natelier adresat tinerilor cu vârsta cuprinsă între 14 și 19 ani;\ndetalii: 0239 611 292
URL:https://www.bjbraila.ro/eveniment/club-robotica-17/
LOCATION:Biblioteca “Panait Istrati” Braila\, Piața Poligon nr. 4\, Brăila\, Brăila\, 810026\, România
CATEGORIES:Evenimente
ORGANIZER;CN="Biblioteca %E2%80%9CPanait Istrati%E2%80%9D Braila":MAILTO:bjpi@bjbraila.ro
END:VEVENT
BEGIN:VEVENT
DTSTART;TZID=Europe/Helsinki:20250506T080000
DTEND;TZID=Europe/Helsinki:20250506T190000
DTSTAMP:20260420T183510
CREATED:20250506T112110Z
LAST-MODIFIED:20250506T112448Z
UID:9151-1746518400-1746558000@www.bjbraila.ro
SUMMARY:Se fac înscrieri la Clubul de Vacanță 2025
DESCRIPTION:Vara aceasta\, oferă-i copilului tău o experiență de neuitat la Clubul de Vacanță\, organizat la Biblioteca Judeteana „Panait Istrati” Braila în perioada 23 iunie – 01 august 2025!\nCa de fiecare dată\, combinăm jocul cu educația și legăm prietenii frumoase.\nCe pregătim pentru o vară de neuitat?\n– ateliere de pictură\, handmade\, filosofie\, cusături\, teatru de păpuși\,\n– explorări în natură și incursiuni în istoria locală\,\n– ateliere de limbi străine\, modelare și imprimare 3D\, șah.\nÎn imagini găsiți toate atelierele\, perioada și ora desfășurării acestora\, precum și materialele necesare.\n\n\nÎnscrierile se fac la Sala de Lectură\, et. 1\, la sediul instituției din Piața Poligon\, nr. 4. Vă amintim că accesul se face pe baza permisului de bibliotecă\, iar la înscrierea copilului se va completa un acord de fotografiere semnat de părinți/bunici. Locurile sunt limitate\, fiecare copil se poate înscrie la maxim 3 ateliere!\n\n\nCoordonator Club Vacanță: dr. Eduard Claudiu Brăileanu
URL:https://www.bjbraila.ro/eveniment/se-fac-inscrieri-la-clubul-de-vacanta-2025/
LOCATION:Biblioteca “Panait Istrati” Braila\, Piața Poligon nr. 4\, Brăila\, Brăila\, 810026\, România
CATEGORIES:Evenimente
ATTACH;FMTTYPE=image/jpeg:https://www.bjbraila.ro/wp-content/uploads/2025/05/Afis_Clubul_de_vacanta_2025.jpg
END:VEVENT
BEGIN:VEVENT
DTSTART;TZID=Europe/Helsinki:20250506T140000
DTEND;TZID=Europe/Helsinki:20250506T160000
DTSTAMP:20260420T183510
CREATED:20250505T055552Z
LAST-MODIFIED:20250505T055552Z
UID:9112-1746540000-1746547200@www.bjbraila.ro
SUMMARY:Arta lumii
DESCRIPTION:Arta lumii \n\ncoordonator: Irina Ene;\nlocația: Mediatecă\, parter;\nora: 14.00 – 16.00;\natelier adresat;\ndetalii: 0239 611 292
URL:https://www.bjbraila.ro/eveniment/arta-lumii-2/
LOCATION:Biblioteca “Panait Istrati” Braila\, Piața Poligon nr. 4\, Brăila\, Brăila\, 810026\, România
CATEGORIES:Evenimente
ORGANIZER;CN="Biblioteca %E2%80%9CPanait Istrati%E2%80%9D Braila":MAILTO:bjpi@bjbraila.ro
END:VEVENT
END:VCALENDAR