BEGIN:VCALENDAR
VERSION:2.0
PRODID:-//bjbraila.ro - ECPv6.15.20//NONSGML v1.0//EN
CALSCALE:GREGORIAN
METHOD:PUBLISH
X-WR-CALNAME:bjbraila.ro
X-ORIGINAL-URL:https://www.bjbraila.ro
X-WR-CALDESC:Evenimente pentru bjbraila.ro
REFRESH-INTERVAL;VALUE=DURATION:PT1H
X-Robots-Tag:noindex
X-PUBLISHED-TTL:PT1H
BEGIN:VTIMEZONE
TZID:Europe/Moscow
BEGIN:STANDARD
TZOFFSETFROM:+0300
TZOFFSETTO:+0300
TZNAME:MSK
DTSTART:20240101T000000
END:STANDARD
END:VTIMEZONE
BEGIN:VEVENT
DTSTART;TZID=Europe/Moscow:20250512T080000
DTEND;TZID=Europe/Moscow:20250512T160000
DTSTAMP:20260420T183329
CREATED:20250512T055347Z
LAST-MODIFIED:20250512T055347Z
UID:9161-1747036800-1747065600@www.bjbraila.ro
SUMMARY:Club robotică
DESCRIPTION:Club robotică \n\ncoordonator: Silviu Gheorghe;\nlocația: Makerspace\, etajul 1;\nora: 08.00 – 16.00;\natelier adresat tinerilor cu vârsta cuprinsă între 14 și 19 ani;\ndetalii: 0239 611 292
URL:https://www.bjbraila.ro/eveniment/club-robotica-22/
LOCATION:Biblioteca “Panait Istrati” Braila\, Piața Poligon nr. 4\, Brăila\, Brăila\, 810026\, România
CATEGORIES:Evenimente
ORGANIZER;CN="Biblioteca %E2%80%9CPanait Istrati%E2%80%9D Braila":MAILTO:bjpi@bjbraila.ro
END:VEVENT
BEGIN:VEVENT
DTSTART;TZID=Europe/Moscow:20250512T150000
DTEND;TZID=Europe/Moscow:20250512T160000
DTSTAMP:20260420T183329
CREATED:20250512T061736Z
LAST-MODIFIED:20250512T061736Z
UID:9193-1747062000-1747065600@www.bjbraila.ro
SUMMARY:Limba engleză pentru copiii ucrainieni
DESCRIPTION:Limba engleză pentru copiii ucrainieni \n\ncoordonator: Cătălin Râșnoveanu;\nlocația: Centrul Multicultural;\nora: 15.00 – 16.00;\natelier adresat copiilor cu vârsta cuprinsă între 7 și 10 ani;\ndetalii: 0239 611 292
URL:https://www.bjbraila.ro/eveniment/limba-engleza-pentru-copiii-ucrainieni/
LOCATION:Biblioteca “Panait Istrati” Braila\, Piața Poligon nr. 4\, Brăila\, Brăila\, 810026\, România
CATEGORIES:Evenimente
ORGANIZER;CN="Biblioteca %E2%80%9CPanait Istrati%E2%80%9D Braila":MAILTO:bjpi@bjbraila.ro
END:VEVENT
BEGIN:VEVENT
DTSTART;TZID=Europe/Moscow:20250512T170000
DTEND;TZID=Europe/Moscow:20250512T180000
DTSTAMP:20260420T183329
CREATED:20250512T060838Z
LAST-MODIFIED:20250512T060838Z
UID:9177-1747069200-1747072800@www.bjbraila.ro
SUMMARY:Engleza de la zero
DESCRIPTION:Engleza de la zero \n\ncoordonator: Violeta Eftime;\nlocația: Centrul de instruire\, etajul 3;\nora: 17.00 – 18.00;\natelier adresat persoanelor adulte;\ndetalii: 0239 611 292
URL:https://www.bjbraila.ro/eveniment/engleza-de-la-zero-9/
LOCATION:Biblioteca “Panait Istrati” Braila\, Piața Poligon nr. 4\, Brăila\, Brăila\, 810026\, România
CATEGORIES:Evenimente
ORGANIZER;CN="Biblioteca %E2%80%9CPanait Istrati%E2%80%9D Braila":MAILTO:bjpi@bjbraila.ro
END:VEVENT
BEGIN:VEVENT
DTSTART;TZID=Europe/Moscow:20250512T170000
DTEND;TZID=Europe/Moscow:20250512T190000
DTSTAMP:20260420T183329
CREATED:20250512T055949Z
LAST-MODIFIED:20250512T055949Z
UID:9173-1747069200-1747076400@www.bjbraila.ro
SUMMARY:Curs Antreprenoriat
DESCRIPTION:Curs Antreprenoriat \n\ncoordonator: Marius Coadă;\nlocația: sala Fănuș Neagu\, etajul 3;\nora: 17.00 – 19.00;\natelier adresat tinerilor de peste 14 ani;\ndetalii: 0239 611 292
URL:https://www.bjbraila.ro/eveniment/curs-antreprenoriat-5/
LOCATION:Biblioteca “Panait Istrati” Braila\, Piața Poligon nr. 4\, Brăila\, Brăila\, 810026\, România
CATEGORIES:Evenimente
ORGANIZER;CN="Biblioteca %E2%80%9CPanait Istrati%E2%80%9D Braila":MAILTO:bjpi@bjbraila.ro
END:VEVENT
BEGIN:VEVENT
DTSTART;TZID=Europe/Moscow:20250512T170000
DTEND;TZID=Europe/Moscow:20250512T190000
DTSTAMP:20260420T183329
CREATED:20250512T060048Z
LAST-MODIFIED:20250512T060048Z
UID:9175-1747069200-1747076400@www.bjbraila.ro
SUMMARY:Alcoolicii Anonimi
DESCRIPTION:Alcoolicii Anonimi \n\nlocația: sala Panait Istrati\, etajul 3;\nora: 17.00 – 19.00;\ndetalii: 0239 611 292
URL:https://www.bjbraila.ro/eveniment/alcoolicii-anonimi-7/
LOCATION:Biblioteca “Panait Istrati” Braila\, Piața Poligon nr. 4\, Brăila\, Brăila\, 810026\, România
CATEGORIES:Evenimente
ORGANIZER;CN="Biblioteca %E2%80%9CPanait Istrati%E2%80%9D Braila":MAILTO:bjpi@bjbraila.ro
END:VEVENT
END:VCALENDAR