BEGIN:VCALENDAR
VERSION:2.0
PRODID:-//bjbraila.ro - ECPv6.15.20//NONSGML v1.0//EN
CALSCALE:GREGORIAN
METHOD:PUBLISH
X-WR-CALNAME:bjbraila.ro
X-ORIGINAL-URL:https://www.bjbraila.ro
X-WR-CALDESC:Evenimente pentru bjbraila.ro
REFRESH-INTERVAL;VALUE=DURATION:PT1H
X-Robots-Tag:noindex
X-PUBLISHED-TTL:PT1H
BEGIN:VTIMEZONE
TZID:Europe/Moscow
BEGIN:STANDARD
TZOFFSETFROM:+0300
TZOFFSETTO:+0300
TZNAME:MSK
DTSTART:20240101T000000
END:STANDARD
END:VTIMEZONE
BEGIN:VEVENT
DTSTART;TZID=Europe/Moscow:20250530T080000
DTEND;TZID=Europe/Moscow:20250530T160000
DTSTAMP:20260420T183251
CREATED:20250521T090347Z
LAST-MODIFIED:20250521T090347Z
UID:9308-1748592000-1748620800@www.bjbraila.ro
SUMMARY:Club robotică
DESCRIPTION:Club robotică \n\ncoordonator: Silviu Gheorghe;\nlocația: Makerspace\, etajul 1;\nora: 08.00 – 16.00;\natelier adresat tinerilor cu vârsta cuprinsă între 14 și 19 ani;\ndetalii: 0239 611 292
URL:https://www.bjbraila.ro/eveniment/club-robotica-38/
LOCATION:Biblioteca “Panait Istrati” Braila\, Piața Poligon nr. 4\, Brăila\, Brăila\, 810026\, România
CATEGORIES:Evenimente
ORGANIZER;CN="Biblioteca %E2%80%9CPanait Istrati%E2%80%9D Braila":MAILTO:bjpi@bjbraila.ro
END:VEVENT
BEGIN:VEVENT
DTSTART;TZID=Europe/Moscow:20250530T143000
DTEND;TZID=Europe/Moscow:20250530T160000
DTSTAMP:20260420T183251
CREATED:20250521T113917Z
LAST-MODIFIED:20250521T113917Z
UID:9336-1748615400-1748620800@www.bjbraila.ro
SUMMARY:Rock - Muzica spiritului liber
DESCRIPTION:Rock – Muzica spiritului liber \n\ncoordonator: Alexandru Necula;\nlocația: sala Fănuș Neagu\, etajul 3;\nora: 14.30 – 16.00;\natelier adresat tinerilor cu vârsta cuprinsă între 13 și 19 ani;\ndetalii: 0239 611 292
URL:https://www.bjbraila.ro/eveniment/rock-muzica-spiritului-liber-3/
LOCATION:Biblioteca “Panait Istrati” Braila\, Piața Poligon nr. 4\, Brăila\, Brăila\, 810026\, România
CATEGORIES:Evenimente
ORGANIZER;CN="Biblioteca %E2%80%9CPanait Istrati%E2%80%9D Braila":MAILTO:bjpi@bjbraila.ro
END:VEVENT
BEGIN:VEVENT
DTSTART;TZID=Europe/Moscow:20250530T150000
DTEND;TZID=Europe/Moscow:20250530T170000
DTSTAMP:20260420T183251
CREATED:20250521T114008Z
LAST-MODIFIED:20250521T114008Z
UID:9338-1748617200-1748624400@www.bjbraila.ro
SUMMARY:CodeKids
DESCRIPTION:CodeKids \n\ncoordonator: Ștefăniță Alecu;\nlocația: Centrul de instruire\, etajul 3;\nora: 15.00 – 17.00;\natelier adresat copiilor cu vârsta de minim 10 ani;\ndetalii: 0239 611 292
URL:https://www.bjbraila.ro/eveniment/codekids-6/
LOCATION:Biblioteca “Panait Istrati” Braila\, Piața Poligon nr. 4\, Brăila\, Brăila\, 810026\, România
CATEGORIES:Evenimente
ORGANIZER;CN="Biblioteca %E2%80%9CPanait Istrati%E2%80%9D Braila":MAILTO:bjpi@bjbraila.ro
END:VEVENT
BEGIN:VEVENT
DTSTART;TZID=Europe/Moscow:20250530T153000
DTEND;TZID=Europe/Moscow:20250530T180000
DTSTAMP:20260420T183251
CREATED:20250521T114126Z
LAST-MODIFIED:20250521T114609Z
UID:9340-1748619000-1748628000@www.bjbraila.ro
SUMMARY:Engleză pentru adulți
DESCRIPTION:Engleză pentru adulți \n\ncoordonator: Cătălin Râșnoveanu;\nlocația: Centrul Multicultural;\nora: 16.00 – 18.00\ndetalii: 0239 611 292
URL:https://www.bjbraila.ro/eveniment/9340/
LOCATION:Biblioteca “Panait Istrati” Braila\, Piața Poligon nr. 4\, Brăila\, Brăila\, 810026\, România
CATEGORIES:Evenimente
ORGANIZER;CN="Biblioteca %E2%80%9CPanait Istrati%E2%80%9D Braila":MAILTO:bjpi@bjbraila.ro
END:VEVENT
END:VCALENDAR