BEGIN:VCALENDAR
VERSION:2.0
PRODID:-//bjbraila.ro - ECPv6.15.20//NONSGML v1.0//EN
CALSCALE:GREGORIAN
METHOD:PUBLISH
X-WR-CALNAME:bjbraila.ro
X-ORIGINAL-URL:https://www.bjbraila.ro
X-WR-CALDESC:Evenimente pentru bjbraila.ro
REFRESH-INTERVAL;VALUE=DURATION:PT1H
X-Robots-Tag:noindex
X-PUBLISHED-TTL:PT1H
BEGIN:VTIMEZONE
TZID:Europe/Moscow
BEGIN:STANDARD
TZOFFSETFROM:+0300
TZOFFSETTO:+0300
TZNAME:MSK
DTSTART:20240101T000000
END:STANDARD
END:VTIMEZONE
BEGIN:VEVENT
DTSTART;TZID=Europe/Moscow:20250611T080000
DTEND;TZID=Europe/Moscow:20250611T160000
DTSTAMP:20260421T025913
CREATED:20250610T083809Z
LAST-MODIFIED:20250610T083909Z
UID:9376-1749628800-1749657600@www.bjbraila.ro
SUMMARY:Club Robotică
DESCRIPTION:Club Robotică\, Makerspace\, ora 8-16
URL:https://www.bjbraila.ro/eveniment/club-robotica-40/
LOCATION:Brăila
CATEGORIES:Evenimente
END:VEVENT
BEGIN:VEVENT
DTSTART;TZID=Europe/Moscow:20250611T110000
DTEND;TZID=Europe/Moscow:20250611T120000
DTSTAMP:20260421T025913
CREATED:20250610T084000Z
LAST-MODIFIED:20250610T084000Z
UID:9379-1749639600-1749643200@www.bjbraila.ro
SUMMARY:Engleza de la zero
DESCRIPTION:Engleza de la zero\, Centrul de Instruire\, ora 11-12;17-18
URL:https://www.bjbraila.ro/eveniment/engleza-de-la-zero-17/
LOCATION:Brăila
CATEGORIES:Evenimente
END:VEVENT
END:VCALENDAR