BEGIN:VCALENDAR
VERSION:2.0
PRODID:-//bjbraila.ro - ECPv6.15.20//NONSGML v1.0//EN
CALSCALE:GREGORIAN
METHOD:PUBLISH
X-WR-CALNAME:bjbraila.ro
X-ORIGINAL-URL:https://www.bjbraila.ro
X-WR-CALDESC:Evenimente pentru bjbraila.ro
REFRESH-INTERVAL;VALUE=DURATION:PT1H
X-Robots-Tag:noindex
X-PUBLISHED-TTL:PT1H
BEGIN:VTIMEZONE
TZID:Europe/Moscow
BEGIN:STANDARD
TZOFFSETFROM:+0300
TZOFFSETTO:+0300
TZNAME:MSK
DTSTART:20240101T000000
END:STANDARD
END:VTIMEZONE
BEGIN:VEVENT
DTSTART;TZID=Europe/Moscow:20250626T090000
DTEND;TZID=Europe/Moscow:20250626T100000
DTSTAMP:20260421T025850
CREATED:20250623T080902Z
LAST-MODIFIED:20250623T080902Z
UID:9501-1750928400-1750932000@www.bjbraila.ro
SUMMARY:Atelier de Caligrafie
DESCRIPTION:Atelier: Caligrafie \nCoordonator: FLORICĂ Ana-Maria; \nLocație: Centrul Multicultural
URL:https://www.bjbraila.ro/eveniment/atelier-de-caligrafie-4/
LOCATION:Biblioteca “Panait Istrati” Braila\, Piața Poligon nr. 4\, Brăila\, Brăila\, 810026\, România
END:VEVENT
BEGIN:VEVENT
DTSTART;TZID=Europe/Moscow:20250626T090000
DTEND;TZID=Europe/Moscow:20250626T103000
DTSTAMP:20260421T025850
CREATED:20250623T081401Z
LAST-MODIFIED:20250623T081401Z
UID:9510-1750928400-1750933800@www.bjbraila.ro
SUMMARY:Creativ Kids
DESCRIPTION:Atelier: Creativ Kids \nCoordonatori: LALU Doina\, LUNGU Mihaela \nLocație: Sala Dunărea
URL:https://www.bjbraila.ro/eveniment/creativ-kids-4/
LOCATION:Biblioteca “Panait Istrati” Braila\, Piața Poligon nr. 4\, Brăila\, Brăila\, 810026\, România
END:VEVENT
BEGIN:VEVENT
DTSTART;TZID=Europe/Moscow:20250626T100000
DTEND;TZID=Europe/Moscow:20250626T120000
DTSTAMP:20260421T025850
CREATED:20250624T053854Z
LAST-MODIFIED:20250624T053854Z
UID:9524-1750932000-1750939200@www.bjbraila.ro
SUMMARY:Atelier de reparat biciclete
DESCRIPTION:Atelier de reparat biciclete \nCoordonatori: GHEORGHE Silviu\, ONOFREI Laurian \nLocație:  Makerspace
URL:https://www.bjbraila.ro/eveniment/atelier-de-reparat-biciclete-2/
LOCATION:Biblioteca “Panait Istrati” Braila\, Piața Poligon nr. 4\, Brăila\, Brăila\, 810026\, România
END:VEVENT
BEGIN:VEVENT
DTSTART;TZID=Europe/Moscow:20250626T103000
DTEND;TZID=Europe/Moscow:20250626T113000
DTSTAMP:20260421T025850
CREATED:20250624T054557Z
LAST-MODIFIED:20250624T054557Z
UID:9532-1750933800-1750937400@www.bjbraila.ro
SUMMARY:Pictură pe sticlă
DESCRIPTION:Atelier: Pictură pe sticlă \nCoordonatori: Petrof Jeni\, Ștefu Gabriela\, Apostu Viorica; \nLocație: Ludotecă
URL:https://www.bjbraila.ro/eveniment/pictura-pe-sticla-3/
LOCATION:Biblioteca “Panait Istrati” Braila\, Piața Poligon nr. 4\, Brăila\, Brăila\, 810026\, România
END:VEVENT
BEGIN:VEVENT
DTSTART;TZID=Europe/Moscow:20250626T110000
DTEND;TZID=Europe/Moscow:20250626T120000
DTSTAMP:20260421T025850
CREATED:20250624T055503Z
LAST-MODIFIED:20250624T055503Z
UID:9544-1750935600-1750939200@www.bjbraila.ro
SUMMARY:Povești în limba franceză
DESCRIPTION:Atelier: Povești în limba franceză \nCoordonatori: Andreev Ileana – Alexia \nLocație: sala Dunărea
URL:https://www.bjbraila.ro/eveniment/povesti-in-limba-franceza-4/
LOCATION:Biblioteca “Panait Istrati” Braila\, Piața Poligon nr. 4\, Brăila\, Brăila\, 810026\, România
END:VEVENT
BEGIN:VEVENT
DTSTART;TZID=Europe/Moscow:20250626T110000
DTEND;TZID=Europe/Moscow:20250626T120000
DTSTAMP:20260421T025850
CREATED:20250624T060141Z
LAST-MODIFIED:20250624T060141Z
UID:9554-1750935600-1750939200@www.bjbraila.ro
SUMMARY:Șah
DESCRIPTION:Atelier: Șah \nCoordonatori: Preda Iulian\, Chiriac Valentina; \nLocație: sala de lectură
URL:https://www.bjbraila.ro/eveniment/sah-4/
LOCATION:Biblioteca “Panait Istrati” Braila\, Piața Poligon nr. 4\, Brăila\, Brăila\, 810026\, România
END:VEVENT
BEGIN:VEVENT
DTSTART;TZID=Europe/Moscow:20250626T110000
DTEND;TZID=Europe/Moscow:20250626T120000
DTSTAMP:20260421T025850
CREATED:20250624T065320Z
LAST-MODIFIED:20250624T065320Z
UID:9568-1750935600-1750939200@www.bjbraila.ro
SUMMARY:Teatru de păpuși
DESCRIPTION:Atelier: Teatru de păpuși \nCoordonatori: Damian Carmen\, Ionescu Monica Georgeta \nLocație: sala Fănuș Neagu
URL:https://www.bjbraila.ro/eveniment/teatru-de-papusi-4/
LOCATION:Biblioteca “Panait Istrati” Braila\, Piața Poligon nr. 4\, Brăila\, Brăila\, 810026\, România
END:VEVENT
BEGIN:VEVENT
DTSTART;TZID=Europe/Moscow:20250626T113000
DTEND;TZID=Europe/Moscow:20250626T123000
DTSTAMP:20260421T025850
CREATED:20250623T080432Z
LAST-MODIFIED:20250623T080432Z
UID:9491-1750937400-1750941000@www.bjbraila.ro
SUMMARY:Arta de a vorbi în public
DESCRIPTION:Atelier: Arta de a vorbi în public \nCoordonatori: LUNGU Teodora\, APOSTU Viorica \nSala: centrul de instruire\, etajul 3
URL:https://www.bjbraila.ro/eveniment/arta-de-a-vorbi-in-public-4/
LOCATION:Biblioteca “Panait Istrati” Braila\, Piața Poligon nr. 4\, Brăila\, Brăila\, 810026\, România
END:VEVENT
END:VCALENDAR