BEGIN:VCALENDAR
VERSION:2.0
PRODID:-//bjbraila.ro - ECPv6.15.20//NONSGML v1.0//EN
CALSCALE:GREGORIAN
METHOD:PUBLISH
X-ORIGINAL-URL:https://www.bjbraila.ro
X-WR-CALDESC:Evenimente pentru bjbraila.ro
REFRESH-INTERVAL;VALUE=DURATION:PT1H
X-Robots-Tag:noindex
X-PUBLISHED-TTL:PT1H
BEGIN:VTIMEZONE
TZID:Europe/Moscow
BEGIN:STANDARD
TZOFFSETFROM:+0300
TZOFFSETTO:+0300
TZNAME:MSK
DTSTART:20240101T000000
END:STANDARD
END:VTIMEZONE
BEGIN:VEVENT
DTSTART;TZID=Europe/Moscow:20250707T090000
DTEND;TZID=Europe/Moscow:20250707T103000
DTSTAMP:20260420T215330
CREATED:20250704T061650Z
LAST-MODIFIED:20250704T061650Z
UID:9699-1751878800-1751884200@www.bjbraila.ro
SUMMARY:Legendele Brăilei
DESCRIPTION:Atelier: Legendele Brăilei – atelier de istorie locală \nCoordonator: Laura Caplea \nLocația: sala Fănuș Neagu\, etajul 3
URL:https://www.bjbraila.ro/eveniment/legendele-brailei/
LOCATION:Biblioteca “Panait Istrati” Braila\, Piața Poligon nr. 4\, Brăila\, Brăila\, 810026\, România
END:VEVENT
BEGIN:VEVENT
DTSTART;TZID=Europe/Moscow:20250707T090000
DTEND;TZID=Europe/Moscow:20250707T103000
DTSTAMP:20260420T215330
CREATED:20250704T062123Z
LAST-MODIFIED:20250704T062123Z
UID:9709-1751878800-1751884200@www.bjbraila.ro
SUMMARY:Tărâmul emoțiilor
DESCRIPTION:Atelier: Tărâmul emoțiilor \nCoordonator: Camelia Cherciu \nLocația: sala Panait Istrati\, etajul 3
URL:https://www.bjbraila.ro/eveniment/taramul-emotiilor/
LOCATION:Biblioteca “Panait Istrati” Braila\, Piața Poligon nr. 4\, Brăila\, Brăila\, 810026\, România
END:VEVENT
BEGIN:VEVENT
DTSTART;TZID=Europe/Moscow:20250707T100000
DTEND;TZID=Europe/Moscow:20250707T110000
DTSTAMP:20260420T215330
CREATED:20250704T060310Z
LAST-MODIFIED:20250704T060310Z
UID:9670-1751882400-1751886000@www.bjbraila.ro
SUMMARY:Rachetomodelism
DESCRIPTION:Atelier: Rachetomodelism \nCoordonatori: Dragoș Neagu\, Răzvan Neculai \nLocația: sala Fănuș Neagu
URL:https://www.bjbraila.ro/eveniment/rachetomodelism-6/
LOCATION:Biblioteca “Panait Istrati” Braila\, Piața Poligon nr. 4\, Brăila\, Brăila\, 810026\, România
END:VEVENT
BEGIN:VEVENT
DTSTART;TZID=Europe/Moscow:20250707T103000
DTEND;TZID=Europe/Moscow:20250707T120000
DTSTAMP:20260420T215330
CREATED:20250704T061013Z
LAST-MODIFIED:20250704T061013Z
UID:9684-1751884200-1751889600@www.bjbraila.ro
SUMMARY:Bijoux (handmade)
DESCRIPTION:Atelier: Bijoux (handmade) \nCoodonatori:  Steluta Buzdugan\, Irina Ene \nLocația: Mediatecă
URL:https://www.bjbraila.ro/eveniment/bijoux-handmade-5/
LOCATION:Biblioteca “Panait Istrati” Braila\, Piața Poligon nr. 4\, Brăila\, Brăila\, 810026\, România
END:VEVENT
BEGIN:VEVENT
DTSTART;TZID=Europe/Moscow:20250707T110000
DTEND;TZID=Europe/Moscow:20250707T123000
DTSTAMP:20260420T215331
CREATED:20250704T061239Z
LAST-MODIFIED:20250704T061254Z
UID:9688-1751886000-1751891400@www.bjbraila.ro
SUMMARY:Descoperim Franța și Coreea cu pisicile vorbărețe
DESCRIPTION:Atelier: Descoperim Franța și Coreea cu pisicile vorbărețe – atelier de franceză și coreeană \nCoordonatori: Daria Bordei\, Andra Constantin\, Valentina Chiriac \nLocația: sala Fănuș Neagu\, etajul 3.
URL:https://www.bjbraila.ro/eveniment/descoperim-franta-si-coreea-cu-pisicile-vorbarete/
LOCATION:Biblioteca “Panait Istrati” Braila\, Piața Poligon nr. 4\, Brăila\, Brăila\, 810026\, România
END:VEVENT
BEGIN:VEVENT
DTSTART;TZID=Europe/Moscow:20250707T120000
DTEND;TZID=Europe/Moscow:20250707T140000
DTSTAMP:20260420T215331
CREATED:20250704T062605Z
LAST-MODIFIED:20250704T062605Z
UID:9719-1751889600-1751896800@www.bjbraila.ro
SUMMARY:Design și programare
DESCRIPTION:Atelier: Design și programare \nCoordonatori: Andrei Lascu\, Daria Șerban \nLocația: Centrul de instruire\, etajul 3
URL:https://www.bjbraila.ro/eveniment/design-si-programare/
LOCATION:Biblioteca “Panait Istrati” Braila\, Piața Poligon nr. 4\, Brăila\, Brăila\, 810026\, România
END:VEVENT
END:VCALENDAR