BEGIN:VCALENDAR
VERSION:2.0
PRODID:-//bjbraila.ro - ECPv6.15.20//NONSGML v1.0//EN
CALSCALE:GREGORIAN
METHOD:PUBLISH
X-ORIGINAL-URL:https://www.bjbraila.ro
X-WR-CALDESC:Evenimente pentru bjbraila.ro
REFRESH-INTERVAL;VALUE=DURATION:PT1H
X-Robots-Tag:noindex
X-PUBLISHED-TTL:PT1H
BEGIN:VTIMEZONE
TZID:Europe/Moscow
BEGIN:STANDARD
TZOFFSETFROM:+0300
TZOFFSETTO:+0300
TZNAME:MSK
DTSTART:20240101T000000
END:STANDARD
END:VTIMEZONE
BEGIN:VEVENT
DTSTART;TZID=Europe/Moscow:20250729T090000
DTEND;TZID=Europe/Moscow:20250729T103000
DTSTAMP:20260420T215335
CREATED:20250728T054107Z
LAST-MODIFIED:20250728T054107Z
UID:9891-1753779600-1753785000@www.bjbraila.ro
SUMMARY:Pătura povestitoare
DESCRIPTION:Atelier: Pătura povestitoare \nCoordonator: Camelia Cherciu \nLocația: sala Panait Istrati
URL:https://www.bjbraila.ro/eveniment/patura-povestitoare-2/
LOCATION:Biblioteca “Panait Istrati” Braila\, Piața Poligon nr. 4\, Brăila\, Brăila\, 810026\, România
END:VEVENT
BEGIN:VEVENT
DTSTART;TZID=Europe/Moscow:20250729T100000
DTEND;TZID=Europe/Moscow:20250729T180000
DTSTAMP:20260420T215335
CREATED:20250728T054637Z
LAST-MODIFIED:20250728T054637Z
UID:9903-1753783200-1753812000@www.bjbraila.ro
SUMMARY:Vacanță în Ecobază
DESCRIPTION:Atelier: Vacanță în Ecobază \nCoordonator: Cornelia Miler
URL:https://www.bjbraila.ro/eveniment/vacanta-in-ecobaza-7/
LOCATION:Brăila
END:VEVENT
BEGIN:VEVENT
DTSTART;TZID=Europe/Moscow:20250729T110000
DTEND;TZID=Europe/Moscow:20250729T120000
DTSTAMP:20260420T215335
CREATED:20250728T053614Z
LAST-MODIFIED:20250728T053614Z
UID:9881-1753786800-1753790400@www.bjbraila.ro
SUMMARY:Hola ninos
DESCRIPTION:Atelier: Hola ninos (limba spaniolă) \nCoordonatori: Bianca Stroe\, Camelia Cherciu \nLocația: sala Panait Istrati
URL:https://www.bjbraila.ro/eveniment/hola-ninos-2/
LOCATION:Biblioteca “Panait Istrati” Braila\, Piața Poligon nr. 4\, Brăila\, Brăila\, 810026\, România
END:VEVENT
END:VCALENDAR