BEGIN:VCALENDAR
VERSION:2.0
PRODID:-//bjbraila.ro - ECPv6.15.20//NONSGML v1.0//EN
CALSCALE:GREGORIAN
METHOD:PUBLISH
X-WR-CALNAME:bjbraila.ro
X-ORIGINAL-URL:https://www.bjbraila.ro
X-WR-CALDESC:Evenimente pentru bjbraila.ro
REFRESH-INTERVAL;VALUE=DURATION:PT1H
X-Robots-Tag:noindex
X-PUBLISHED-TTL:PT1H
BEGIN:VTIMEZONE
TZID:Europe/Moscow
BEGIN:STANDARD
TZOFFSETFROM:+0300
TZOFFSETTO:+0300
TZNAME:MSK
DTSTART:20240101T000000
END:STANDARD
END:VTIMEZONE
BEGIN:VEVENT
DTSTART;TZID=Europe/Moscow:20250731T090000
DTEND;TZID=Europe/Moscow:20250731T103000
DTSTAMP:20260420T234250
CREATED:20250728T054300Z
LAST-MODIFIED:20250728T054300Z
UID:9896-1753952400-1753957800@www.bjbraila.ro
SUMMARY:Pătura povestitoare
DESCRIPTION:Atelier: Pătura povestitoare \nCoordonator: Camelia Cherciu \nLocația: sala Panait Istrati
URL:https://www.bjbraila.ro/eveniment/patura-povestitoare-4/
LOCATION:Biblioteca “Panait Istrati” Braila\, Piața Poligon nr. 4\, Brăila\, Brăila\, 810026\, România
END:VEVENT
BEGIN:VEVENT
DTSTART;TZID=Europe/Moscow:20250731T100000
DTEND;TZID=Europe/Moscow:20250731T180000
DTSTAMP:20260420T234250
CREATED:20250728T054751Z
LAST-MODIFIED:20250728T054751Z
UID:9908-1753956000-1753984800@www.bjbraila.ro
SUMMARY:Vacanță în Ecobază
DESCRIPTION:Atelier: Vacanță în Ecobază \nCoordonator: Cornelia Miler
URL:https://www.bjbraila.ro/eveniment/vacanta-in-ecobaza-9/
LOCATION:Brăila
END:VEVENT
BEGIN:VEVENT
DTSTART;TZID=Europe/Moscow:20250731T110000
DTEND;TZID=Europe/Moscow:20250731T120000
DTSTAMP:20260420T234250
CREATED:20250728T053750Z
LAST-MODIFIED:20250728T053750Z
UID:9885-1753959600-1753963200@www.bjbraila.ro
SUMMARY:Hola ninos
DESCRIPTION:Atelier: Hola ninos (limba spaniolă) \nCoordonatori: Bianca Stroe\, Camelia Cherciu \nLocația: sala Panait Istrati
URL:https://www.bjbraila.ro/eveniment/hola-ninos-4/
LOCATION:Biblioteca “Panait Istrati” Braila\, Piața Poligon nr. 4\, Brăila\, Brăila\, 810026\, România
END:VEVENT
END:VCALENDAR