BEGIN:VCALENDAR
VERSION:2.0
PRODID:-//bjbraila.ro - ECPv6.15.20//NONSGML v1.0//EN
CALSCALE:GREGORIAN
METHOD:PUBLISH
X-ORIGINAL-URL:https://www.bjbraila.ro
X-WR-CALDESC:Evenimente pentru bjbraila.ro
REFRESH-INTERVAL;VALUE=DURATION:PT1H
X-Robots-Tag:noindex
X-PUBLISHED-TTL:PT1H
BEGIN:VTIMEZONE
TZID:Europe/Moscow
BEGIN:STANDARD
TZOFFSETFROM:+0300
TZOFFSETTO:+0300
TZNAME:MSK
DTSTART:20240101T000000
END:STANDARD
END:VTIMEZONE
BEGIN:VEVENT
DTSTART;TZID=Europe/Moscow:20251031T080000
DTEND;TZID=Europe/Moscow:20251031T160000
DTSTAMP:20260421T080516
CREATED:20251027T080923Z
LAST-MODIFIED:20251027T080923Z
UID:10128-1761897600-1761926400@www.bjbraila.ro
SUMMARY:Club robotică
DESCRIPTION:Club robotică \n\ncoordonator: Silviu Gheorghe;\nlocația: Makerspace\, etajul 1;\nora: 08.00 – 16.00;\natelier adresat tinerilor cu vârsta cuprinsă între 14 și 19 ani;\ndetalii: 0239 611 292\n\n 
URL:https://www.bjbraila.ro/eveniment/club-robotica-60/
LOCATION:Biblioteca “Panait Istrati” Braila\, Piața Poligon nr. 4\, Brăila\, Brăila\, 810026\, România
CATEGORIES:Evenimente
ORGANIZER;CN="Biblioteca %E2%80%9CPanait Istrati%E2%80%9D Braila":MAILTO:bjpi@bjbraila.ro
END:VEVENT
BEGIN:VEVENT
DTSTART;TZID=Europe/Moscow:20251031T150000
DTEND;TZID=Europe/Moscow:20251031T170000
DTSTAMP:20260421T080516
CREATED:20251027T084005Z
LAST-MODIFIED:20251027T084005Z
UID:10151-1761922800-1761930000@www.bjbraila.ro
SUMMARY:CodeKids
DESCRIPTION:CodeKids \n\ncoordonator: Alecu Ștefăniță;\nlocația: Centrul Instruire\, etajul 3;\nora: 15.00 – 17.00;\ndetalii: 0239 611 292
URL:https://www.bjbraila.ro/eveniment/codekids-11/
LOCATION:Biblioteca “Panait Istrati” Braila\, Piața Poligon nr. 4\, Brăila\, Brăila\, 810026\, România
CATEGORIES:Evenimente
ORGANIZER;CN="Biblioteca %E2%80%9CPanait Istrati%E2%80%9D Braila":MAILTO:bjpi@bjbraila.ro
END:VEVENT
BEGIN:VEVENT
DTSTART;TZID=Europe/Moscow:20251031T160000
DTEND;TZID=Europe/Moscow:20251031T170000
DTSTAMP:20260421T080516
CREATED:20251027T084312Z
LAST-MODIFIED:20251027T084312Z
UID:10156-1761926400-1761930000@www.bjbraila.ro
SUMMARY:Limba engleză adulți
DESCRIPTION:Limba engleză adulți \n\ncoordonator: Rîșnoveanu Cătălin;\nlocația: Centrul Multicultural;\nora: 16.00 – 17.00;\ndetalii: 0239 611 292
URL:https://www.bjbraila.ro/eveniment/limba-engleza-adulti/
LOCATION:Biblioteca “Panait Istrati” Braila\, Piața Poligon nr. 4\, Brăila\, Brăila\, 810026\, România
ORGANIZER;CN="Biblioteca %E2%80%9CPanait Istrati%E2%80%9D Braila":MAILTO:bjpi@bjbraila.ro
END:VEVENT
BEGIN:VEVENT
DTSTART;TZID=Europe/Moscow:20251031T160000
DTEND;TZID=Europe/Moscow:20251031T173000
DTSTAMP:20260421T080516
CREATED:20251027T084451Z
LAST-MODIFIED:20251027T084451Z
UID:10158-1761926400-1761931800@www.bjbraila.ro
SUMMARY:Călători pe Mapamond
DESCRIPTION:Călători pe Mapamond \n\ncoordonator: Iacob Silvia;\nlocația: Sala Fănuș Neagu\, etajul 3;\nora: 16.00 – 17.30;\ndetalii: 0239 611 292
URL:https://www.bjbraila.ro/eveniment/calatori-pe-mapamond-2/
LOCATION:Biblioteca “Panait Istrati” Braila\, Piața Poligon nr. 4\, Brăila\, Brăila\, 810026\, România
CATEGORIES:Evenimente
ORGANIZER;CN="Biblioteca %E2%80%9CPanait Istrati%E2%80%9D Braila":MAILTO:bjpi@bjbraila.ro
END:VEVENT
BEGIN:VEVENT
DTSTART;TZID=Europe/Moscow:20251031T160000
DTEND;TZID=Europe/Moscow:20251031T180000
DTSTAMP:20260421T080516
CREATED:20251027T084136Z
LAST-MODIFIED:20251027T084136Z
UID:10153-1761926400-1761933600@www.bjbraila.ro
SUMMARY:Cenaclul Alter Ego
DESCRIPTION:Cenaclul Alter Ego \n\ncoordonator: Chifane Liviu;\nlocația: Sala Panait Istrati\, etajul 3;\nora: 16.00 – 18.00;\ndetalii: 0239 611 292
URL:https://www.bjbraila.ro/eveniment/cenaclul-alter-ego-3/
LOCATION:Brăila
CATEGORIES:Evenimente
END:VEVENT
END:VCALENDAR