BEGIN:VCALENDAR
VERSION:2.0
PRODID:-//bjbraila.ro - ECPv6.15.20//NONSGML v1.0//EN
CALSCALE:GREGORIAN
METHOD:PUBLISH
X-ORIGINAL-URL:https://www.bjbraila.ro
X-WR-CALDESC:Evenimente pentru bjbraila.ro
REFRESH-INTERVAL;VALUE=DURATION:PT1H
X-Robots-Tag:noindex
X-PUBLISHED-TTL:PT1H
BEGIN:VTIMEZONE
TZID:Europe/Moscow
BEGIN:STANDARD
TZOFFSETFROM:+0300
TZOFFSETTO:+0300
TZNAME:MSK
DTSTART:20240101T000000
END:STANDARD
END:VTIMEZONE
BEGIN:VEVENT
DTSTART;TZID=Europe/Moscow:20251107T080000
DTEND;TZID=Europe/Moscow:20251107T160000
DTSTAMP:20260421T112841
CREATED:20251103T072545Z
LAST-MODIFIED:20251103T072545Z
UID:10187-1762502400-1762531200@www.bjbraila.ro
SUMMARY:Club Robotică
DESCRIPTION:Club robotică \n\ncoordonator: Silviu Gheorghe;\nlocația: Makerspace\, etajul 1;\nora: 08.00 – 16.00;\natelier adresat tinerilor cu vârsta cuprinsă între 14 și 19 ani;\ndetalii: 0239 611 292
URL:https://www.bjbraila.ro/eveniment/club-robotica-66/
LOCATION:Biblioteca “Panait Istrati” Braila\, Piața Poligon nr. 4\, Brăila\, Brăila\, 810026\, România
CATEGORIES:Evenimente
ORGANIZER;CN="Biblioteca %E2%80%9CPanait Istrati%E2%80%9D Braila":MAILTO:bjpi@bjbraila.ro
END:VEVENT
BEGIN:VEVENT
DTSTART;TZID=Europe/Moscow:20251107T150000
DTEND;TZID=Europe/Moscow:20251107T170000
DTSTAMP:20260421T112841
CREATED:20251103T075636Z
LAST-MODIFIED:20251103T075636Z
UID:10215-1762527600-1762534800@www.bjbraila.ro
SUMMARY:CodeKids
DESCRIPTION:CodeKids \n\ncoordonator: Alecu Ștefăniță;\nlocația: Centrul de Instruire\, etajul 3;\nora: 15.00 – 17.00;\ndetalii: 0239 611 292
URL:https://www.bjbraila.ro/eveniment/codekids-12/
LOCATION:Biblioteca “Panait Istrati” Braila\, Piața Poligon nr. 4\, Brăila\, Brăila\, 810026\, România
CATEGORIES:Evenimente
ORGANIZER;CN="Biblioteca %E2%80%9CPanait Istrati%E2%80%9D Braila":MAILTO:bjpi@bjbraila.ro
END:VEVENT
BEGIN:VEVENT
DTSTART;TZID=Europe/Moscow:20251107T160000
DTEND;TZID=Europe/Moscow:20251107T170000
DTSTAMP:20260421T112841
CREATED:20251103T075804Z
LAST-MODIFIED:20251103T075804Z
UID:10217-1762531200-1762534800@www.bjbraila.ro
SUMMARY:Limba engleză adulți
DESCRIPTION:Limba engleză adulți \n\ncoordonator: Rîșnoveanu Cătălin;\nlocația: Centrul Multicultural;\nora: 16.00 – 17.00;\ndetalii: 0239 611 292
URL:https://www.bjbraila.ro/eveniment/limba-engleza-adulti-2/
LOCATION:Biblioteca “Panait Istrati” Braila\, Piața Poligon nr. 4\, Brăila\, Brăila\, 810026\, România
CATEGORIES:Evenimente
ORGANIZER;CN="Biblioteca %E2%80%9CPanait Istrati%E2%80%9D Braila":MAILTO:bjpi@bjbraila.ro
END:VEVENT
END:VCALENDAR