BEGIN:VCALENDAR
VERSION:2.0
PRODID:-//bjbraila.ro - ECPv6.15.20//NONSGML v1.0//EN
CALSCALE:GREGORIAN
METHOD:PUBLISH
X-WR-CALNAME:bjbraila.ro
X-ORIGINAL-URL:https://www.bjbraila.ro
X-WR-CALDESC:Evenimente pentru bjbraila.ro
REFRESH-INTERVAL;VALUE=DURATION:PT1H
X-Robots-Tag:noindex
X-PUBLISHED-TTL:PT1H
BEGIN:VTIMEZONE
TZID:Europe/Moscow
BEGIN:STANDARD
TZOFFSETFROM:+0300
TZOFFSETTO:+0300
TZNAME:MSK
DTSTART:20240101T000000
END:STANDARD
END:VTIMEZONE
BEGIN:VEVENT
DTSTART;TZID=Europe/Moscow:20251112T080000
DTEND;TZID=Europe/Moscow:20251112T160000
DTSTAMP:20260421T095656
CREATED:20251110T071803Z
LAST-MODIFIED:20251110T071803Z
UID:10255-1762934400-1762963200@www.bjbraila.ro
SUMMARY:Club robotică
DESCRIPTION:Club robotică \n\ncoordonator: Silviu Gheorghe;\nlocația: Makerspace\, etajul 1;\nora: 08.00 – 16.00;\natelier adresat tinerilor cu vârsta cuprinsă între 14 și 19 ani;\ndetalii: 0239 611 292
URL:https://www.bjbraila.ro/eveniment/club-robotica-70/
LOCATION:Biblioteca “Panait Istrati” Braila\, Piața Poligon nr. 4\, Brăila\, Brăila\, 810026\, România
CATEGORIES:Evenimente
ORGANIZER;CN="Biblioteca %E2%80%9CPanait Istrati%E2%80%9D Braila":MAILTO:bjpi@bjbraila.ro
END:VEVENT
BEGIN:VEVENT
DTSTART;TZID=Europe/Moscow:20251112T110000
DTEND;TZID=Europe/Moscow:20251112T120000
DTSTAMP:20260421T095656
CREATED:20251110T093724Z
LAST-MODIFIED:20251110T093724Z
UID:10271-1762945200-1762948800@www.bjbraila.ro
SUMMARY:Atelier de limba engleză adulți
DESCRIPTION:Atelier de limba engleză adulți \n\ncoordonator: Eftime Violeta ;\nlocația: Centrul de Instruire\, etajul 3;\nora: 11.00 – 12.00;\ndetalii: 0239 611 292
URL:https://www.bjbraila.ro/eveniment/atelier-de-limba-engleza-adulti-8/
LOCATION:Biblioteca “Panait Istrati” Braila\, Piața Poligon nr. 4\, Brăila\, Brăila\, 810026\, România
CATEGORIES:Evenimente
ORGANIZER;CN="Biblioteca %E2%80%9CPanait Istrati%E2%80%9D Braila":MAILTO:bjpi@bjbraila.ro
END:VEVENT
BEGIN:VEVENT
DTSTART;TZID=Europe/Moscow:20251112T163000
DTEND;TZID=Europe/Moscow:20251112T173000
DTSTAMP:20260421T095656
CREATED:20251110T094122Z
LAST-MODIFIED:20251110T094144Z
UID:10273-1762965000-1762968600@www.bjbraila.ro
SUMMARY:Șah copii
DESCRIPTION:Șah copii \n\ncoordonator: Preda Iulian;\nlocația: Mediatecă\, parter;\nora: 16.30 – 17.30;\ndetalii: 0239 611 292
URL:https://www.bjbraila.ro/eveniment/sah-copii-3/
LOCATION:Biblioteca “Panait Istrati” Braila\, Piața Poligon nr. 4\, Brăila\, Brăila\, 810026\, România
CATEGORIES:Evenimente
ORGANIZER;CN="Biblioteca %E2%80%9CPanait Istrati%E2%80%9D Braila":MAILTO:bjpi@bjbraila.ro
END:VEVENT
BEGIN:VEVENT
DTSTART;TZID=Europe/Moscow:20251112T170000
DTEND;TZID=Europe/Moscow:20251112T180000
DTSTAMP:20260421T095656
CREATED:20251110T093544Z
LAST-MODIFIED:20251110T093544Z
UID:10269-1762966800-1762970400@www.bjbraila.ro
SUMMARY:Atelier de limba engleză adulți
DESCRIPTION:Atelier de limba engleză adulți \n\ncoordonator: Eftime Violeta ;\nlocația: Centrul de Instruire\, etajul 3;\nora: 17.00 – 18.00;\ndetalii: 0239 611 292
URL:https://www.bjbraila.ro/eveniment/atelier-de-limba-engleza-adulti-7/
LOCATION:Brăila
CATEGORIES:Evenimente
END:VEVENT
END:VCALENDAR