BEGIN:VCALENDAR
VERSION:2.0
PRODID:-//bjbraila.ro - ECPv6.15.20//NONSGML v1.0//EN
CALSCALE:GREGORIAN
METHOD:PUBLISH
X-ORIGINAL-URL:https://www.bjbraila.ro
X-WR-CALDESC:Evenimente pentru bjbraila.ro
REFRESH-INTERVAL;VALUE=DURATION:PT1H
X-Robots-Tag:noindex
X-PUBLISHED-TTL:PT1H
BEGIN:VTIMEZONE
TZID:Europe/Moscow
BEGIN:STANDARD
TZOFFSETFROM:+0300
TZOFFSETTO:+0300
TZNAME:MSK
DTSTART:20240101T000000
END:STANDARD
END:VTIMEZONE
BEGIN:VEVENT
DTSTART;TZID=Europe/Moscow:20251113T080000
DTEND;TZID=Europe/Moscow:20251113T160000
DTSTAMP:20260421T080240
CREATED:20251110T071845Z
LAST-MODIFIED:20251110T071845Z
UID:10257-1763020800-1763049600@www.bjbraila.ro
SUMMARY:Club robotică
DESCRIPTION:Club robotică \n\ncoordonator: Silviu Gheorghe;\nlocația: Makerspace\, etajul 1;\nora: 08.00 – 16.00;\natelier adresat tinerilor cu vârsta cuprinsă între 14 și 19 ani;\ndetalii: 0239 611 292
URL:https://www.bjbraila.ro/eveniment/club-robotica-71/
LOCATION:Biblioteca “Panait Istrati” Braila\, Piața Poligon nr. 4\, Brăila\, Brăila\, 810026\, România
CATEGORIES:Evenimente
ORGANIZER;CN="Biblioteca %E2%80%9CPanait Istrati%E2%80%9D Braila":MAILTO:bjpi@bjbraila.ro
END:VEVENT
BEGIN:VEVENT
DTSTART;TZID=Europe/Moscow:20251113T110000
DTEND;TZID=Europe/Moscow:20251113T123000
DTSTAMP:20260421T080240
CREATED:20251110T094509Z
LAST-MODIFIED:20251110T094509Z
UID:10275-1763031600-1763037000@www.bjbraila.ro
SUMMARY:Un strop de bunătate
DESCRIPTION:Un strop de bunătate \n\ncoordonator: Lungu Mihaela;\nlocația: Centrul de Instruire\, etajul 3;\nora: 11.00 – 12.30;\ndetalii: 0239 611 292
URL:https://www.bjbraila.ro/eveniment/un-strop-de-bunatate/
LOCATION:Biblioteca “Panait Istrati” Braila\, Piața Poligon nr. 4\, Brăila\, Brăila\, 810026\, România
CATEGORIES:Evenimente
ORGANIZER;CN="Biblioteca %E2%80%9CPanait Istrati%E2%80%9D Braila":MAILTO:bjpi@bjbraila.ro
END:VEVENT
BEGIN:VEVENT
DTSTART;TZID=Europe/Moscow:20251113T113000
DTEND;TZID=Europe/Moscow:20251113T130000
DTSTAMP:20260421T080240
CREATED:20251110T094714Z
LAST-MODIFIED:20251110T094714Z
UID:10277-1763033400-1763038800@www.bjbraila.ro
SUMMARY:Filmul de Joi
DESCRIPTION:Filmul de Joi \n\ncoordonator: Buzdugan Steluța\, Ene Irina ;\nlocația: Mediatecă\, parter ;\nora: 11.30 – 13.00;\ndetalii: 0239 611 292
URL:https://www.bjbraila.ro/eveniment/filmul-de-joi-11/
LOCATION:Biblioteca “Panait Istrati” Braila\, Piața Poligon nr. 4\, Brăila\, Brăila\, 810026\, România
CATEGORIES:Evenimente
ORGANIZER;CN="Biblioteca %E2%80%9CPanait Istrati%E2%80%9D Braila":MAILTO:bjpi@bjbraila.ro
END:VEVENT
BEGIN:VEVENT
DTSTART;TZID=Europe/Moscow:20251113T130000
DTEND;TZID=Europe/Moscow:20251113T143000
DTSTAMP:20260421T080240
CREATED:20251110T094905Z
LAST-MODIFIED:20251110T094905Z
UID:10279-1763038800-1763044200@www.bjbraila.ro
SUMMARY:Fascinația lecturii
DESCRIPTION:Fascinația lecturii \n\ncoordonator: Cherciu Camelia;\nlocația: Secția Împrumut Adulți ;\nora: 13.00 – 14.30;\ndetalii: 0239 611 292
URL:https://www.bjbraila.ro/eveniment/fascinatia-lecturii-2/
LOCATION:Biblioteca “Panait Istrati” Braila\, Piața Poligon nr. 4\, Brăila\, Brăila\, 810026\, România
CATEGORIES:Evenimente
ORGANIZER;CN="Biblioteca %E2%80%9CPanait Istrati%E2%80%9D Braila":MAILTO:bjpi@bjbraila.ro
END:VEVENT
BEGIN:VEVENT
DTSTART;TZID=Europe/Moscow:20251113T143000
DTEND;TZID=Europe/Moscow:20251113T160000
DTSTAMP:20260421T080240
CREATED:20251110T095059Z
LAST-MODIFIED:20251110T095059Z
UID:10281-1763044200-1763049600@www.bjbraila.ro
SUMMARY:Atelier de Caligrafie
DESCRIPTION:Atelier de Caligrafie \n\ncoordonator: Florică Ana-Maria ;\nlocația: Centrul Multicultural;\nora: 14.30 – 16.00;\ndetalii: 0239 611 292
URL:https://www.bjbraila.ro/eveniment/atelier-de-caligrafie-8/
LOCATION:Biblioteca “Panait Istrati” Braila\, Piața Poligon nr. 4\, Brăila\, Brăila\, 810026\, România
CATEGORIES:Evenimente
ORGANIZER;CN="Biblioteca %E2%80%9CPanait Istrati%E2%80%9D Braila":MAILTO:bjpi@bjbraila.ro
END:VEVENT
BEGIN:VEVENT
DTSTART;TZID=Europe/Moscow:20251113T150000
DTEND;TZID=Europe/Moscow:20251113T163000
DTSTAMP:20260421T080240
CREATED:20251110T095237Z
LAST-MODIFIED:20251110T095237Z
UID:10283-1763046000-1763051400@www.bjbraila.ro
SUMMARY:Atelier de croșetat
DESCRIPTION:Atelier de croșetat \n\ncoordonator: Prodan Nicoleta;\nlocația: Centrul Multicultural;\nora: 15.00 – 16.30;\ndetalii: 0239 611 292
URL:https://www.bjbraila.ro/eveniment/atelier-de-crosetat-3/
LOCATION:Biblioteca “Panait Istrati” Braila\, Piața Poligon nr. 4\, Brăila\, Brăila\, 810026\, România
CATEGORIES:Evenimente
ORGANIZER;CN="Biblioteca %E2%80%9CPanait Istrati%E2%80%9D Braila":MAILTO:bjpi@bjbraila.ro
END:VEVENT
END:VCALENDAR