BEGIN:VCALENDAR
VERSION:2.0
PRODID:-//bjbraila.ro - ECPv6.15.20//NONSGML v1.0//EN
CALSCALE:GREGORIAN
METHOD:PUBLISH
X-WR-CALNAME:bjbraila.ro
X-ORIGINAL-URL:https://www.bjbraila.ro
X-WR-CALDESC:Evenimente pentru bjbraila.ro
REFRESH-INTERVAL;VALUE=DURATION:PT1H
X-Robots-Tag:noindex
X-PUBLISHED-TTL:PT1H
BEGIN:VTIMEZONE
TZID:Europe/Moscow
BEGIN:STANDARD
TZOFFSETFROM:+0300
TZOFFSETTO:+0300
TZNAME:MSK
DTSTART:20240101T000000
END:STANDARD
END:VTIMEZONE
BEGIN:VEVENT
DTSTART;TZID=Europe/Moscow:20251114T080000
DTEND;TZID=Europe/Moscow:20251114T160000
DTSTAMP:20260422T000251
CREATED:20251110T071925Z
LAST-MODIFIED:20251110T071925Z
UID:10259-1763107200-1763136000@www.bjbraila.ro
SUMMARY:Club robotică
DESCRIPTION:Club robotică \n\ncoordonator: Silviu Gheorghe;\nlocația: Makerspace\, etajul 1;\nora: 08.00 – 16.00;\natelier adresat tinerilor cu vârsta cuprinsă între 14 și 19 ani;\ndetalii: 0239 611 292
URL:https://www.bjbraila.ro/eveniment/club-robotica-72/
LOCATION:Biblioteca “Panait Istrati” Braila\, Piața Poligon nr. 4\, Brăila\, Brăila\, 810026\, România
CATEGORIES:Evenimente
ORGANIZER;CN="Biblioteca %E2%80%9CPanait Istrati%E2%80%9D Braila":MAILTO:bjpi@bjbraila.ro
END:VEVENT
BEGIN:VEVENT
DTSTART;TZID=Europe/Moscow:20251114T140000
DTEND;TZID=Europe/Moscow:20251114T160000
DTSTAMP:20260422T000251
CREATED:20251110T095418Z
LAST-MODIFIED:20251110T095418Z
UID:10285-1763128800-1763136000@www.bjbraila.ro
SUMMARY:Happy Calligraphy
DESCRIPTION:Happy Calligraphy \n\ncoordonator: Florică Ana-Maria\, Olimpia Moraru;\nlocația: Centrul Multicultural;\nora: 14.00 – 16.00;\ndetalii: 0239 611 292
URL:https://www.bjbraila.ro/eveniment/happy-calligraphy/
LOCATION:Biblioteca “Panait Istrati” Braila\, Piața Poligon nr. 4\, Brăila\, Brăila\, 810026\, România
CATEGORIES:Evenimente
ORGANIZER;CN="Biblioteca %E2%80%9CPanait Istrati%E2%80%9D Braila":MAILTO:bjpi@bjbraila.ro
END:VEVENT
BEGIN:VEVENT
DTSTART;TZID=Europe/Moscow:20251114T150000
DTEND;TZID=Europe/Moscow:20251114T170000
DTSTAMP:20260422T000251
CREATED:20251110T095728Z
LAST-MODIFIED:20251110T095728Z
UID:10287-1763132400-1763139600@www.bjbraila.ro
SUMMARY:Codekids
DESCRIPTION:Codekids \n\ncoordonator: Alecu Ștefăniță;\nlocația: Centrul de Instruire\, etajul 3;\nora: 15.00 – 17.00;\ndetalii: 0239 611 292
URL:https://www.bjbraila.ro/eveniment/codekids-13/
LOCATION:Biblioteca “Panait Istrati” Braila\, Piața Poligon nr. 4\, Brăila\, Brăila\, 810026\, România
CATEGORIES:Evenimente
ORGANIZER;CN="Biblioteca %E2%80%9CPanait Istrati%E2%80%9D Braila":MAILTO:bjpi@bjbraila.ro
END:VEVENT
BEGIN:VEVENT
DTSTART;TZID=Europe/Moscow:20251114T160000
DTEND;TZID=Europe/Moscow:20251114T180000
DTSTAMP:20260422T000251
CREATED:20251110T100005Z
LAST-MODIFIED:20251110T100005Z
UID:10289-1763136000-1763143200@www.bjbraila.ro
SUMMARY:Călător pe mapamond - geografie distractivă
DESCRIPTION:Călător pe mapamond – geografie distractivă \n\ncoordonator: Iacob Silvia;\nlocația: sala Fănuș Neagu\, etajul 3;\nora: 16.00 – 18.00;\ndetalii: 0239 611 292
URL:https://www.bjbraila.ro/eveniment/calator-pe-mapamond-geografie-distractiva/
LOCATION:Biblioteca “Panait Istrati” Braila\, Piața Poligon nr. 4\, Brăila\, Brăila\, 810026\, România
CATEGORIES:Evenimente
ORGANIZER;CN="Biblioteca %E2%80%9CPanait Istrati%E2%80%9D Braila":MAILTO:bjpi@bjbraila.ro
END:VEVENT
BEGIN:VEVENT
DTSTART;TZID=Europe/Moscow:20251114T163000
DTEND;TZID=Europe/Moscow:20251114T183000
DTSTAMP:20260422T000251
CREATED:20251111T101054Z
LAST-MODIFIED:20251111T101054Z
UID:10305-1763137800-1763145000@www.bjbraila.ro
SUMMARY:Muzica lumii între sunet și suflet
DESCRIPTION:În cadrul proiectului „Muzica lumii între sunet și suflet”\, vă propunem o seară dedicată muzicii italiene.  \nVă așteptăm vineri\, 14 noiembrie\, de la ora 16.30\, să vă bucurați de muzică bună și de entuziasmul tinerilor interpreți!
URL:https://www.bjbraila.ro/eveniment/muzica-lumii-intre-sunet-si-suflet/
LOCATION:Biblioteca “Panait Istrati” Braila\, Piața Poligon nr. 4\, Brăila\, Brăila\, 810026\, România
CATEGORIES:Evenimente
ATTACH;FMTTYPE=image/jpeg:https://www.bjbraila.ro/wp-content/uploads/2025/11/Muzica-lumii.jpg
END:VEVENT
BEGIN:VEVENT
DTSTART;TZID=Europe/Moscow:20251114T170000
DTEND;TZID=Europe/Moscow:20251114T190000
DTSTAMP:20260422T000251
CREATED:20251111T101258Z
LAST-MODIFIED:20251111T101258Z
UID:10308-1763139600-1763146800@www.bjbraila.ro
SUMMARY:Gestionarea diabetului la vârsta a treia - conferință medicală
DESCRIPTION:14 noiembrie este Ziua Mondială de Conștientizare a Diabetului Zaharat. Cu această ocazie\, vă invităm să luați parte la conferința medicală „Gestionarea diabetului la vârsta a treia” dedicată prevenirii și controlului diabetului\, unde specialiști din domeniul sănătății vor oferi informații utile despre diagnostic\, tratament și stil de viață echilibrat.\nEvenimentul are loc vineri\, 14 noiembrie\, ora 17.00\, la sala Fănuș Neagu și este susținut de: dr. Cristiana Voineag\, dr. Bianca Demetra Postolache și dr. Andreea Gugoașă.\n În cadrul evenimentului\, participanții vor beneficia de o testare gratuită a glicemiei.\nVă așteptăm\, intrarea este liberă!
URL:https://www.bjbraila.ro/eveniment/gestionarea-diabetului-la-varsta-a-treia-conferinta-medicala/
LOCATION:Brăila
CATEGORIES:Evenimente
ATTACH;FMTTYPE=image/jpeg:https://www.bjbraila.ro/wp-content/uploads/2025/11/afis-Conferinta-medicala-diabet.jpg
END:VEVENT
END:VCALENDAR