BEGIN:VCALENDAR
VERSION:2.0
PRODID:-//bjbraila.ro - ECPv6.15.20//NONSGML v1.0//EN
CALSCALE:GREGORIAN
METHOD:PUBLISH
X-WR-CALNAME:bjbraila.ro
X-ORIGINAL-URL:https://www.bjbraila.ro
X-WR-CALDESC:Evenimente pentru bjbraila.ro
REFRESH-INTERVAL;VALUE=DURATION:PT1H
X-Robots-Tag:noindex
X-PUBLISHED-TTL:PT1H
BEGIN:VTIMEZONE
TZID:Europe/Moscow
BEGIN:STANDARD
TZOFFSETFROM:+0300
TZOFFSETTO:+0300
TZNAME:MSK
DTSTART:20240101T000000
END:STANDARD
END:VTIMEZONE
BEGIN:VEVENT
DTSTART;TZID=Europe/Moscow:20251125T080000
DTEND;TZID=Europe/Moscow:20251125T160000
DTSTAMP:20260422T000302
CREATED:20251124T072214Z
LAST-MODIFIED:20251124T072214Z
UID:10371-1764057600-1764086400@www.bjbraila.ro
SUMMARY:Club robotică
DESCRIPTION:Club robotică \n\ncoordonator: Silviu Gheorghe;\nlocația: Makerspace\, etajul 1;\nora: 08.00 – 16.00;\natelier adresat tinerilor cu vârsta cuprinsă între 14 și 19 ani;\ndetalii: 0239 611 292
URL:https://www.bjbraila.ro/eveniment/club-robotica-81/
LOCATION:Biblioteca “Panait Istrati” Braila\, Piața Poligon nr. 4\, Brăila\, Brăila\, 810026\, România
CATEGORIES:Evenimente
ORGANIZER;CN="Biblioteca %E2%80%9CPanait Istrati%E2%80%9D Braila":MAILTO:bjpi@bjbraila.ro
END:VEVENT
BEGIN:VEVENT
DTSTART;TZID=Europe/Moscow:20251125T080000
DTEND;TZID=Europe/Moscow:20251125T190000
DTSTAMP:20260422T000302
CREATED:20251125T080049Z
LAST-MODIFIED:20251125T080049Z
UID:10427-1764057600-1764097200@www.bjbraila.ro
SUMMARY:Femeia vizibilă\, femeia invizibilă: expoziție documentară
DESCRIPTION:În perioada 25 noiembrie – 4 decembrie 2025 Secția Împrumut Carte pentru Adulți din cadrul Bibliotecii organizează o expoziție documentară cu ocazia Zilei Internaționale pentru Eliminarea Violenței împotriva femeilor. Expoziția intitulată \,\,Femeia vizibilă\, femeia invizibilă” conține volume aflate în colecțiile bibliotecii.\n\nZiua de 25 noiembrie a fost stabilită de Adunarea Generală a Națiunilor Unite ca fiind Ziua Internațională pentru Eliminarea Violenței asupra Femeilor și este o oportunitate de a promova măsuri pentru prevenirea și combaterea acestui fenomen. Este o ocazie pentru guverne\, organizații internaționale\, societatea civilă și organizații non-guvernamentale de a crește gradul de conștientizare în rândul publicului despre impactul devastator al violenței asupra femeilor și despre necesitatea unor politici și intervenții eficiente.\nViolența asupra femeilor este una dintre cele mai răspândite încălcări ale drepturilor omului din lume. Într-o măsură mai mare sau mai mică\, se petrece în toate țările din lume\, indiferent de etnie\, rasă\, vârstă\, mediul de proveniență\, venit sau nivelul de educație. Aceasta afectează sănătatea victimei la nivel fizic\, emoțional și social\, iar impactul său poate fi resimțit pe tot parcursul vieții.\n\nExpoziția este realizată de Florentina Petcu\, bibliotecar.
URL:https://www.bjbraila.ro/eveniment/femeia-vizibila-femeia-invizibila-expozitie-documentara/
LOCATION:Biblioteca “Panait Istrati” Braila\, Piața Poligon nr. 4\, Brăila\, Brăila\, 810026\, România
CATEGORIES:Expoziție
ATTACH;FMTTYPE=image/jpeg:https://www.bjbraila.ro/wp-content/uploads/2025/11/afis-Ziua-violentei-impotriva-femeilor.jpg
END:VEVENT
BEGIN:VEVENT
DTSTART;TZID=Europe/Moscow:20251125T140000
DTEND;TZID=Europe/Moscow:20251125T160000
DTSTAMP:20260422T000302
CREATED:20251124T074044Z
LAST-MODIFIED:20251124T074044Z
UID:10385-1764079200-1764086400@www.bjbraila.ro
SUMMARY:Arta lumii
DESCRIPTION:Arta lumii \n\ncoordonator: Irina Ene\, Steluța Buzdugan;\nlocația: Mediatecă\, parter;\nora: 14.00 – 16.00;\ndetalii: 0239 611 292
URL:https://www.bjbraila.ro/eveniment/arta-lumii-13/
LOCATION:Biblioteca “Panait Istrati” Braila\, Piața Poligon nr. 4\, Brăila\, Brăila\, 810026\, România
CATEGORIES:Evenimente
ORGANIZER;CN="Biblioteca %E2%80%9CPanait Istrati%E2%80%9D Braila":MAILTO:bjpi@bjbraila.ro
END:VEVENT
BEGIN:VEVENT
DTSTART;TZID=Europe/Moscow:20251125T140000
DTEND;TZID=Europe/Moscow:20251125T160000
DTSTAMP:20260422T000302
CREATED:20251124T074251Z
LAST-MODIFIED:20251124T074251Z
UID:10387-1764079200-1764086400@www.bjbraila.ro
SUMMARY:Cu temele la zi
DESCRIPTION:Cu temele la zi \n\ncoordonator: Ana-Maria Florică;\nlocația: Centrul Multicultural;\nora: 14.00 – 16.00;\ndetalii: 0239 611 292
URL:https://www.bjbraila.ro/eveniment/cu-temele-la-zi-4/
LOCATION:Biblioteca “Panait Istrati” Braila\, Piața Poligon nr. 4\, Brăila\, Brăila\, 810026\, România
CATEGORIES:Evenimente
ORGANIZER;CN="Biblioteca %E2%80%9CPanait Istrati%E2%80%9D Braila":MAILTO:bjpi@bjbraila.ro
END:VEVENT
BEGIN:VEVENT
DTSTART;TZID=Europe/Moscow:20251125T170000
DTEND;TZID=Europe/Moscow:20251125T180000
DTSTAMP:20260422T000302
CREATED:20251124T074421Z
LAST-MODIFIED:20251124T074421Z
UID:10389-1764090000-1764093600@www.bjbraila.ro
SUMMARY:Atelier de limba engleză adulți
DESCRIPTION:Atelier de limba engleză adulți \n\ncoordonator: Eftime Violeta;\nlocația: Centrul de Instruire\, etajul 3;\nora: 17.00 – 18.00;\ndetalii: 0239 611 292
URL:https://www.bjbraila.ro/eveniment/atelier-de-limba-engleza-adulti-12/
LOCATION:Biblioteca “Panait Istrati” Braila\, Piața Poligon nr. 4\, Brăila\, Brăila\, 810026\, România
CATEGORIES:Evenimente
ORGANIZER;CN="Biblioteca %E2%80%9CPanait Istrati%E2%80%9D Braila":MAILTO:bjpi@bjbraila.ro
END:VEVENT
END:VCALENDAR