BEGIN:VCALENDAR
VERSION:2.0
PRODID:-//bjbraila.ro - ECPv6.15.20//NONSGML v1.0//EN
CALSCALE:GREGORIAN
METHOD:PUBLISH
X-ORIGINAL-URL:https://www.bjbraila.ro
X-WR-CALDESC:Evenimente pentru bjbraila.ro
REFRESH-INTERVAL;VALUE=DURATION:PT1H
X-Robots-Tag:noindex
X-PUBLISHED-TTL:PT1H
BEGIN:VTIMEZONE
TZID:Europe/Moscow
BEGIN:STANDARD
TZOFFSETFROM:+0300
TZOFFSETTO:+0300
TZNAME:MSK
DTSTART:20240101T000000
END:STANDARD
END:VTIMEZONE
BEGIN:VEVENT
DTSTART;TZID=Europe/Moscow:20251126T080000
DTEND;TZID=Europe/Moscow:20251126T160000
DTSTAMP:20260422T014432
CREATED:20251124T072255Z
LAST-MODIFIED:20251124T072255Z
UID:10373-1764144000-1764172800@www.bjbraila.ro
SUMMARY:Club robotică
DESCRIPTION:Club robotică \n\ncoordonator: Silviu Gheorghe;\nlocația: Makerspace\, etajul 1;\nora: 08.00 – 16.00;\natelier adresat tinerilor cu vârsta cuprinsă între 14 și 19 ani;\ndetalii: 0239 611 292
URL:https://www.bjbraila.ro/eveniment/club-robotica-82/
LOCATION:Biblioteca “Panait Istrati” Braila\, Piața Poligon nr. 4\, Brăila\, Brăila\, 810026\, România
CATEGORIES:Evenimente
ORGANIZER;CN="Biblioteca %E2%80%9CPanait Istrati%E2%80%9D Braila":MAILTO:bjpi@bjbraila.ro
END:VEVENT
BEGIN:VEVENT
DTSTART;TZID=Europe/Moscow:20251126T110000
DTEND;TZID=Europe/Moscow:20251126T120000
DTSTAMP:20260422T014432
CREATED:20251124T074623Z
LAST-MODIFIED:20251124T074623Z
UID:10393-1764154800-1764158400@www.bjbraila.ro
SUMMARY:Atelier de limba engleză adulți
DESCRIPTION:Atelier de limba engleză adulți \n\ncoordonator: Eftime Violeta;\nlocația: Centrul de Instruire\, etajul 3;\nora: 11.00 – 12.00;\ndetalii: 0239 611 292
URL:https://www.bjbraila.ro/eveniment/atelier-de-limba-engleza-adulti-14/
LOCATION:Biblioteca “Panait Istrati” Braila\, Piața Poligon nr. 4\, Brăila\, Brăila\, 810026\, România
CATEGORIES:Evenimente
ORGANIZER;CN="Biblioteca %E2%80%9CPanait Istrati%E2%80%9D Braila":MAILTO:bjpi@bjbraila.ro
END:VEVENT
BEGIN:VEVENT
DTSTART;TZID=Europe/Moscow:20251126T110000
DTEND;TZID=Europe/Moscow:20251126T120000
DTSTAMP:20260422T014432
CREATED:20251124T075115Z
LAST-MODIFIED:20251124T075115Z
UID:10395-1764154800-1764158400@www.bjbraila.ro
SUMMARY:Activitate creativă cu seniori
DESCRIPTION:Activitate creativă cu seniori \n\ncoordonator: Adriana Trică;\nlocația: Căminul Lacu-Sărat;\nora: 11.00 – 12.00;\ndetalii: 0239 611 292\n\n 
URL:https://www.bjbraila.ro/eveniment/activitate-creativa-cu-seniori/
LOCATION:Biblioteca “Panait Istrati” Braila\, Piața Poligon nr. 4\, Brăila\, Brăila\, 810026\, România
CATEGORIES:Evenimente
ORGANIZER;CN="Biblioteca %E2%80%9CPanait Istrati%E2%80%9D Braila":MAILTO:bjpi@bjbraila.ro
END:VEVENT
BEGIN:VEVENT
DTSTART;TZID=Europe/Moscow:20251126T140000
DTEND;TZID=Europe/Moscow:20251126T160000
DTSTAMP:20260422T014432
CREATED:20251124T075422Z
LAST-MODIFIED:20251124T075422Z
UID:10399-1764165600-1764172800@www.bjbraila.ro
SUMMARY:Cerc pedagogic geografie
DESCRIPTION:Cerc pedagogic geografie \n\nlocația: sala Fănuș Neagu\, etajul 3;\nora: 14.00 – 16.00;\ndetalii: 0239 611 292\n\n 
URL:https://www.bjbraila.ro/eveniment/cerc-pedagogic-geografie/
LOCATION:Biblioteca “Panait Istrati” Braila\, Piața Poligon nr. 4\, Brăila\, Brăila\, 810026\, România
CATEGORIES:Evenimente
ORGANIZER;CN="Biblioteca %E2%80%9CPanait Istrati%E2%80%9D Braila":MAILTO:bjpi@bjbraila.ro
END:VEVENT
BEGIN:VEVENT
DTSTART;TZID=Europe/Moscow:20251126T140000
DTEND;TZID=Europe/Moscow:20251126T170000
DTSTAMP:20260422T014432
CREATED:20251124T075313Z
LAST-MODIFIED:20251124T075313Z
UID:10397-1764165600-1764176400@www.bjbraila.ro
SUMMARY:Cerc pedagogic învățători
DESCRIPTION:Cerc pedagogic învățători \n\nlocația: sala Dunărea;\nora: 14.00 – 17.00;\ndetalii: 0239 611 292\n\n 
URL:https://www.bjbraila.ro/eveniment/cerc-pedagogic-invatatori/
LOCATION:Biblioteca “Panait Istrati” Braila\, Piața Poligon nr. 4\, Brăila\, Brăila\, 810026\, România
CATEGORIES:Evenimente
ORGANIZER;CN="Biblioteca %E2%80%9CPanait Istrati%E2%80%9D Braila":MAILTO:bjpi@bjbraila.ro
END:VEVENT
BEGIN:VEVENT
DTSTART;TZID=Europe/Moscow:20251126T163000
DTEND;TZID=Europe/Moscow:20251126T173000
DTSTAMP:20260422T014432
CREATED:20251124T075633Z
LAST-MODIFIED:20251124T075633Z
UID:10401-1764174600-1764178200@www.bjbraila.ro
SUMMARY:Șah copii
DESCRIPTION:Șah copii \n\ncoordonator: Iulian Preda;\nlocația: Mediatecă\,  parter;\nora: 16.30 – 17.30;\ndetalii: 0239 611 292\n\n 
URL:https://www.bjbraila.ro/eveniment/sah-copii-5/
LOCATION:Biblioteca “Panait Istrati” Braila\, Piața Poligon nr. 4\, Brăila\, Brăila\, 810026\, România
CATEGORIES:Evenimente
ORGANIZER;CN="Biblioteca %E2%80%9CPanait Istrati%E2%80%9D Braila":MAILTO:bjpi@bjbraila.ro
END:VEVENT
BEGIN:VEVENT
DTSTART;TZID=Europe/Moscow:20251126T170000
DTEND;TZID=Europe/Moscow:20251126T180000
DTSTAMP:20260422T014432
CREATED:20251124T074533Z
LAST-MODIFIED:20251124T074533Z
UID:10391-1764176400-1764180000@www.bjbraila.ro
SUMMARY:Atelier de limba engleză adulți
DESCRIPTION:Atelier de limba engleză adulți \n\ncoordonator: Eftime Violeta;\nlocația: Centrul de Instruire\, etajul 3;\nora: 17.00 – 18.00;\ndetalii: 0239 611 292
URL:https://www.bjbraila.ro/eveniment/atelier-de-limba-engleza-adulti-13/
LOCATION:Biblioteca “Panait Istrati” Braila\, Piața Poligon nr. 4\, Brăila\, Brăila\, 810026\, România
CATEGORIES:Evenimente
ORGANIZER;CN="Biblioteca %E2%80%9CPanait Istrati%E2%80%9D Braila":MAILTO:bjpi@bjbraila.ro
END:VEVENT
END:VCALENDAR