BEGIN:VCALENDAR
VERSION:2.0
PRODID:-//bjbraila.ro - ECPv6.15.20//NONSGML v1.0//EN
CALSCALE:GREGORIAN
METHOD:PUBLISH
X-ORIGINAL-URL:https://www.bjbraila.ro
X-WR-CALDESC:Evenimente pentru bjbraila.ro
REFRESH-INTERVAL;VALUE=DURATION:PT1H
X-Robots-Tag:noindex
X-PUBLISHED-TTL:PT1H
BEGIN:VTIMEZONE
TZID:Europe/Moscow
BEGIN:STANDARD
TZOFFSETFROM:+0300
TZOFFSETTO:+0300
TZNAME:MSK
DTSTART:20240101T000000
END:STANDARD
END:VTIMEZONE
BEGIN:VEVENT
DTSTART;TZID=Europe/Moscow:20251204T080000
DTEND;TZID=Europe/Moscow:20251204T160000
DTSTAMP:20260422T151305
CREATED:20251202T083832Z
LAST-MODIFIED:20251202T083832Z
UID:10440-1764835200-1764864000@www.bjbraila.ro
SUMMARY:Club robotică
DESCRIPTION:Club robotică \n\ncoordonator: Silviu Gheorghe;\nlocația: Makerspace\, etajul 1;\nora: 08.00 – 16.00;\natelier adresat tinerilor cu vârsta cuprinsă între 14 și 19 ani;\ndetalii: 0239 611 292
URL:https://www.bjbraila.ro/eveniment/club-robotica-87/
LOCATION:Biblioteca “Panait Istrati” Braila\, Piața Poligon nr. 4\, Brăila\, Brăila\, 810026\, România
CATEGORIES:Evenimente
ORGANIZER;CN="Biblioteca %E2%80%9CPanait Istrati%E2%80%9D Braila":MAILTO:bjpi@bjbraila.ro
END:VEVENT
BEGIN:VEVENT
DTSTART;TZID=Europe/Moscow:20251204T113000
DTEND;TZID=Europe/Moscow:20251204T130000
DTSTAMP:20260422T151305
CREATED:20251202T094048Z
LAST-MODIFIED:20251202T094048Z
UID:10465-1764847800-1764853200@www.bjbraila.ro
SUMMARY:Așteptându-l pe Moș Nicolae
DESCRIPTION:Așteptându-l pe Moș Nicolae \n\ncoordonator: Camelia Cherciu;\nlocația: Secția Împrumut Adulți;\nora: 11.00 – 12.30;\ndetalii: 0239 611 292
URL:https://www.bjbraila.ro/eveniment/asteptandu-l-pe-mos-nicolae/
LOCATION:Biblioteca “Panait Istrati” Braila\, Piața Poligon nr. 4\, Brăila\, Brăila\, 810026\, România
CATEGORIES:Evenimente
ORGANIZER;CN="Biblioteca %E2%80%9CPanait Istrati%E2%80%9D Braila":MAILTO:bjpi@bjbraila.ro
END:VEVENT
BEGIN:VEVENT
DTSTART;TZID=Europe/Moscow:20251204T113000
DTEND;TZID=Europe/Moscow:20251204T130000
DTSTAMP:20260422T151305
CREATED:20251202T094245Z
LAST-MODIFIED:20251202T094245Z
UID:10468-1764847800-1764853200@www.bjbraila.ro
SUMMARY:Filmul de joi
DESCRIPTION:Filmul de joi \n\ncoordonator: Irina Ene\, Steluța Buzdugan;\nlocația: Mediatecă\, parter;\nora: 11.30 – 13.00;\ndetalii: 0239 611 292
URL:https://www.bjbraila.ro/eveniment/filmul-de-joi-14/
LOCATION:Biblioteca “Panait Istrati” Braila\, Piața Poligon nr. 4\, Brăila\, Brăila\, 810026\, România
CATEGORIES:Evenimente
ORGANIZER;CN="Biblioteca %E2%80%9CPanait Istrati%E2%80%9D Braila":MAILTO:bjpi@bjbraila.ro
END:VEVENT
BEGIN:VEVENT
DTSTART;TZID=Europe/Moscow:20251204T123000
DTEND;TZID=Europe/Moscow:20251204T140000
DTSTAMP:20260422T151305
CREATED:20251202T094424Z
LAST-MODIFIED:20251202T094424Z
UID:10470-1764851400-1764856800@www.bjbraila.ro
SUMMARY:Decorațiuni croșetate
DESCRIPTION:Decorațiuni croșetate \n\ncoordonator: Nicoleta Prodan;\nlocația: Centrul Multicultural;\nora: 12.30 – 14.00;\ndetalii: 0239 611 292
URL:https://www.bjbraila.ro/eveniment/decoratiuni-crosetate/
LOCATION:Biblioteca “Panait Istrati” Braila\, Piața Poligon nr. 4\, Brăila\, Brăila\, 810026\, România
CATEGORIES:Evenimente
ORGANIZER;CN="Biblioteca %E2%80%9CPanait Istrati%E2%80%9D Braila":MAILTO:bjpi@bjbraila.ro
END:VEVENT
BEGIN:VEVENT
DTSTART;TZID=Europe/Moscow:20251204T140000
DTEND;TZID=Europe/Moscow:20251204T153000
DTSTAMP:20260422T151305
CREATED:20251202T094826Z
LAST-MODIFIED:20251202T094826Z
UID:10474-1764856800-1764862200@www.bjbraila.ro
SUMMARY:Sunt Creativ - handmade
DESCRIPTION:Sunt Creativ – handmade \n\ncoordonator: Silvia Iacob;\nlocația: sala Panait Istrati\, etajul 3;\nora: 14.00 – 15.30;\ndetalii: 0239 611 292
URL:https://www.bjbraila.ro/eveniment/sunt-creativ-handmade/
LOCATION:Biblioteca “Panait Istrati” Braila\, Piața Poligon nr. 4\, Brăila\, Brăila\, 810026\, România
CATEGORIES:Evenimente
ORGANIZER;CN="Biblioteca %E2%80%9CPanait Istrati%E2%80%9D Braila":MAILTO:bjpi@bjbraila.ro
END:VEVENT
BEGIN:VEVENT
DTSTART;TZID=Europe/Moscow:20251204T143000
DTEND;TZID=Europe/Moscow:20251204T160000
DTSTAMP:20260422T151305
CREATED:20251202T094602Z
LAST-MODIFIED:20251202T094602Z
UID:10472-1764858600-1764864000@www.bjbraila.ro
SUMMARY:Atelier de Caligrafie
DESCRIPTION:Atelier de Caligrafie \n\ncoordonator: Ana-Maria Florică;\nlocația: Centrul Multicultural;\nora: 14.30 – 16.00;\ndetalii: 0239 611 292
URL:https://www.bjbraila.ro/eveniment/atelier-de-caligrafie-11/
LOCATION:Biblioteca “Panait Istrati” Braila\, Piața Poligon nr. 4\, Brăila\, Brăila\, 810026\, România
CATEGORIES:Evenimente
ORGANIZER;CN="Biblioteca %E2%80%9CPanait Istrati%E2%80%9D Braila":MAILTO:bjpi@bjbraila.ro
END:VEVENT
BEGIN:VEVENT
DTSTART;TZID=Europe/Moscow:20251204T150000
DTEND;TZID=Europe/Moscow:20251204T163000
DTSTAMP:20260422T151305
CREATED:20251202T095047Z
LAST-MODIFIED:20251202T095047Z
UID:10476-1764860400-1764865800@www.bjbraila.ro
SUMMARY:Ne distrăm și învățăm prin tradiții de Crăciun
DESCRIPTION:Ne distrăm și învățăm prin tradiții de Crăciun \n\ncoordonator: Monica Ionescu;\nlocația: Sala de lectură\, etajul 1;\nhandmade\, decorațiuni\, lectură cu povești de Crăciun\nora: 15.00 – 16.30;\ndetalii: 0239 611 292
URL:https://www.bjbraila.ro/eveniment/ne-distram-si-invatam-prin-traditii-de-craciun/
LOCATION:Biblioteca “Panait Istrati” Braila\, Piața Poligon nr. 4\, Brăila\, Brăila\, 810026\, România
CATEGORIES:Evenimente
ORGANIZER;CN="Biblioteca %E2%80%9CPanait Istrati%E2%80%9D Braila":MAILTO:bjpi@bjbraila.ro
END:VEVENT
BEGIN:VEVENT
DTSTART;TZID=Europe/Moscow:20251204T163000
DTEND;TZID=Europe/Moscow:20251204T183000
DTSTAMP:20260422T151305
CREATED:20251202T095528Z
LAST-MODIFIED:20251202T095528Z
UID:10478-1764865800-1764873000@www.bjbraila.ro
SUMMARY:Sf. Nicolae și poveștile
DESCRIPTION:Sf. Nicolae și poveștile \n\ncoordonator: Camelia Cherciu;\nlocația: Secția Împrumut adulți;\nora: 16.30 – 18.30;\ndetalii: 0239 611 292
URL:https://www.bjbraila.ro/eveniment/sf-nicolae-si-povestile/
LOCATION:Biblioteca “Panait Istrati” Braila\, Piața Poligon nr. 4\, Brăila\, Brăila\, 810026\, România
CATEGORIES:Evenimente
ORGANIZER;CN="Biblioteca %E2%80%9CPanait Istrati%E2%80%9D Braila":MAILTO:bjpi@bjbraila.ro
END:VEVENT
BEGIN:VEVENT
DTSTART;TZID=Europe/Moscow:20251204T170000
DTEND;TZID=Europe/Moscow:20251204T180000
DTSTAMP:20260422T151305
CREATED:20251202T095745Z
LAST-MODIFIED:20251202T095745Z
UID:10480-1764867600-1764871200@www.bjbraila.ro
SUMMARY:Vizionare film „Frumoasa și Bestia.  Crăciun fermecat”
DESCRIPTION:Vizionare film „Frumoasa și Bestia. Crăciun fermecat” \n\ncoordonator: Irina Ene\, Steluța Buzdugan;\nlocația: Mediatecă\, parter;\nora: 17.00 – 18.00;\ndetalii: 0239 611 292
URL:https://www.bjbraila.ro/eveniment/vizionare-film-frumoasa-si-bestia-craciun-fermecat/
LOCATION:Biblioteca “Panait Istrati” Braila\, Piața Poligon nr. 4\, Brăila\, Brăila\, 810026\, România
CATEGORIES:Evenimente
ORGANIZER;CN="Biblioteca %E2%80%9CPanait Istrati%E2%80%9D Braila":MAILTO:bjpi@bjbraila.ro
END:VEVENT
END:VCALENDAR