BEGIN:VCALENDAR
VERSION:2.0
PRODID:-//bjbraila.ro - ECPv6.15.20//NONSGML v1.0//EN
CALSCALE:GREGORIAN
METHOD:PUBLISH
X-ORIGINAL-URL:https://www.bjbraila.ro
X-WR-CALDESC:Evenimente pentru bjbraila.ro
REFRESH-INTERVAL;VALUE=DURATION:PT1H
X-Robots-Tag:noindex
X-PUBLISHED-TTL:PT1H
BEGIN:VTIMEZONE
TZID:Europe/Moscow
BEGIN:STANDARD
TZOFFSETFROM:+0300
TZOFFSETTO:+0300
TZNAME:MSK
DTSTART:20240101T000000
END:STANDARD
END:VTIMEZONE
BEGIN:VEVENT
DTSTART;TZID=Europe/Moscow:20251210T080000
DTEND;TZID=Europe/Moscow:20251210T160000
DTSTAMP:20260423T144429
CREATED:20251208T082627Z
LAST-MODIFIED:20251208T082627Z
UID:10509-1765353600-1765382400@www.bjbraila.ro
SUMMARY:Club robotică
DESCRIPTION:Club robotică \n\ncoordonator: Silviu Gheorghe;\nlocația: Makerspace\, etajul 1;\nora: 08.00 – 16.00;\natelier adresat tinerilor cu vârsta cuprinsă între 14 și 19 ani;\ndetalii: 0239 611 292
URL:https://www.bjbraila.ro/eveniment/club-robotica-92/
LOCATION:Biblioteca “Panait Istrati” Braila\, Piața Poligon nr. 4\, Brăila\, Brăila\, 810026\, România
CATEGORIES:Evenimente
ORGANIZER;CN="Biblioteca %E2%80%9CPanait Istrati%E2%80%9D Braila":MAILTO:bjpi@bjbraila.ro
END:VEVENT
BEGIN:VEVENT
DTSTART;TZID=Europe/Moscow:20251210T110000
DTEND;TZID=Europe/Moscow:20251210T120000
DTSTAMP:20260423T144429
CREATED:20251208T122955Z
LAST-MODIFIED:20251208T122955Z
UID:10539-1765364400-1765368000@www.bjbraila.ro
SUMMARY:Atelier de limba engleză adulți
DESCRIPTION:Atelier de limba engleză adulți \n\nlocația: Centrul de Instruire \, etajul 3;\nora: 11.00 – 12.00;\ndetalii: 0239 611 292
URL:https://www.bjbraila.ro/eveniment/atelier-de-limba-engleza-adulti-19/
LOCATION:Biblioteca “Panait Istrati” Braila\, Piața Poligon nr. 4\, Brăila\, Brăila\, 810026\, România
CATEGORIES:Evenimente
ORGANIZER;CN="Biblioteca %E2%80%9CPanait Istrati%E2%80%9D Braila":MAILTO:bjpi@bjbraila.ro
END:VEVENT
BEGIN:VEVENT
DTSTART;TZID=Europe/Moscow:20251210T110000
DTEND;TZID=Europe/Moscow:20251210T123000
DTSTAMP:20260423T144429
CREATED:20251208T120438Z
LAST-MODIFIED:20251208T120438Z
UID:10531-1765364400-1765369800@www.bjbraila.ro
SUMMARY:Legendele Brăilei
DESCRIPTION:Legendele Brăilei \n\nlocația: sala Fănuș Neagu\, etajul 3;\nora: 11.00 – 12.30;\ndetalii: 0239 611 292
URL:https://www.bjbraila.ro/eveniment/legendele-brailei-8/
LOCATION:Biblioteca “Panait Istrati” Braila\, Piața Poligon nr. 4\, Brăila\, Brăila\, 810026\, România
CATEGORIES:Evenimente
ORGANIZER;CN="Biblioteca %E2%80%9CPanait Istrati%E2%80%9D Braila":MAILTO:bjpi@bjbraila.ro
END:VEVENT
BEGIN:VEVENT
DTSTART;TZID=Europe/Moscow:20251210T123000
DTEND;TZID=Europe/Moscow:20251210T140000
DTSTAMP:20260423T144429
CREATED:20251208T120619Z
LAST-MODIFIED:20251208T120619Z
UID:10533-1765369800-1765375200@www.bjbraila.ro
SUMMARY:Păturica de Crăciun - atelier de croșetat
DESCRIPTION:Păturica de Crăciun – atelier de croșetat \n\nlocația: Centrul Multicultural;\nora: 12.30 – 14.00;\ndetalii: 0239 611 292
URL:https://www.bjbraila.ro/eveniment/paturica-de-craciun-atelier-de-crosetat/
LOCATION:Biblioteca “Panait Istrati” Braila\, Piața Poligon nr. 4\, Brăila\, Brăila\, 810026\, România
CATEGORIES:Evenimente
ORGANIZER;CN="Biblioteca %E2%80%9CPanait Istrati%E2%80%9D Braila":MAILTO:bjpi@bjbraila.ro
END:VEVENT
BEGIN:VEVENT
DTSTART;TZID=Europe/Moscow:20251210T140000
DTEND;TZID=Europe/Moscow:20251210T160000
DTSTAMP:20260423T144429
CREATED:20251208T122502Z
LAST-MODIFIED:20251208T122502Z
UID:10535-1765375200-1765382400@www.bjbraila.ro
SUMMARY:Sunt creativ
DESCRIPTION:Sunt creativ \n\nlocația: sala Panait Istrati\, etajul 3;\nora: 14.00 – 16.00;\ndetalii: 0239 611 292
URL:https://www.bjbraila.ro/eveniment/sunt-creativ-11/
LOCATION:Biblioteca “Panait Istrati” Braila\, Piața Poligon nr. 4\, Brăila\, Brăila\, 810026\, România
CATEGORIES:Evenimente
ORGANIZER;CN="Biblioteca %E2%80%9CPanait Istrati%E2%80%9D Braila":MAILTO:bjpi@bjbraila.ro
END:VEVENT
BEGIN:VEVENT
DTSTART;TZID=Europe/Moscow:20251210T140000
DTEND;TZID=Europe/Moscow:20251210T160000
DTSTAMP:20260423T144429
CREATED:20251208T122814Z
LAST-MODIFIED:20251208T122814Z
UID:10537-1765375200-1765382400@www.bjbraila.ro
SUMMARY:Decor de iarnă - atelier handmade
DESCRIPTION:Decor de iarnă – atelier handmade \n\nlocația: Mediatecă\, parter;\nora: 14.00 – 16.00;\ndetalii: 0239 611 292
URL:https://www.bjbraila.ro/eveniment/decor-de-iarna-atelier-handmade/
LOCATION:Biblioteca “Panait Istrati” Braila\, Piața Poligon nr. 4\, Brăila\, Brăila\, 810026\, România
CATEGORIES:Evenimente
ORGANIZER;CN="Biblioteca %E2%80%9CPanait Istrati%E2%80%9D Braila":MAILTO:bjpi@bjbraila.ro
END:VEVENT
BEGIN:VEVENT
DTSTART;TZID=Europe/Moscow:20251210T163000
DTEND;TZID=Europe/Moscow:20251210T173000
DTSTAMP:20260423T144429
CREATED:20251208T123721Z
LAST-MODIFIED:20251208T123721Z
UID:10545-1765384200-1765387800@www.bjbraila.ro
SUMMARY:Șah copii
DESCRIPTION:Șah copii \n\nlocația: Mediatecă\, parter;\nora: 16.30 – 17.30;\ndetalii: 0239 611 292
URL:https://www.bjbraila.ro/eveniment/sah-copii-7/
LOCATION:Biblioteca “Panait Istrati” Braila\, Piața Poligon nr. 4\, Brăila\, Brăila\, 810026\, România
CATEGORIES:Evenimente
ORGANIZER;CN="Biblioteca %E2%80%9CPanait Istrati%E2%80%9D Braila":MAILTO:bjpi@bjbraila.ro
END:VEVENT
BEGIN:VEVENT
DTSTART;TZID=Europe/Moscow:20251210T163000
DTEND;TZID=Europe/Moscow:20251210T183000
DTSTAMP:20260423T144429
CREATED:20251208T123347Z
LAST-MODIFIED:20251208T123347Z
UID:10543-1765384200-1765391400@www.bjbraila.ro
SUMMARY:Poveste de Crăciun
DESCRIPTION:  \n\nlocația: Secția Împrumut Adulți;\nora: 16.30 – 18.30;\ndetalii: 0239 611 292
URL:https://www.bjbraila.ro/eveniment/poveste-de-craciun/
LOCATION:Biblioteca “Panait Istrati” Braila\, Piața Poligon nr. 4\, Brăila\, Brăila\, 810026\, România
CATEGORIES:Evenimente
ORGANIZER;CN="Biblioteca %E2%80%9CPanait Istrati%E2%80%9D Braila":MAILTO:bjpi@bjbraila.ro
END:VEVENT
BEGIN:VEVENT
DTSTART;TZID=Europe/Moscow:20251210T170000
DTEND;TZID=Europe/Moscow:20251210T180000
DTSTAMP:20260423T144429
CREATED:20251208T123116Z
LAST-MODIFIED:20251208T123116Z
UID:10541-1765386000-1765389600@www.bjbraila.ro
SUMMARY:Atelier de limba engleză adulți
DESCRIPTION:Atelier de limba engleză adulți \n\nlocația: Centrul de Instruire \, etajul 3;\nora: 17.00 – 18.00;\ndetalii: 0239 611 292
URL:https://www.bjbraila.ro/eveniment/atelier-de-limba-engleza-adulti-20/
LOCATION:Biblioteca “Panait Istrati” Braila\, Piața Poligon nr. 4\, Brăila\, Brăila\, 810026\, România
CATEGORIES:Evenimente
ORGANIZER;CN="Biblioteca %E2%80%9CPanait Istrati%E2%80%9D Braila":MAILTO:bjpi@bjbraila.ro
END:VEVENT
BEGIN:VEVENT
DTSTART;TZID=Europe/Moscow:20251210T170000
DTEND;TZID=Europe/Moscow:20251210T190000
DTSTAMP:20260423T144429
CREATED:20251208T124001Z
LAST-MODIFIED:20251208T124001Z
UID:10547-1765386000-1765393200@www.bjbraila.ro
SUMMARY:Serbare FreeChildren
DESCRIPTION:Serbare FreeChildren \n\nlocația:  Sala Dunărea;\nora: 17.00 – 19.00;\ndetalii: 0239 611 292
URL:https://www.bjbraila.ro/eveniment/serbare-freechildren/
LOCATION:Biblioteca “Panait Istrati” Braila\, Piața Poligon nr. 4\, Brăila\, Brăila\, 810026\, România
CATEGORIES:Evenimente
ORGANIZER;CN="Biblioteca %E2%80%9CPanait Istrati%E2%80%9D Braila":MAILTO:bjpi@bjbraila.ro
END:VEVENT
END:VCALENDAR