BEGIN:VCALENDAR
VERSION:2.0
PRODID:-//bjbraila.ro - ECPv6.15.20//NONSGML v1.0//EN
CALSCALE:GREGORIAN
METHOD:PUBLISH
X-WR-CALNAME:bjbraila.ro
X-ORIGINAL-URL:https://www.bjbraila.ro
X-WR-CALDESC:Evenimente pentru bjbraila.ro
REFRESH-INTERVAL;VALUE=DURATION:PT1H
X-Robots-Tag:noindex
X-PUBLISHED-TTL:PT1H
BEGIN:VTIMEZONE
TZID:Europe/Moscow
BEGIN:STANDARD
TZOFFSETFROM:+0300
TZOFFSETTO:+0300
TZNAME:MSK
DTSTART:20240101T000000
END:STANDARD
END:VTIMEZONE
BEGIN:VEVENT
DTSTART;TZID=Europe/Moscow:20251212T080000
DTEND;TZID=Europe/Moscow:20251212T160000
DTSTAMP:20260423T070100
CREATED:20251208T083535Z
LAST-MODIFIED:20251208T083535Z
UID:10513-1765526400-1765555200@www.bjbraila.ro
SUMMARY:Club robotică
DESCRIPTION:Club robotică \n\ncoordonator: Silviu Gheorghe;\nlocația: Makerspace\, etajul 1;\nora: 08.00 – 16.00;\natelier adresat tinerilor cu vârsta cuprinsă între 14 și 19 ani;\ndetalii: 0239 611 292
URL:https://www.bjbraila.ro/eveniment/club-robotica-94/
LOCATION:Brăila
CATEGORIES:Evenimente
END:VEVENT
BEGIN:VEVENT
DTSTART;TZID=Europe/Moscow:20251212T140000
DTEND;TZID=Europe/Moscow:20251212T150000
DTSTAMP:20260423T070100
CREATED:20251208T131510Z
LAST-MODIFIED:20251208T131510Z
UID:10561-1765548000-1765551600@www.bjbraila.ro
SUMMARY:Happy Calligraphy
DESCRIPTION:Happy Calligraphy \n\nlocația: Centrul Multicultural;\nora: 14.00 – 15.00;\ndetalii: 0239 611 292
URL:https://www.bjbraila.ro/eveniment/happy-calligraphy-3/
LOCATION:Biblioteca “Panait Istrati” Braila\, Piața Poligon nr. 4\, Brăila\, Brăila\, 810026\, România
CATEGORIES:Evenimente
ORGANIZER;CN="Biblioteca %E2%80%9CPanait Istrati%E2%80%9D Braila":MAILTO:bjpi@bjbraila.ro
END:VEVENT
BEGIN:VEVENT
DTSTART;TZID=Europe/Moscow:20251212T140000
DTEND;TZID=Europe/Moscow:20251212T160000
DTSTAMP:20260423T070100
CREATED:20251208T131719Z
LAST-MODIFIED:20251208T131719Z
UID:10563-1765548000-1765555200@www.bjbraila.ro
SUMMARY:Sărbătorile sunt pentru toți
DESCRIPTION:Sărbătorile sunt pentru toți\, împreună cu Penitenciarul Tichilești și SOS Autism Brăila \n\nlocația: Fănuș Neagu\, etajul 3;\nora: 14.00 – 16.00;\ndetalii: 0239 611 292
URL:https://www.bjbraila.ro/eveniment/sarbatorile-sunt-pentru-toti/
LOCATION:Biblioteca “Panait Istrati” Braila\, Piața Poligon nr. 4\, Brăila\, Brăila\, 810026\, România
CATEGORIES:Evenimente
ORGANIZER;CN="Biblioteca %E2%80%9CPanait Istrati%E2%80%9D Braila":MAILTO:bjpi@bjbraila.ro
END:VEVENT
BEGIN:VEVENT
DTSTART;TZID=Europe/Moscow:20251212T150000
DTEND;TZID=Europe/Moscow:20251212T160000
DTSTAMP:20260423T070100
CREATED:20251208T131854Z
LAST-MODIFIED:20251208T131854Z
UID:10565-1765551600-1765555200@www.bjbraila.ro
SUMMARY:English is Fun
DESCRIPTION:English is Fun \n\nlocația: Centrul Multicultural;\nora: 15.00 – 16.00;\ndetalii: 0239 611 292
URL:https://www.bjbraila.ro/eveniment/english-is-fun-11/
LOCATION:Biblioteca “Panait Istrati” Braila\, Piața Poligon nr. 4\, Brăila\, Brăila\, 810026\, România
CATEGORIES:Evenimente
ORGANIZER;CN="Biblioteca %E2%80%9CPanait Istrati%E2%80%9D Braila":MAILTO:bjpi@bjbraila.ro
END:VEVENT
BEGIN:VEVENT
DTSTART;TZID=Europe/Moscow:20251212T160000
DTEND;TZID=Europe/Moscow:20251212T170000
DTSTAMP:20260423T070100
CREATED:20251208T132017Z
LAST-MODIFIED:20251208T132017Z
UID:10567-1765555200-1765558800@www.bjbraila.ro
SUMMARY:O poveste ne învață lucruri bune despre viață
DESCRIPTION:O poveste ne învață lucruri bune despre viață \n\nlocația: Ludotecă\, parter;\nora: 16.00 – 17.00;\ndetalii: 0239 611 292
URL:https://www.bjbraila.ro/eveniment/o-poveste-ne-invata-lucruri-bune-despre-viata/
LOCATION:Biblioteca “Panait Istrati” Braila\, Piața Poligon nr. 4\, Brăila\, Brăila\, 810026\, România
CATEGORIES:Evenimente
ORGANIZER;CN="Biblioteca %E2%80%9CPanait Istrati%E2%80%9D Braila":MAILTO:bjpi@bjbraila.ro
END:VEVENT
BEGIN:VEVENT
DTSTART;TZID=Europe/Moscow:20251212T160000
DTEND;TZID=Europe/Moscow:20251212T180000
DTSTAMP:20260423T070100
CREATED:20251208T132139Z
LAST-MODIFIED:20251208T132139Z
UID:10569-1765555200-1765562400@www.bjbraila.ro
SUMMARY:Cenaclul literar Alter Ego
DESCRIPTION:Cenaclul literar Alter Ego \n\nlocația: sala Panait Istrati\, etajul 3;\nora: 16.00 – 18.00;\ndetalii: 0239 611 292
URL:https://www.bjbraila.ro/eveniment/cenaclul-literar-alter-ego-3/
LOCATION:Biblioteca “Panait Istrati” Braila\, Piața Poligon nr. 4\, Brăila\, Brăila\, 810026\, România
CATEGORIES:Evenimente
ORGANIZER;CN="Biblioteca %E2%80%9CPanait Istrati%E2%80%9D Braila":MAILTO:bjpi@bjbraila.ro
END:VEVENT
BEGIN:VEVENT
DTSTART;TZID=Europe/Moscow:20251212T160000
DTEND;TZID=Europe/Moscow:20251212T180000
DTSTAMP:20260423T070100
CREATED:20251208T132324Z
LAST-MODIFIED:20251208T132324Z
UID:10571-1765555200-1765562400@www.bjbraila.ro
SUMMARY:Călător pe mapamond - geografie distractivă
DESCRIPTION:Călător pe mapamond – geografie distractivă \n\nlocația: sala Fănuș Neagu\, etajul 3;\nora: 16.00 – 18.00;\ndetalii: 0239 611 292
URL:https://www.bjbraila.ro/eveniment/calator-pe-mapamond-geografie-distractiva-2/
LOCATION:Biblioteca “Panait Istrati” Braila\, Piața Poligon nr. 4\, Brăila\, Brăila\, 810026\, România
CATEGORIES:Evenimente
ORGANIZER;CN="Biblioteca %E2%80%9CPanait Istrati%E2%80%9D Braila":MAILTO:bjpi@bjbraila.ro
END:VEVENT
BEGIN:VEVENT
DTSTART;TZID=Europe/Moscow:20251212T163000
DTEND;TZID=Europe/Moscow:20251212T183000
DTSTAMP:20260423T070100
CREATED:20251208T132534Z
LAST-MODIFIED:20251208T132534Z
UID:10573-1765557000-1765564200@www.bjbraila.ro
SUMMARY:Muzica lumii - Simfonia colindelor
DESCRIPTION:Muzica lumii – Simfonia colindelor \n\nlocația: sala Dunărea;\nora: 16.30 – 18.30;\ndetalii: 0239 611 292
URL:https://www.bjbraila.ro/eveniment/muzica-lumii-simfonia-colindelor/
LOCATION:Biblioteca “Panait Istrati” Braila\, Piața Poligon nr. 4\, Brăila\, Brăila\, 810026\, România
CATEGORIES:Evenimente
ORGANIZER;CN="Biblioteca %E2%80%9CPanait Istrati%E2%80%9D Braila":MAILTO:bjpi@bjbraila.ro
END:VEVENT
END:VCALENDAR