BEGIN:VCALENDAR
VERSION:2.0
PRODID:-//bjbraila.ro - ECPv6.15.20//NONSGML v1.0//EN
CALSCALE:GREGORIAN
METHOD:PUBLISH
X-ORIGINAL-URL:https://www.bjbraila.ro
X-WR-CALDESC:Evenimente pentru bjbraila.ro
REFRESH-INTERVAL;VALUE=DURATION:PT1H
X-Robots-Tag:noindex
X-PUBLISHED-TTL:PT1H
BEGIN:VTIMEZONE
TZID:Europe/Moscow
BEGIN:STANDARD
TZOFFSETFROM:+0300
TZOFFSETTO:+0300
TZNAME:MSK
DTSTART:20240101T000000
END:STANDARD
END:VTIMEZONE
BEGIN:VEVENT
DTSTART;TZID=Europe/Moscow:20251213T093000
DTEND;TZID=Europe/Moscow:20251213T110000
DTSTAMP:20260423T004038
CREATED:20251208T133124Z
LAST-MODIFIED:20251208T133124Z
UID:10579-1765618200-1765623600@www.bjbraila.ro
SUMMARY:Tărâmul emoțiilor
DESCRIPTION:Tărâmul emoțiilor \n\nlocația: secția Împrumut Adulți;\nora: 09.30 – 11.00;\ndetalii: 0239 611 292
URL:https://www.bjbraila.ro/eveniment/taramul-emotiilor-9/
LOCATION:Biblioteca “Panait Istrati” Braila\, Piața Poligon nr. 4\, Brăila\, Brăila\, 810026\, România
CATEGORIES:Evenimente
ORGANIZER;CN="Biblioteca %E2%80%9CPanait Istrati%E2%80%9D Braila":MAILTO:bjpi@bjbraila.ro
END:VEVENT
BEGIN:VEVENT
DTSTART;TZID=Europe/Moscow:20251213T100000
DTEND;TZID=Europe/Moscow:20251213T120000
DTSTAMP:20260423T004038
CREATED:20251208T132740Z
LAST-MODIFIED:20251208T132740Z
UID:10575-1765620000-1765627200@www.bjbraila.ro
SUMMARY:Niciodată Singur: activități seniori
DESCRIPTION:Niciodată Singur: activități seniori \n\nlocația: sala Fănuș Neagu\, etajul 3;\nora: 10.00 – 12.00;\ndetalii: 0239 611 292
URL:https://www.bjbraila.ro/eveniment/niciodata-singur-activitati-seniori/
LOCATION:Biblioteca “Panait Istrati” Braila\, Piața Poligon nr. 4\, Brăila\, Brăila\, 810026\, România
CATEGORIES:Evenimente
ORGANIZER;CN="Biblioteca %E2%80%9CPanait Istrati%E2%80%9D Braila":MAILTO:bjpi@bjbraila.ro
END:VEVENT
BEGIN:VEVENT
DTSTART;TZID=Europe/Moscow:20251213T110000
DTEND;TZID=Europe/Moscow:20251213T123000
DTSTAMP:20260423T004038
CREATED:20251208T133247Z
LAST-MODIFIED:20251208T133247Z
UID:10581-1765623600-1765629000@www.bjbraila.ro
SUMMARY:Colorăm Viața
DESCRIPTION:Colorăm Viața \n\nlocația: secția Împrumut Adulți;\nora: 11.00 – 12.30;\ndetalii: 0239 611 292
URL:https://www.bjbraila.ro/eveniment/coloram-viata-4/
LOCATION:Biblioteca “Panait Istrati” Braila\, Piața Poligon nr. 4\, Brăila\, Brăila\, 810026\, România
CATEGORIES:Evenimente
ORGANIZER;CN="Biblioteca %E2%80%9CPanait Istrati%E2%80%9D Braila":MAILTO:bjpi@bjbraila.ro
END:VEVENT
BEGIN:VEVENT
DTSTART;TZID=Europe/Moscow:20251213T110000
DTEND;TZID=Europe/Moscow:20251213T130000
DTSTAMP:20260423T004038
CREATED:20251208T132938Z
LAST-MODIFIED:20251208T132938Z
UID:10577-1765623600-1765630800@www.bjbraila.ro
SUMMARY:Grup artistic Nino Nino
DESCRIPTION:Grup artistic Nino Nino \n\nlocația: sala Panait Istrati\, etajul 3;\nora: 11.00 – 13.00;\ndetalii: 0239 611 292
URL:https://www.bjbraila.ro/eveniment/grup-artistic-nino-nino-6/
LOCATION:Biblioteca “Panait Istrati” Braila\, Piața Poligon nr. 4\, Brăila\, Brăila\, 810026\, România
CATEGORIES:Evenimente
ORGANIZER;CN="Biblioteca %E2%80%9CPanait Istrati%E2%80%9D Braila":MAILTO:bjpi@bjbraila.ro
END:VEVENT
END:VCALENDAR