BEGIN:VCALENDAR
VERSION:2.0
PRODID:-//bjbraila.ro - ECPv6.15.20//NONSGML v1.0//EN
CALSCALE:GREGORIAN
METHOD:PUBLISH
X-WR-CALNAME:bjbraila.ro
X-ORIGINAL-URL:https://www.bjbraila.ro
X-WR-CALDESC:Evenimente pentru bjbraila.ro
REFRESH-INTERVAL;VALUE=DURATION:PT1H
X-Robots-Tag:noindex
X-PUBLISHED-TTL:PT1H
BEGIN:VTIMEZONE
TZID:Europe/Moscow
BEGIN:STANDARD
TZOFFSETFROM:+0300
TZOFFSETTO:+0300
TZNAME:MSK
DTSTART:20250101T000000
END:STANDARD
END:VTIMEZONE
BEGIN:VEVENT
DTSTART;TZID=Europe/Moscow:20260420T080000
DTEND;TZID=Europe/Moscow:20260425T170000
DTSTAMP:20260424T020641
CREATED:20260421T103357Z
LAST-MODIFIED:20260421T103359Z
UID:11116-1776672000-1777136400@www.bjbraila.ro
SUMMARY:Activități în perioada 20-25 aprilie 2026
DESCRIPTION:
URL:https://www.bjbraila.ro/eveniment/activitati-in-perioada-20-25-aprilie-2026/
LOCATION:Biblioteca “Panait Istrati” Braila\, Piața Poligon nr. 4\, Brăila\, Brăila\, 810026\, România
CATEGORIES:Evenimente
ATTACH;FMTTYPE=image/jpeg:https://www.bjbraila.ro/wp-content/uploads/2026/04/20-25-apr.jpg
END:VEVENT
BEGIN:VEVENT
DTSTART;TZID=Europe/Moscow:20260424T163000
DTEND;TZID=Europe/Moscow:20260424T183000
DTSTAMP:20260424T020641
CREATED:20260422T123322Z
LAST-MODIFIED:20260422T123322Z
UID:11124-1777048200-1777055400@www.bjbraila.ro
SUMMARY:Muzica Rusiei
DESCRIPTION:Vă invităm la un nou spectacol desfășurat în cadrul proiectului educațional „Muzica lumii între sunet și suflet”\, dedicat de această dată universului artistic al Rusiei.\nManifestarea „Muzica Rusiei” va avea loc pe 24 aprilie 2026\, începând cu ora 16:30\, la secția Mediatecă și va fi prezentată de prof. Nicolae Băcanu.\nProgramul cuprinde:\n– Expunerea „Muzica rusă ca stare de spirit” – prof. Nicolae Băcanu\n– Momente de muzică\, dans și poezie susținute de elevi și profesori de la Liceul de Arte „Hariclea Darclee”\, Braila\, Şcoala Populară de Arte Vespasian Lungu Brăila oficial\, Palatul Copiilor Brăila\, Școala Gimnazială „A.S. Pușkin”.\nPublicul va avea ocazia să se bucure de momente de canto\, pian\, vioară\, flaut\, dar și de dansuri și recitaluri de poezie inspirate din literatura rusă.\nAccesul este liber.
URL:https://www.bjbraila.ro/eveniment/muzica-rusiei/
LOCATION:Brăila
CATEGORIES:Evenimente
ATTACH;FMTTYPE=image/jpeg:https://www.bjbraila.ro/wp-content/uploads/2026/04/Muzica-lumii-aprilie.jpg
END:VEVENT
END:VCALENDAR