BEGIN:VCALENDAR
VERSION:2.0
PRODID:-//bjbraila.ro - ECPv6.15.20//NONSGML v1.0//EN
CALSCALE:GREGORIAN
METHOD:PUBLISH
X-ORIGINAL-URL:https://www.bjbraila.ro
X-WR-CALDESC:Evenimente pentru bjbraila.ro
REFRESH-INTERVAL;VALUE=DURATION:PT1H
X-Robots-Tag:noindex
X-PUBLISHED-TTL:PT1H
BEGIN:VTIMEZONE
TZID:Europe/Helsinki
BEGIN:DAYLIGHT
TZOFFSETFROM:+0200
TZOFFSETTO:+0300
TZNAME:EEST
DTSTART:20220327T010000
END:DAYLIGHT
BEGIN:STANDARD
TZOFFSETFROM:+0300
TZOFFSETTO:+0200
TZNAME:EET
DTSTART:20221030T010000
END:STANDARD
BEGIN:DAYLIGHT
TZOFFSETFROM:+0200
TZOFFSETTO:+0300
TZNAME:EEST
DTSTART:20230326T010000
END:DAYLIGHT
BEGIN:STANDARD
TZOFFSETFROM:+0300
TZOFFSETTO:+0200
TZNAME:EET
DTSTART:20231029T010000
END:STANDARD
BEGIN:DAYLIGHT
TZOFFSETFROM:+0200
TZOFFSETTO:+0300
TZNAME:EEST
DTSTART:20240331T010000
END:DAYLIGHT
BEGIN:STANDARD
TZOFFSETFROM:+0300
TZOFFSETTO:+0200
TZNAME:EET
DTSTART:20241027T010000
END:STANDARD
END:VTIMEZONE
BEGIN:VEVENT
DTSTART;TZID=Europe/Helsinki:20231218T170000
DTEND;TZID=Europe/Helsinki:20231218T180000
DTSTAMP:20260426T052401
CREATED:20231215T110853Z
LAST-MODIFIED:20231215T122345Z
UID:7931-1702918800-1702922400@www.bjbraila.ro
SUMMARY:Constantin Boer Dondoș - in memoriam
DESCRIPTION:Vă invităm luni\, 18 decembrie 2023\, ora 17.00\, la Centrul Multicultural „Dunărea” din cadrul Bibliotecii Județene “Panait Istrati” Brăila\, unde va avea loc premierea câștigătorilor Concursului Județean de creație plastică „Constantin Boer Dondoș“ – in memoriam și vernisajul expoziției care conține lucrările realizate de participanții la concurs.
URL:https://www.bjbraila.ro/eveniment/constantin-boer-dondos-in-memoriam-2/
LOCATION:Biblioteca “Panait Istrati” Braila\, Piața Poligon nr. 4\, Brăila\, Brăila\, 810026\, România
CATEGORIES:Expoziție,Vernisaj
ATTACH;FMTTYPE=image/jpeg:https://www.bjbraila.ro/wp-content/uploads/2023/12/Boer-Dondos-concurs.jpg
END:VEVENT
BEGIN:VEVENT
DTSTART;TZID=Europe/Helsinki:20231219T120000
DTEND;TZID=Europe/Helsinki:20231219T130000
DTSTAMP:20260426T052401
CREATED:20231206T063639Z
LAST-MODIFIED:20231206T064926Z
UID:7889-1702987200-1702990800@www.bjbraila.ro
SUMMARY:MARIA BIANCA MOCANU\, prima expoziție de pictură
DESCRIPTION:Eleva de 11 ani de la Școala Gimnazială ”Mihai Viteazul” expune pentru prima dată lucrări de pictură în fața publicului la Biblioteca Judeteana „Panait Istrati” Braila\, alături de micuța artistă fiind prezenți colegii\, prietenii și familia.\nVernisajul expoziției ”Veselie și Culoare” va avea loc marți\, 19 decembrie 2023\, începând cu ora 12.00\, la Sala de Lectură\, iar invitația se adresează tuturor celor pasionați de artele plastice.\nLucrările expuse sunt realizate la atelierul de pictură organizat săptămânal la bibliotecă\, sub coordonarea Marei Lorina Marin Ionașcu\, restaurator la secția Colecții Speciale.\nVă așteptăm la vernisaj să le oferim încurajări copiilor creatori de frumos!
URL:https://www.bjbraila.ro/eveniment/maria-bianca-mocanu-prima-expozitie-de-pictura/
LOCATION:Biblioteca “Panait Istrati” Braila\, Piața Poligon nr. 4\, Brăila\, Brăila\, 810026\, România
CATEGORIES:Vernisaj
ATTACH;FMTTYPE=image/jpeg:https://www.bjbraila.ro/wp-content/uploads/2023/12/expo-pictura.jpg
END:VEVENT
END:VCALENDAR