BEGIN:VCALENDAR
VERSION:2.0
PRODID:-//bjbraila.ro - ECPv6.15.20//NONSGML v1.0//EN
CALSCALE:GREGORIAN
METHOD:PUBLISH
X-ORIGINAL-URL:https://www.bjbraila.ro
X-WR-CALDESC:Evenimente pentru bjbraila.ro
REFRESH-INTERVAL;VALUE=DURATION:PT1H
X-Robots-Tag:noindex
X-PUBLISHED-TTL:PT1H
BEGIN:VTIMEZONE
TZID:Europe/Helsinki
BEGIN:DAYLIGHT
TZOFFSETFROM:+0200
TZOFFSETTO:+0300
TZNAME:EEST
DTSTART:20230326T010000
END:DAYLIGHT
BEGIN:STANDARD
TZOFFSETFROM:+0300
TZOFFSETTO:+0200
TZNAME:EET
DTSTART:20231029T010000
END:STANDARD
BEGIN:DAYLIGHT
TZOFFSETFROM:+0200
TZOFFSETTO:+0300
TZNAME:EEST
DTSTART:20240331T010000
END:DAYLIGHT
BEGIN:STANDARD
TZOFFSETFROM:+0300
TZOFFSETTO:+0200
TZNAME:EET
DTSTART:20241027T010000
END:STANDARD
BEGIN:DAYLIGHT
TZOFFSETFROM:+0200
TZOFFSETTO:+0300
TZNAME:EEST
DTSTART:20250330T010000
END:DAYLIGHT
BEGIN:STANDARD
TZOFFSETFROM:+0300
TZOFFSETTO:+0200
TZNAME:EET
DTSTART:20251026T010000
END:STANDARD
END:VTIMEZONE
BEGIN:VEVENT
DTSTART;TZID=Europe/Helsinki:20241220T140000
DTEND;TZID=Europe/Helsinki:20241220T150000
DTSTAMP:20260422T134239
CREATED:20241220T071435Z
LAST-MODIFIED:20241220T071435Z
UID:8712-1734703200-1734706800@www.bjbraila.ro
SUMMARY:COMUNISM ȘI REPRESIUNE ÎN BRĂILA ANILOR ’80
DESCRIPTION:COMUNISM ȘI REPRESIUNE ÎN BRĂILA ANILOR ’80\, expoziție organizată de Muzeul Brăilei „Carol I” și Biblioteca Judeteana „Panait Istrati” Braila \nVă invităm la vernisajul expoziției temporare „Comunism și represiune în Brăila anilor ’80” – vineri\, 20 decembrie 2024\, ora 14.00\, la sediul Muzeului Brăilei „Carol I”\, sala „Regele Ferdinand și Regina Maria” (Piața Traian nr. 3).\nExpoziția face publice detaliile comunismului târziu\, de la acumularea crizelor și colapsul sistemic\, până la generalizarea proiectului represiv al „Epocii de Aur”. Multiple detalii și episoade din viața economică și socială a Brăilei\, cele mai multe invizibile\, surprinse și gestionate de aparatul represiv al regimului comunist\, sunt făcute acum publice.
URL:https://www.bjbraila.ro/eveniment/comunism-si-represiune-in-braila-anilor-80/
CATEGORIES:Expoziție,Vernisaj
ATTACH;FMTTYPE=image/jpeg:https://www.bjbraila.ro/wp-content/uploads/2024/12/470201279_981247927361308_556653490126690799_n.jpg
END:VEVENT
END:VCALENDAR