BEGIN:VCALENDAR
VERSION:2.0
PRODID:-//bjbraila.ro - ECPv6.15.20//NONSGML v1.0//EN
CALSCALE:GREGORIAN
METHOD:PUBLISH
X-WR-CALNAME:bjbraila.ro
X-ORIGINAL-URL:https://www.bjbraila.ro
X-WR-CALDESC:Evenimente pentru bjbraila.ro
REFRESH-INTERVAL;VALUE=DURATION:PT1H
X-Robots-Tag:noindex
X-PUBLISHED-TTL:PT1H
BEGIN:VTIMEZONE
TZID:Europe/Moscow
BEGIN:STANDARD
TZOFFSETFROM:+0300
TZOFFSETTO:+0300
TZNAME:MSK
DTSTART:20240101T000000
END:STANDARD
END:VTIMEZONE
BEGIN:VEVENT
DTSTART;TZID=Europe/Moscow:20250521T080000
DTEND;TZID=Europe/Moscow:20250521T160000
DTSTAMP:20260421T030129
CREATED:20250519T054600Z
LAST-MODIFIED:20250519T054600Z
UID:9224-1747814400-1747843200@www.bjbraila.ro
SUMMARY:Club robotică
DESCRIPTION:Club robotică \n\ncoordonator: Silviu Gheorghe;\nlocația: Makerspace\, etajul 1;\nora: 08.00 – 16.00;\natelier adresat tinerilor cu vârsta cuprinsă între 14 și 19 ani;\ndetalii: 0239 611 292
URL:https://www.bjbraila.ro/eveniment/club-robotica-30/
LOCATION:Biblioteca “Panait Istrati” Braila\, Piața Poligon nr. 4\, Brăila\, Brăila\, 810026\, România
CATEGORIES:Evenimente
ORGANIZER;CN="Biblioteca %E2%80%9CPanait Istrati%E2%80%9D Braila":MAILTO:bjpi@bjbraila.ro
END:VEVENT
BEGIN:VEVENT
DTSTART;TZID=Europe/Moscow:20250521T080000
DTEND;TZID=Europe/Moscow:20250521T190000
DTSTAMP:20260421T030129
CREATED:20250521T111653Z
LAST-MODIFIED:20250521T111653Z
UID:9333-1747814400-1747854000@www.bjbraila.ro
SUMMARY:Tudor Arghezi – eternul meșter al „cuvintelor potrivite”
DESCRIPTION:În perioada 21 mai – 4 iunie Secția Împrumut pentru Adulți a Bibliotecii Județene ”Panait Istrati” Brăila organizează expoziția documentară intitulată Tudor Arghezi – eternul meșter al „cuvintelor potrivite” – expoziție prilejuită de împlinirea a 145 de ani de la nașterea scriitorului (21 mai 1880 – 14 iul. 1967). \nOpera sa literară cuprinde poezie\, proză\, teatru și publicistică\, fiind recunoscut pentru stilul său inovator și pentru capacitatea de a îmbina elementele tradiționale cu modernismul. Opera sa poetică\, de o originalitate exemplară\, reprezintă o altă vârstă marcantă a literaturii române\, valoarea poeziei lui Arghezi constând în primul rând în adâncimea perspectivelor interioare.  \nVolumele de poezie ”Cuvinte potrivite” (1927) și ”Flori de mucigai” (1931) sunt considerate pietre de temelie ale literaturii române. A scris\, de asemenea\, teatru\, proză (notabile fiind romanele ”Cimitirul Buna Vestire”\, ”Ochii Maicii Domnului”\, pamflete\, precum și literatură pentru copii (volumele ”Cartea cu jucării”\, “Cântec de adormit Mitzura”\, “Buruieni”\, “Mărţişoare”\, “Prisaca”\, “Zdreanţă”\, etc). A fost un jurnalist prolific\, publicând articole în diverse ziare și reviste („Cronica”\, „Cuget românesc”\, „Națiunea”\, „Bilete de papagal”\, „Revista modernă”\, „Viața nouă”\, „Facla”\, „Viața românească”)\, însă spiritul său critic și ironic i-a adus adesea conflicte cu autoritățile. A încetat din viață în 1967\, la București și a fost înmormântat\, alături de Paraschiva\, soția sa\, în grădina casei din Str. Mărțișor\, cu funeralii naționale. Casa a rămas până astăzi muzeu\, fiind menținută de fiica sa\, Mitzura Arghezi. \nExpoziția este realizată de Silvia Iacob\, bibliotecar.
URL:https://www.bjbraila.ro/eveniment/tudor-arghezi-eternul-mester-al-cuvintelor-potrivite/
LOCATION:Biblioteca “Panait Istrati” Braila\, Piața Poligon nr. 4\, Brăila\, Brăila\, 810026\, România
CATEGORIES:Expoziție
ATTACH;FMTTYPE=image/jpeg:https://www.bjbraila.ro/wp-content/uploads/2025/05/afis.jpg
END:VEVENT
BEGIN:VEVENT
DTSTART;TZID=Europe/Moscow:20250521T110000
DTEND;TZID=Europe/Moscow:20250521T120000
DTSTAMP:20260421T030129
CREATED:20250519T055946Z
LAST-MODIFIED:20250519T060641Z
UID:9244-1747825200-1747828800@www.bjbraila.ro
SUMMARY:Engleza de la zero
DESCRIPTION:Engleza de la zero \n\ncoordonator: Violeta Eftime;\nlocația: Centrul de instruire\, etajul 3;\nora: 11.00 – 12.00;\natelier adresat persoanelor adulte;\ndetalii: 0239 611 292
URL:https://www.bjbraila.ro/eveniment/engleza-de-la-zero-13/
LOCATION:Biblioteca “Panait Istrati” Braila\, Piața Poligon nr. 4\, Brăila\, Brăila\, 810026\, România
CATEGORIES:Evenimente
ORGANIZER;CN="Biblioteca %E2%80%9CPanait Istrati%E2%80%9D Braila":MAILTO:bjpi@bjbraila.ro
END:VEVENT
BEGIN:VEVENT
DTSTART;TZID=Europe/Moscow:20250521T163000
DTEND;TZID=Europe/Moscow:20250521T180000
DTSTAMP:20260421T030129
CREATED:20250519T060749Z
LAST-MODIFIED:20250519T060749Z
UID:9249-1747845000-1747850400@www.bjbraila.ro
SUMMARY:Poveștile firelor de ață
DESCRIPTION:Poveștile firelor de ață \n\ncoordonator: Valentina Chiriac;\nlocația: secția Împrumut adulți;\nora: 16.30 – 18.00;\natelier adresat copiilor de peste 8 ani;\ndetalii: 0239 611 292
URL:https://www.bjbraila.ro/eveniment/povestile-firelor-de-ata-3/
LOCATION:Biblioteca “Panait Istrati” Braila\, Piața Poligon nr. 4\, Brăila\, Brăila\, 810026\, România
CATEGORIES:Evenimente
ORGANIZER;CN="Biblioteca %E2%80%9CPanait Istrati%E2%80%9D Braila":MAILTO:bjpi@bjbraila.ro
END:VEVENT
BEGIN:VEVENT
DTSTART;TZID=Europe/Moscow:20250521T170000
DTEND;TZID=Europe/Moscow:20250521T180000
DTSTAMP:20260421T030129
CREATED:20250519T061231Z
LAST-MODIFIED:20250519T061431Z
UID:9257-1747846800-1747850400@www.bjbraila.ro
SUMMARY:Engleza de la zero
DESCRIPTION:Engleza de la zero \n\ncoordonator: Violeta Eftime;\nlocația: Centrul de instruire\, etajul 3;\nora: 17.00 – 18.00;\natelier adresat persoanelor adulte;\ndetalii: 0239 611 292
URL:https://www.bjbraila.ro/eveniment/engleza-de-la-zero-15/
LOCATION:Biblioteca “Panait Istrati” Braila\, Piața Poligon nr. 4\, Brăila\, Brăila\, 810026\, România
CATEGORIES:Evenimente
ORGANIZER;CN="Biblioteca %E2%80%9CPanait Istrati%E2%80%9D Braila":MAILTO:bjpi@bjbraila.ro
END:VEVENT
BEGIN:VEVENT
DTSTART;TZID=Europe/Moscow:20250522T080000
DTEND;TZID=Europe/Moscow:20250522T160000
DTSTAMP:20260421T030129
CREATED:20250519T054642Z
LAST-MODIFIED:20250519T054642Z
UID:9226-1747900800-1747929600@www.bjbraila.ro
SUMMARY:Club robotică
DESCRIPTION:Club robotică \n\ncoordonator: Silviu Gheorghe;\nlocația: Makerspace\, etajul 1;\nora: 08.00 – 16.00;\natelier adresat tinerilor cu vârsta cuprinsă între 14 și 19 ani;\ndetalii: 0239 611 292
URL:https://www.bjbraila.ro/eveniment/club-robotica-31/
LOCATION:Biblioteca “Panait Istrati” Braila\, Piața Poligon nr. 4\, Brăila\, Brăila\, 810026\, România
CATEGORIES:Evenimente
ORGANIZER;CN="Biblioteca %E2%80%9CPanait Istrati%E2%80%9D Braila":MAILTO:bjpi@bjbraila.ro
END:VEVENT
BEGIN:VEVENT
DTSTART;TZID=Europe/Moscow:20250522T080000
DTEND;TZID=Europe/Moscow:20250522T170000
DTSTAMP:20260421T030129
CREATED:20250521T094234Z
LAST-MODIFIED:20250521T115338Z
UID:9331-1747900800-1747933200@www.bjbraila.ro
SUMMARY:Lansare de carte - Ion Măgeanu
DESCRIPTION:Lansare de carte – Ion Măgeanu \n\nlocația: sala Fănuș Neagu;\nora: 17:00 – 19:00;
URL:https://www.bjbraila.ro/eveniment/lansare-de-carte-ion-mageanu/
LOCATION:Biblioteca “Panait Istrati” Braila\, Piața Poligon nr. 4\, Brăila\, Brăila\, 810026\, România
CATEGORIES:Evenimente
ORGANIZER;CN="Biblioteca %E2%80%9CPanait Istrati%E2%80%9D Braila":MAILTO:bjpi@bjbraila.ro
END:VEVENT
BEGIN:VEVENT
DTSTART;TZID=Europe/Moscow:20250522T113000
DTEND;TZID=Europe/Moscow:20250522T130000
DTSTAMP:20260421T030129
CREATED:20250519T060851Z
LAST-MODIFIED:20250519T060851Z
UID:9251-1747913400-1747918800@www.bjbraila.ro
SUMMARY:Filmul de joi
DESCRIPTION:Filmul de joi \n\ncoordonator: Irina Ene;\nlocația: Mediatecă\, parter;\nora: 11.30 – 13.00\ndetalii: 0239 611 292
URL:https://www.bjbraila.ro/eveniment/filmul-de-joi-4/
LOCATION:Biblioteca “Panait Istrati” Braila\, Piața Poligon nr. 4\, Brăila\, Brăila\, 810026\, România
CATEGORIES:Evenimente
ORGANIZER;CN="Biblioteca %E2%80%9CPanait Istrati%E2%80%9D Braila":MAILTO:bjpi@bjbraila.ro
END:VEVENT
BEGIN:VEVENT
DTSTART;TZID=Europe/Moscow:20250522T113000
DTEND;TZID=Europe/Moscow:20250522T143000
DTSTAMP:20260421T030129
CREATED:20250519T080753Z
LAST-MODIFIED:20250519T080754Z
UID:9290-1747913400-1747924200@www.bjbraila.ro
SUMMARY:Invitație la Atelierul de pictură în stil Petrykivka
DESCRIPTION:Biroul din Constanța al Înaltului Comsiariat al Natiunilor Unite pentru Refugiati (UNHCR) are bucuria de a vă invita la o întâlnire caldă și inspirațională – un atelier de pictură\, care va avea loc joi\, pe 22 mai\, începând cu ora 11.30\, la Biblioteca Judeteana „Panait Istrati” Braila.\nChiar dacă nu ați pictat niciodată\, nu vă faceți griji! Vă vom arăta și vom crea împreună lucrări frumoase. Vă așteaptă o zi plină de creativitate și voie bună la un ceai\, într-un spațiu cald și deschis în care să ne exprimăm\, să ne cunoaștem și să construim legături prin artă.\nEvenimentul face parte din seria de inițiative UNHCR dedicate coeziunii sociale și dialogului intercultural\, iar alături de noi vor participa și reprezentanți ai comunității de refugiați ucraineni\, pentru a împărtăși împreună diverse experiențe culturale. Atelierul are loc la Sala Dunărea și se adresează unui grup de seniori – atât din comunitatea de ucraineni din Brăila\, cât și din comunitatea gazdă.\nPentru a participa vă rugăm să completați formularul de mai jos; se pot face înscrieri și la telefon 0765240145\, persoana de contact: Laura Caplea.\nhttps://enketo.unhcr.org/x/rBgDdboh\nNumărul maxim estimat de participanți este de 30 de persoane (15 ucraineni și 15 români).
URL:https://www.bjbraila.ro/eveniment/invitatie-la-atelierul-de-pictura-in-stil-petrykivka/
LOCATION:Biblioteca “Panait Istrati” Braila\, Piața Poligon nr. 4\, Brăila\, Brăila\, 810026\, România
CATEGORIES:Evenimente
ATTACH;FMTTYPE=image/jpeg:https://www.bjbraila.ro/wp-content/uploads/2025/05/afis-atelier-pictura.jpg
END:VEVENT
BEGIN:VEVENT
DTSTART;TZID=Europe/Moscow:20250522T113000
DTEND;TZID=Europe/Moscow:20250522T150000
DTSTAMP:20260421T030129
CREATED:20250519T061059Z
LAST-MODIFIED:20250519T061059Z
UID:9253-1747913400-1747926000@www.bjbraila.ro
SUMMARY:Petrykivka
DESCRIPTION:Petrykivka \n\nlocația: sala Dunărea;\nora: 11:30 – 15:00;\natelier de pictură adresat adulților;\ndetalii: 0239 611 292
URL:https://www.bjbraila.ro/eveniment/petrykivka/
LOCATION:Biblioteca “Panait Istrati” Braila\, Piața Poligon nr. 4\, Brăila\, Brăila\, 810026\, România
CATEGORIES:Evenimente
ORGANIZER;CN="Biblioteca %E2%80%9CPanait Istrati%E2%80%9D Braila":MAILTO:bjpi@bjbraila.ro
END:VEVENT
BEGIN:VEVENT
DTSTART;TZID=Europe/Moscow:20250522T133000
DTEND;TZID=Europe/Moscow:20250522T143000
DTSTAMP:20260421T030129
CREATED:20250519T061359Z
LAST-MODIFIED:20250519T063113Z
UID:9259-1747920600-1747924200@www.bjbraila.ro
SUMMARY:Fascinația lecturii
DESCRIPTION:Fascinația lecturii \n\ncoordonator: Camelia Cherciu;\nlocația: Cantina Socială Sf. Vasile cel Mare;\nora: 13.30 – 14.30;\ndetalii: 0239 611 292
URL:https://www.bjbraila.ro/eveniment/fascinatia-lecturii/
LOCATION:Brăila
CATEGORIES:Evenimente
ORGANIZER;CN="Biblioteca %E2%80%9CPanait Istrati%E2%80%9D Braila":MAILTO:bjpi@bjbraila.ro
END:VEVENT
BEGIN:VEVENT
DTSTART;TZID=Europe/Moscow:20250522T143000
DTEND;TZID=Europe/Moscow:20250522T160000
DTSTAMP:20260421T030129
CREATED:20250519T073046Z
LAST-MODIFIED:20250519T073046Z
UID:9285-1747924200-1747929600@www.bjbraila.ro
SUMMARY:Caligrafie
DESCRIPTION:Caligrafie \n\ncoordonator: Mara Ionașcu;\nlocația: Centrul Multicultural;\nora: 14.30 – 16.00\natelier adresat copiilor cu vârsta cuprinsă între 6 și 8 ani;\ndetalii: 0239 611 292
URL:https://www.bjbraila.ro/eveniment/caligrafie-3/
LOCATION:Biblioteca “Panait Istrati” Braila\, Piața Poligon nr. 4\, Brăila\, Brăila\, 810026\, România
CATEGORIES:Evenimente
ORGANIZER;CN="Biblioteca %E2%80%9CPanait Istrati%E2%80%9D Braila":MAILTO:bjpi@bjbraila.ro
END:VEVENT
BEGIN:VEVENT
DTSTART;TZID=Europe/Moscow:20250522T170000
DTEND;TZID=Europe/Moscow:20250522T190000
DTSTAMP:20260421T030129
CREATED:20250519T061149Z
LAST-MODIFIED:20250519T061149Z
UID:9255-1747933200-1747940400@www.bjbraila.ro
SUMMARY:Alcoolicii Anonimi
DESCRIPTION:Alcoolicii Anonimi \n\nlocația: sala Panait Istrati\, etajul 3;\nora: 17.00 – 19.00;\ndetalii: 0239 611 292
URL:https://www.bjbraila.ro/eveniment/alcoolicii-anonimi-10/
LOCATION:Biblioteca “Panait Istrati” Braila\, Piața Poligon nr. 4\, Brăila\, Brăila\, 810026\, România
CATEGORIES:Evenimente
ORGANIZER;CN="Biblioteca %E2%80%9CPanait Istrati%E2%80%9D Braila":MAILTO:bjpi@bjbraila.ro
END:VEVENT
BEGIN:VEVENT
DTSTART;TZID=Europe/Moscow:20250523T080000
DTEND;TZID=Europe/Moscow:20250523T160000
DTSTAMP:20260421T030129
CREATED:20250519T054709Z
LAST-MODIFIED:20250519T054709Z
UID:9228-1747987200-1748016000@www.bjbraila.ro
SUMMARY:Club robotică
DESCRIPTION:Club robotică \n\ncoordonator: Silviu Gheorghe;\nlocația: Makerspace\, etajul 1;\nora: 08.00 – 16.00;\natelier adresat tinerilor cu vârsta cuprinsă între 14 și 19 ani;\ndetalii: 0239 611 292
URL:https://www.bjbraila.ro/eveniment/club-robotica-32/
LOCATION:Biblioteca “Panait Istrati” Braila\, Piața Poligon nr. 4\, Brăila\, Brăila\, 810026\, România
CATEGORIES:Evenimente
ORGANIZER;CN="Biblioteca %E2%80%9CPanait Istrati%E2%80%9D Braila":MAILTO:bjpi@bjbraila.ro
END:VEVENT
BEGIN:VEVENT
DTSTART;TZID=Europe/Moscow:20250523T090000
DTEND;TZID=Europe/Moscow:20250523T100000
DTSTAMP:20260421T030129
CREATED:20250519T063510Z
LAST-MODIFIED:20250519T063510Z
UID:9281-1747990800-1747994400@www.bjbraila.ro
SUMMARY:Colorăm viața
DESCRIPTION:Colorăm viața \n\norganizator: Camelia Cherciu;\nora: 09:00 – 10:00;\natelier adresat copiilor cu nevoi speciale;\ndetalii: 0239 611 292
URL:https://www.bjbraila.ro/eveniment/coloram-viata/
LOCATION:Biblioteca “Panait Istrati” Braila\, Piața Poligon nr. 4\, Brăila\, Brăila\, 810026\, România
ORGANIZER;CN="Biblioteca %E2%80%9CPanait Istrati%E2%80%9D Braila":MAILTO:bjpi@bjbraila.ro
END:VEVENT
BEGIN:VEVENT
DTSTART;TZID=Europe/Moscow:20250523T090000
DTEND;TZID=Europe/Moscow:20250523T100000
DTSTAMP:20260421T030129
CREATED:20250519T074231Z
LAST-MODIFIED:20250519T074231Z
UID:9287-1747990800-1747994400@www.bjbraila.ro
SUMMARY:Prietenie ... pe ... o sfoară
DESCRIPTION:Prietenie … pe … o sfoară \n\nlocația: Ludotecă;\nora: 09:00 – 10:00;\ndetalii: 0239 611 292
URL:https://www.bjbraila.ro/eveniment/prietenie-pe-o-sfoara/
LOCATION:Biblioteca “Panait Istrati” Braila\, Piața Poligon nr. 4\, Brăila\, Brăila\, 810026\, România
CATEGORIES:Evenimente
ORGANIZER;CN="Biblioteca %E2%80%9CPanait Istrati%E2%80%9D Braila":MAILTO:bjpi@bjbraila.ro
END:VEVENT
BEGIN:VEVENT
DTSTART;TZID=Europe/Moscow:20250523T100000
DTEND;TZID=Europe/Moscow:20250523T120000
DTSTAMP:20260421T030129
CREATED:20250519T063245Z
LAST-MODIFIED:20250519T063245Z
UID:9279-1747994400-1748001600@www.bjbraila.ro
SUMMARY:Biblioamicii
DESCRIPTION:Biblioamicii \n\ncoordonator: Camelia Cherciu;\nlocația: Căminul pentru persoane defavorizate Zambila;\nora: 10.00 – 12.00;\natelier adresat persoanelor defavorizate;\ndetalii: 0239 611 292
URL:https://www.bjbraila.ro/eveniment/biblioamicii/
LOCATION:Brăila
ORGANIZER;CN="Biblioteca %E2%80%9CPanait Istrati%E2%80%9D Braila":MAILTO:bjpi@bjbraila.ro
END:VEVENT
BEGIN:VEVENT
DTSTART;TZID=Europe/Moscow:20250523T133000
DTEND;TZID=Europe/Moscow:20250523T150000
DTSTAMP:20260421T030129
CREATED:20250519T061607Z
LAST-MODIFIED:20250519T061607Z
UID:9261-1748007000-1748012400@www.bjbraila.ro
SUMMARY:Sunt Creativ
DESCRIPTION:Sunt Creativ \n\ncoordonator: Silvia Iacob;\nlocația: sala Panait Istrati\, etajul 3;\nora: 13.30 – 15.00;\natelier adresat copiilor cu vârsta cuprinsă între 7 și 10 ani;\ndetalii: 0239 611 292
URL:https://www.bjbraila.ro/eveniment/sunt-creativ/
LOCATION:Biblioteca “Panait Istrati” Braila\, Piața Poligon nr. 4\, Brăila\, Brăila\, 810026\, România
CATEGORIES:Evenimente
ORGANIZER;CN="Biblioteca %E2%80%9CPanait Istrati%E2%80%9D Braila":MAILTO:bjpi@bjbraila.ro
END:VEVENT
BEGIN:VEVENT
DTSTART;TZID=Europe/Moscow:20250523T140000
DTEND;TZID=Europe/Moscow:20250523T160000
DTSTAMP:20260421T030129
CREATED:20250519T061740Z
LAST-MODIFIED:20250519T061740Z
UID:9265-1748008800-1748016000@www.bjbraila.ro
SUMMARY:English is fun
DESCRIPTION:English is fun \n\ncoordonator: Olimpia Moraru;\nlocația: Centrul Multicultural;\nora: 14.00 – 16.00\natelier adresat copiilor cu vârsta cuprinsă între 7 și 10 ani\ndetalii: 0239 611 292
URL:https://www.bjbraila.ro/eveniment/english-is-fun-3/
LOCATION:Biblioteca “Panait Istrati” Braila\, Piața Poligon nr. 4\, Brăila\, Brăila\, 810026\, România
CATEGORIES:Evenimente
ORGANIZER;CN="Biblioteca %E2%80%9CPanait Istrati%E2%80%9D Braila":MAILTO:bjpi@bjbraila.ro
END:VEVENT
BEGIN:VEVENT
DTSTART;TZID=Europe/Moscow:20250523T143000
DTEND;TZID=Europe/Moscow:20250523T160000
DTSTAMP:20260421T030129
CREATED:20250519T061647Z
LAST-MODIFIED:20250519T061647Z
UID:9263-1748010600-1748016000@www.bjbraila.ro
SUMMARY:Rock - Muzica spiritului liber
DESCRIPTION:Rock – Muzica spiritului liber \n\ncoordonator: Alexandru Necula;\nlocația: sala Fănuș Neagu\, etajul 3;\nora: 14.30 – 16.00;\natelier adresat tinerilor cu vârsta cuprinsă între 13 și 19 ani;\ndetalii: 0239 611 292
URL:https://www.bjbraila.ro/eveniment/rock-muzica-spiritului-liber-2/
LOCATION:Biblioteca “Panait Istrati” Braila\, Piața Poligon nr. 4\, Brăila\, Brăila\, 810026\, România
CATEGORIES:Evenimente
ORGANIZER;CN="Biblioteca %E2%80%9CPanait Istrati%E2%80%9D Braila":MAILTO:bjpi@bjbraila.ro
END:VEVENT
BEGIN:VEVENT
DTSTART;TZID=Europe/Moscow:20250523T150000
DTEND;TZID=Europe/Moscow:20250523T170000
DTSTAMP:20260421T030129
CREATED:20250519T061821Z
LAST-MODIFIED:20250519T061821Z
UID:9267-1748012400-1748019600@www.bjbraila.ro
SUMMARY:CodeKids
DESCRIPTION:CodeKids \n\ncoordonator: Ștefăniță Alecu;\nlocația: Centrul de instruire\, etajul 3;\nora: 15.00 – 17.00;\natelier adresat copiilor cu vârsta de minim 10 ani;\ndetalii: 0239 611 292
URL:https://www.bjbraila.ro/eveniment/codekids-5/
LOCATION:Biblioteca “Panait Istrati” Braila\, Piața Poligon nr. 4\, Brăila\, Brăila\, 810026\, România
CATEGORIES:Evenimente
ORGANIZER;CN="Biblioteca %E2%80%9CPanait Istrati%E2%80%9D Braila":MAILTO:bjpi@bjbraila.ro
END:VEVENT
BEGIN:VEVENT
DTSTART;TZID=Europe/Moscow:20250523T160000
DTEND;TZID=Europe/Moscow:20250523T180000
DTSTAMP:20260421T030129
CREATED:20250519T061901Z
LAST-MODIFIED:20250519T061901Z
UID:9269-1748016000-1748023200@www.bjbraila.ro
SUMMARY:Cenaclul Alter Ego
DESCRIPTION:Cenaclul Alter Ego \n\ncoordonator: Liviu Chifane;\nlocația: sala Panait Istrati\, etajul 3;\nora: 16.00 – 18.00;\ndetalii: 0239 611 292
URL:https://www.bjbraila.ro/eveniment/cenaclul-alter-ego-2/
LOCATION:Biblioteca “Panait Istrati” Braila\, Piața Poligon nr. 4\, Brăila\, Brăila\, 810026\, România
CATEGORIES:Evenimente
ORGANIZER;CN="Biblioteca %E2%80%9CPanait Istrati%E2%80%9D Braila":MAILTO:bjpi@bjbraila.ro
END:VEVENT
BEGIN:VEVENT
DTSTART;TZID=Europe/Moscow:20250524T080000
DTEND;TZID=Europe/Moscow:20250524T120000
DTSTAMP:20260421T030129
CREATED:20250519T054849Z
LAST-MODIFIED:20250519T054946Z
UID:9230-1748073600-1748088000@www.bjbraila.ro
SUMMARY:Club robotică
DESCRIPTION:Club robotică \n\ncoordonator: Silviu Gheorghe;\nlocația: Makerspace\, etajul 1;\nora: 08.00 – 16.00;\natelier adresat tinerilor cu vârsta cuprinsă între 14 și 19 ani;\ndetalii: 0239 611 292
URL:https://www.bjbraila.ro/eveniment/club-robotica-33/
LOCATION:Biblioteca “Panait Istrati” Braila\, Piața Poligon nr. 4\, Brăila\, Brăila\, 810026\, România
CATEGORIES:Evenimente
ORGANIZER;CN="Biblioteca %E2%80%9CPanait Istrati%E2%80%9D Braila":MAILTO:bjpi@bjbraila.ro
END:VEVENT
BEGIN:VEVENT
DTSTART;TZID=Europe/Moscow:20250524T100000
DTEND;TZID=Europe/Moscow:20250524T120000
DTSTAMP:20260421T030129
CREATED:20250519T061942Z
LAST-MODIFIED:20250519T061942Z
UID:9271-1748080800-1748088000@www.bjbraila.ro
SUMMARY:File din cartea naturii
DESCRIPTION:File din cartea naturii \n\ncoordonator: Irina Ispas;\nlocația: Centrul de instruire\, etajul 3;\nora: 10.00 – 12.00;\natelier adresat copiilor cu vârsta cuprinsă între 8 și 10 ani;\ndetalii: 0239 611 292
URL:https://www.bjbraila.ro/eveniment/file-din-cartea-naturii-2/
LOCATION:Biblioteca “Panait Istrati” Braila\, Piața Poligon nr. 4\, Brăila\, Brăila\, 810026\, România
CATEGORIES:Evenimente
ORGANIZER;CN="Biblioteca %E2%80%9CPanait Istrati%E2%80%9D Braila":MAILTO:bjpi@bjbraila.ro
END:VEVENT
BEGIN:VEVENT
DTSTART;TZID=Europe/Moscow:20250524T100000
DTEND;TZID=Europe/Moscow:20250524T120000
DTSTAMP:20260421T030129
CREATED:20250519T062023Z
LAST-MODIFIED:20250519T062023Z
UID:9273-1748080800-1748088000@www.bjbraila.ro
SUMMARY:Niciodată Singuri
DESCRIPTION:Niciodată Singuri \n\ncoordonator: Alina Crețu;\nlocația: sala Dunărea;\nora: 10.00 – 12.00;\natelier adresat seniorilor;\ndetalii: 0239 611 292
URL:https://www.bjbraila.ro/eveniment/niciodata-singuri-4/
LOCATION:Biblioteca “Panait Istrati” Braila\, Piața Poligon nr. 4\, Brăila\, Brăila\, 810026\, România
CATEGORIES:Evenimente
ORGANIZER;CN="Biblioteca %E2%80%9CPanait Istrati%E2%80%9D Braila":MAILTO:bjpi@bjbraila.ro
END:VEVENT
BEGIN:VEVENT
DTSTART;TZID=Europe/Moscow:20250524T110000
DTEND;TZID=Europe/Moscow:20250524T130000
DTSTAMP:20260421T030129
CREATED:20250519T062104Z
LAST-MODIFIED:20250519T062104Z
UID:9275-1748084400-1748091600@www.bjbraila.ro
SUMMARY:Nino Nino
DESCRIPTION:Nino Nino \n\ncoordonator: Lică Barbu;\nlocația: sala Panait Istrati\, etajul 3;\nora: 11.00 – 13.00\ndetalii: 0239 611 292
URL:https://www.bjbraila.ro/eveniment/nino-nino-4/
LOCATION:Biblioteca “Panait Istrati” Braila\, Piața Poligon nr. 4\, Brăila\, Brăila\, 810026\, România
CATEGORIES:Evenimente
ORGANIZER;CN="Biblioteca %E2%80%9CPanait Istrati%E2%80%9D Braila":MAILTO:bjpi@bjbraila.ro
END:VEVENT
BEGIN:VEVENT
DTSTART;TZID=Europe/Moscow:20250526T080000
DTEND;TZID=Europe/Moscow:20250526T160000
DTSTAMP:20260421T030129
CREATED:20250521T085859Z
LAST-MODIFIED:20250521T085859Z
UID:9300-1748246400-1748275200@www.bjbraila.ro
SUMMARY:Club robotică
DESCRIPTION:Club robotică \n\ncoordonator: Silviu Gheorghe;\nlocația: Makerspace\, etajul 1;\nora: 08.00 – 16.00;\natelier adresat tinerilor cu vârsta cuprinsă între 14 și 19 ani;\ndetalii: 0239 611 292
URL:https://www.bjbraila.ro/eveniment/club-robotica-34/
LOCATION:Biblioteca “Panait Istrati” Braila\, Piața Poligon nr. 4\, Brăila\, Brăila\, 810026\, România
CATEGORIES:Evenimente
ORGANIZER;CN="Biblioteca %E2%80%9CPanait Istrati%E2%80%9D Braila":MAILTO:bjpi@bjbraila.ro
END:VEVENT
BEGIN:VEVENT
DTSTART;TZID=Europe/Moscow:20250526T140000
DTEND;TZID=Europe/Moscow:20250526T160000
DTSTAMP:20260421T030129
CREATED:20250521T092908Z
LAST-MODIFIED:20250521T092908Z
UID:9317-1748268000-1748275200@www.bjbraila.ro
SUMMARY:Engleză pentru copiii ucraineni
DESCRIPTION:Limba engleză pentru copiii ucraineni \n\ncoordonator: Cătălin Râșnoveanu;\nlocația: Centrul Multicultural;\nora: 14.00 – 16.00;\natelier adresat copiilor cu vârsta cuprinsă între 7 și 10 ani;\ndetalii: 0239 611 292
URL:https://www.bjbraila.ro/eveniment/engleza-pentru-copiii-ucraineni/
LOCATION:Biblioteca “Panait Istrati” Braila\, Piața Poligon nr. 4\, Brăila\, Brăila\, 810026\, România
CATEGORIES:Evenimente
ORGANIZER;CN="Biblioteca %E2%80%9CPanait Istrati%E2%80%9D Braila":MAILTO:bjpi@bjbraila.ro
END:VEVENT
BEGIN:VEVENT
DTSTART;TZID=Europe/Moscow:20250526T170000
DTEND;TZID=Europe/Moscow:20250526T180000
DTSTAMP:20260421T030129
CREATED:20250521T091739Z
LAST-MODIFIED:20250521T092157Z
UID:9313-1748278800-1748282400@www.bjbraila.ro
SUMMARY:Engleza de la zero
DESCRIPTION:Engleza de la zero \n\ncoordonator: Violeta Eftime;\nlocația: Centrul de instruire\, etajul 3;\nora: 17.00 – 18.00;\natelier adresat persoanelor adulte;\ndetalii: 0239 611 292
URL:https://www.bjbraila.ro/eveniment/engleza-de-la-zero-12/
LOCATION:Biblioteca “Panait Istrati” Braila\, Piața Poligon nr. 4\, Brăila\, Brăila\, 810026\, România
CATEGORIES:Evenimente
ORGANIZER;CN="Biblioteca %E2%80%9CPanait Istrati%E2%80%9D Braila":MAILTO:bjpi@bjbraila.ro
END:VEVENT
BEGIN:VEVENT
DTSTART;TZID=Europe/Moscow:20250526T170000
DTEND;TZID=Europe/Moscow:20250526T190000
DTSTAMP:20260421T030129
CREATED:20250521T092445Z
LAST-MODIFIED:20250521T092445Z
UID:9315-1748278800-1748286000@www.bjbraila.ro
SUMMARY:Alcoolicii Anonimi
DESCRIPTION:Alcoolicii Anonimi \n\nlocația: sala Panait Istrati\, etajul 3;\nora: 17.00 – 19.00;\ndetalii: 0239 611 292
URL:https://www.bjbraila.ro/eveniment/alcoolicii-anonimi-11/
LOCATION:Biblioteca “Panait Istrati” Braila\, Piața Poligon nr. 4\, Brăila\, Brăila\, 810026\, România
CATEGORIES:Evenimente
ORGANIZER;CN="Biblioteca %E2%80%9CPanait Istrati%E2%80%9D Braila":MAILTO:bjpi@bjbraila.ro
END:VEVENT
END:VCALENDAR