BEGIN:VCALENDAR
VERSION:2.0
PRODID:-//bjbraila.ro - ECPv6.15.20//NONSGML v1.0//EN
CALSCALE:GREGORIAN
METHOD:PUBLISH
X-WR-CALNAME:bjbraila.ro
X-ORIGINAL-URL:https://www.bjbraila.ro
X-WR-CALDESC:Evenimente pentru bjbraila.ro
REFRESH-INTERVAL;VALUE=DURATION:PT1H
X-Robots-Tag:noindex
X-PUBLISHED-TTL:PT1H
BEGIN:VTIMEZONE
TZID:Europe/Moscow
BEGIN:STANDARD
TZOFFSETFROM:+0300
TZOFFSETTO:+0300
TZNAME:MSK
DTSTART:20240101T000000
END:STANDARD
END:VTIMEZONE
BEGIN:VEVENT
DTSTART;TZID=Europe/Moscow:20250613T080000
DTEND;TZID=Europe/Moscow:20250613T160000
DTSTAMP:20260421T080731
CREATED:20250610T084758Z
LAST-MODIFIED:20250610T084758Z
UID:9394-1749801600-1749830400@www.bjbraila.ro
SUMMARY:Club Robotică
DESCRIPTION:Club Robotică\, Makerspace\, ora 8-16
URL:https://www.bjbraila.ro/eveniment/club-robotica-42/
LOCATION:Brăila
CATEGORIES:Evenimente
END:VEVENT
BEGIN:VEVENT
DTSTART;TZID=Europe/Moscow:20250613T150000
DTEND;TZID=Europe/Moscow:20250613T170000
DTSTAMP:20260421T080731
CREATED:20250610T084930Z
LAST-MODIFIED:20250610T084931Z
UID:9400-1749826800-1749834000@www.bjbraila.ro
SUMMARY:CodeKids
DESCRIPTION:CodeKids\, Centrul de Instruire\, ora 15-17
URL:https://www.bjbraila.ro/eveniment/codekids-7/
LOCATION:Brăila
CATEGORIES:Evenimente
END:VEVENT
BEGIN:VEVENT
DTSTART;TZID=Europe/Moscow:20250613T170000
DTEND;TZID=Europe/Moscow:20250613T180000
DTSTAMP:20260421T080731
CREATED:20250610T084851Z
LAST-MODIFIED:20250610T084852Z
UID:9397-1749834000-1749837600@www.bjbraila.ro
SUMMARY:Engleza pentru adulți
DESCRIPTION:Engleza pentru adulți\, Centrul Multicultural\, ora 17-18
URL:https://www.bjbraila.ro/eveniment/engleza-pentru-adulti-3/
LOCATION:Brăila
CATEGORIES:Evenimente
END:VEVENT
BEGIN:VEVENT
DTSTART;TZID=Europe/Moscow:20250614T080000
DTEND;TZID=Europe/Moscow:20250614T160000
DTSTAMP:20260421T080731
CREATED:20250610T085354Z
LAST-MODIFIED:20250610T085354Z
UID:9408-1749888000-1749916800@www.bjbraila.ro
SUMMARY:Club Robotică
DESCRIPTION:Club Robotică\, Makerspace\, ora 12-16
URL:https://www.bjbraila.ro/eveniment/club-robotica-43/
LOCATION:Brăila
CATEGORIES:Evenimente
END:VEVENT
BEGIN:VEVENT
DTSTART;TZID=Europe/Moscow:20250614T100000
DTEND;TZID=Europe/Moscow:20250614T120000
DTSTAMP:20260421T080731
CREATED:20250610T085042Z
LAST-MODIFIED:20250610T085256Z
UID:9403-1749895200-1749902400@www.bjbraila.ro
SUMMARY:Niciodată Singur
DESCRIPTION:Niciodată Singur – activități seniori\, sala Dunărea\, ora 10-12
URL:https://www.bjbraila.ro/eveniment/niciodata-singur/
LOCATION:Brăila
CATEGORIES:Evenimente
END:VEVENT
BEGIN:VEVENT
DTSTART;TZID=Europe/Moscow:20250614T103000
DTEND;TZID=Europe/Moscow:20250614T120000
DTSTAMP:20260421T080731
CREATED:20250610T085159Z
LAST-MODIFIED:20250610T085159Z
UID:9405-1749897000-1749902400@www.bjbraila.ro
SUMMARY:Atelierul de Grafică pentru copii
DESCRIPTION:Atelierul de Grafică\, Mediatecă\, ora 10.30-12
URL:https://www.bjbraila.ro/eveniment/atelierul-de-grafica-pentru-copii/
LOCATION:Brăila
CATEGORIES:Evenimente
END:VEVENT
BEGIN:VEVENT
DTSTART;TZID=Europe/Moscow:20250614T110000
DTEND;TZID=Europe/Moscow:20250614T130000
DTSTAMP:20260421T080731
CREATED:20250610T085500Z
LAST-MODIFIED:20250610T085500Z
UID:9411-1749898800-1749906000@www.bjbraila.ro
SUMMARY:Nino Nino\, grup artistic pentru copii
DESCRIPTION:Nino Nino\, sala Panait Istrati\, ora 11-13 \n 
URL:https://www.bjbraila.ro/eveniment/nino-nino-grup-artistic-pentru-copii/
LOCATION:Brăila
CATEGORIES:Evenimente
END:VEVENT
BEGIN:VEVENT
DTSTART;TZID=Europe/Moscow:20250616T080000
DTEND;TZID=Europe/Moscow:20250616T160000
DTSTAMP:20260421T080731
CREATED:20250616T062218Z
LAST-MODIFIED:20250616T062218Z
UID:9418-1750060800-1750089600@www.bjbraila.ro
SUMMARY:Club Robotică
DESCRIPTION:Club Robotică\, Makerspace\, ora 8-16
URL:https://www.bjbraila.ro/eveniment/club-robotica-44/
LOCATION:Brăila
CATEGORIES:Evenimente
END:VEVENT
BEGIN:VEVENT
DTSTART;TZID=Europe/Moscow:20250616T140000
DTEND;TZID=Europe/Moscow:20250616T150000
DTSTAMP:20260421T080731
CREATED:20250616T062312Z
LAST-MODIFIED:20250616T062312Z
UID:9421-1750082400-1750086000@www.bjbraila.ro
SUMMARY:Să scriem și să citim corect românește
DESCRIPTION:Să scriem și să citim corect românește\, Centrul Multicultural\, ora 14-15
URL:https://www.bjbraila.ro/eveniment/sa-scriem-si-sa-citim-corect-romaneste-3/
LOCATION:Brăila
CATEGORIES:Evenimente
END:VEVENT
BEGIN:VEVENT
DTSTART;TZID=Europe/Moscow:20250616T140000
DTEND;TZID=Europe/Moscow:20250616T160000
DTSTAMP:20260421T080731
CREATED:20250616T062555Z
LAST-MODIFIED:20250616T062555Z
UID:9423-1750082400-1750089600@www.bjbraila.ro
SUMMARY:Engleza pentru copiii ucraineni
DESCRIPTION:Engleza pentru copiii ucraineni\, Centrul Multicultural\, ora 14-16
URL:https://www.bjbraila.ro/eveniment/engleza-pentru-copiii-ucraineni-2/
LOCATION:Brăila
CATEGORIES:Evenimente
END:VEVENT
BEGIN:VEVENT
DTSTART;TZID=Europe/Moscow:20250616T150000
DTEND;TZID=Europe/Moscow:20250616T170000
DTSTAMP:20260421T080731
CREATED:20250616T063852Z
LAST-MODIFIED:20250616T063852Z
UID:9452-1750086000-1750093200@www.bjbraila.ro
SUMMARY:CodeKids
DESCRIPTION:CodeKids\, Centrul de Instruire\, ora 15-17
URL:https://www.bjbraila.ro/eveniment/codekids-8/
LOCATION:Brăila
CATEGORIES:Evenimente
END:VEVENT
BEGIN:VEVENT
DTSTART;TZID=Europe/Moscow:20250616T170000
DTEND;TZID=Europe/Moscow:20250616T180000
DTSTAMP:20260421T080731
CREATED:20250616T062857Z
LAST-MODIFIED:20250616T062857Z
UID:9425-1750093200-1750096800@www.bjbraila.ro
SUMMARY:Engleza de la zero
DESCRIPTION:Engleza de la zero\, Centrul de Instruire\, ora 17-18
URL:https://www.bjbraila.ro/eveniment/engleza-de-la-zero-18/
LOCATION:Brăila
CATEGORIES:Evenimente
END:VEVENT
BEGIN:VEVENT
DTSTART;TZID=Europe/Moscow:20250617T080000
DTEND;TZID=Europe/Moscow:20250617T160000
DTSTAMP:20260421T080731
CREATED:20250616T062955Z
LAST-MODIFIED:20250616T062955Z
UID:9427-1750147200-1750176000@www.bjbraila.ro
SUMMARY:Club Robotică
DESCRIPTION:Club Robotică\, Makerspace\, ora 8-16
URL:https://www.bjbraila.ro/eveniment/club-robotica-45/
LOCATION:Brăila
CATEGORIES:Evenimente
END:VEVENT
BEGIN:VEVENT
DTSTART;TZID=Europe/Moscow:20250617T140000
DTEND;TZID=Europe/Moscow:20250617T160000
DTSTAMP:20260421T080731
CREATED:20250616T063118Z
LAST-MODIFIED:20250616T063118Z
UID:9430-1750168800-1750176000@www.bjbraila.ro
SUMMARY:Arta lumii
DESCRIPTION:Arta lumii\, Mediatecă\, ora 14-16
URL:https://www.bjbraila.ro/eveniment/arta-lumii-7/
LOCATION:Brăila
CATEGORIES:Evenimente
END:VEVENT
BEGIN:VEVENT
DTSTART;TZID=Europe/Moscow:20250617T170000
DTEND;TZID=Europe/Moscow:20250617T180000
DTSTAMP:20260421T080731
CREATED:20250613T094120Z
LAST-MODIFIED:20250613T094120Z
UID:9414-1750179600-1750183200@www.bjbraila.ro
SUMMARY:Festivalul-concurs „CDIdei în cărți” își premiază participanții!
DESCRIPTION:Marți\, 17 iunie 2025\, începând cu ora 17.00\, la Sala de Lectură a Bibliotecii va avea loc festivitatea de premiere a elevilor care s-au remarcat prin creativitate în cadrul etapei județene a festivalului.\nEvenimentul „CDIdei în cărți” este organizat la Brăila de Centrul Județean de Excelență\, coordonat de prof. dr. Ștefan Aftodor.
URL:https://www.bjbraila.ro/eveniment/festivalul-concurs-cdidei-in-carti-isi-premiaza-participantii/
LOCATION:Brăila
CATEGORIES:Evenimente
ATTACH;FMTTYPE=image/jpeg:https://www.bjbraila.ro/wp-content/uploads/2025/06/premiere-CD-idei.jpg
END:VEVENT
BEGIN:VEVENT
DTSTART;TZID=Europe/Moscow:20250618T080000
DTEND;TZID=Europe/Moscow:20250618T160000
DTSTAMP:20260421T080731
CREATED:20250616T063251Z
LAST-MODIFIED:20250616T063251Z
UID:9433-1750233600-1750262400@www.bjbraila.ro
SUMMARY:Club Robotică
DESCRIPTION:Club Robotică\, Makerspace\, ora 8-16
URL:https://www.bjbraila.ro/eveniment/club-robotica-46/
LOCATION:Brăila
CATEGORIES:Evenimente
END:VEVENT
BEGIN:VEVENT
DTSTART;TZID=Europe/Moscow:20250618T110000
DTEND;TZID=Europe/Moscow:20250618T120000
DTSTAMP:20260421T080731
CREATED:20250616T063354Z
LAST-MODIFIED:20250616T063355Z
UID:9435-1750244400-1750248000@www.bjbraila.ro
SUMMARY:Engleza de la zero
DESCRIPTION:Engleza de la zero\, Centrul de Instruire\, ora 11-12;17-18
URL:https://www.bjbraila.ro/eveniment/engleza-de-la-zero-19/
LOCATION:Brăila
CATEGORIES:Evenimente
END:VEVENT
BEGIN:VEVENT
DTSTART;TZID=Europe/Moscow:20250619T080000
DTEND;TZID=Europe/Moscow:20250619T160000
DTSTAMP:20260421T080731
CREATED:20250616T063445Z
LAST-MODIFIED:20250616T063445Z
UID:9437-1750320000-1750348800@www.bjbraila.ro
SUMMARY:Club Robotică
DESCRIPTION:Club Robotică\, Makerspace\, ora 8-16
URL:https://www.bjbraila.ro/eveniment/club-robotica-47/
LOCATION:Brăila
CATEGORIES:Evenimente
END:VEVENT
BEGIN:VEVENT
DTSTART;TZID=Europe/Moscow:20250619T113000
DTEND;TZID=Europe/Moscow:20250619T130000
DTSTAMP:20260421T080731
CREATED:20250616T063542Z
LAST-MODIFIED:20250616T063543Z
UID:9441-1750332600-1750338000@www.bjbraila.ro
SUMMARY:Filmul de Joi
DESCRIPTION:Filmul de Joi\, Mediatecă\, ora 11.30-13
URL:https://www.bjbraila.ro/eveniment/filmul-de-joi-7/
LOCATION:Brăila
CATEGORIES:Evenimente
END:VEVENT
BEGIN:VEVENT
DTSTART;TZID=Europe/Moscow:20250619T170000
DTEND;TZID=Europe/Moscow:20250619T190000
DTSTAMP:20260421T080731
CREATED:20250616T063637Z
LAST-MODIFIED:20250616T063637Z
UID:9444-1750352400-1750359600@www.bjbraila.ro
SUMMARY:Alcoolicii Anonimi
DESCRIPTION:Alcoolicii Anonimi\, sala Panait Istrati\, ora 17-19
URL:https://www.bjbraila.ro/eveniment/alcoolicii-anonimi-14/
LOCATION:Brăila
CATEGORIES:Evenimente
END:VEVENT
BEGIN:VEVENT
DTSTART;TZID=Europe/Moscow:20250619T170000
DTEND;TZID=Europe/Moscow:20250619T190000
DTSTAMP:20260421T080731
CREATED:20250617T102453Z
LAST-MODIFIED:20250617T105022Z
UID:9461-1750352400-1750359600@www.bjbraila.ro
SUMMARY:Lansare cărți Editura TipoMoldova
DESCRIPTION:Joi\, 19 iunie\, de la ora 17.00\, are loc la sediul Bibliotecii Județene „Panait Istrati” Brăila evenimentul de lansare a ultimelor apariții de la Editura TipoMoldova Iași.\nPrezintă: Aurel Ștefanachi\, directorul editurii.\nModerează: dr. Claudiu Eduard Brăileanu\, șef serviciu în cadrul bibliotecii.\nVă așteptăm la sala Fănuș Neagu\, intrarea este liberă!
URL:https://www.bjbraila.ro/eveniment/lansare-carti-editura-tipomoldova/
LOCATION:Biblioteca “Panait Istrati” Braila\, Piața Poligon nr. 4\, Brăila\, Brăila\, 810026\, România
CATEGORIES:Lansare de carte
ATTACH;FMTTYPE=image/jpeg:https://www.bjbraila.ro/wp-content/uploads/2025/06/TipoMoldova-lansare.jpg
END:VEVENT
BEGIN:VEVENT
DTSTART;TZID=Europe/Moscow:20250620T080000
DTEND;TZID=Europe/Moscow:20250620T160000
DTSTAMP:20260421T080731
CREATED:20250616T063722Z
LAST-MODIFIED:20250616T063722Z
UID:9446-1750406400-1750435200@www.bjbraila.ro
SUMMARY:Club Robotică
DESCRIPTION:Club Robotică\, Makerspace\, ora 8-16
URL:https://www.bjbraila.ro/eveniment/club-robotica-48/
LOCATION:Brăila
CATEGORIES:Evenimente
END:VEVENT
BEGIN:VEVENT
DTSTART;TZID=Europe/Moscow:20250620T160000
DTEND;TZID=Europe/Moscow:20250620T180000
DTSTAMP:20260421T080731
CREATED:20250616T063807Z
LAST-MODIFIED:20250616T063808Z
UID:9449-1750435200-1750442400@www.bjbraila.ro
SUMMARY:Engleza pentru adulți
DESCRIPTION:Engleza pentru adulți\, Centrul Multicultural\, ora 16-18
URL:https://www.bjbraila.ro/eveniment/engleza-pentru-adulti-4/
LOCATION:Brăila
CATEGORIES:Evenimente
END:VEVENT
BEGIN:VEVENT
DTSTART;TZID=Europe/Moscow:20250620T160000
DTEND;TZID=Europe/Moscow:20250620T180000
DTSTAMP:20260421T080731
CREATED:20250616T063950Z
LAST-MODIFIED:20250616T063951Z
UID:9455-1750435200-1750442400@www.bjbraila.ro
SUMMARY:Cenaclul literar Alter Ego
DESCRIPTION:Cenaclul Alter Ego\, sala Panait Istrati\, ora 16-18 \n 
URL:https://www.bjbraila.ro/eveniment/cenaclul-literar-alter-ego-2/
LOCATION:Brăila
CATEGORIES:Evenimente
END:VEVENT
BEGIN:VEVENT
DTSTART;TZID=Europe/Moscow:20250621T080000
DTEND;TZID=Europe/Moscow:20250621T160000
DTSTAMP:20260421T080731
CREATED:20250616T064148Z
LAST-MODIFIED:20250616T064148Z
UID:9459-1750492800-1750521600@www.bjbraila.ro
SUMMARY:Club Robotică
DESCRIPTION:Club Robotică\, Makerspace\, ora 8-16
URL:https://www.bjbraila.ro/eveniment/club-robotica-49/
LOCATION:Brăila
CATEGORIES:Evenimente
END:VEVENT
BEGIN:VEVENT
DTSTART;TZID=Europe/Moscow:20250621T100000
DTEND;TZID=Europe/Moscow:20250621T120000
DTSTAMP:20260421T080731
CREATED:20250616T064042Z
LAST-MODIFIED:20250616T064042Z
UID:9457-1750500000-1750507200@www.bjbraila.ro
SUMMARY:Niciodată Singuri - activități seniori
DESCRIPTION:Niciodată Singuri – activități seniori\, sala Dunărea\, ora 10-12
URL:https://www.bjbraila.ro/eveniment/niciodata-singuri-activitati-seniori/
LOCATION:Brăila
CATEGORIES:Evenimente
END:VEVENT
BEGIN:VEVENT
DTSTART;TZID=Europe/Moscow:20250623T090000
DTEND;TZID=Europe/Moscow:20250623T100000
DTSTAMP:20260421T080731
CREATED:20250623T075455Z
LAST-MODIFIED:20250623T080648Z
UID:9478-1750669200-1750672800@www.bjbraila.ro
SUMMARY:Atelier de Caligrafie
DESCRIPTION:Atelier: Caligrafie \nCoordonator: FLORICĂ Ana-Maria; \nLocație: Centrul Multicultural
URL:https://www.bjbraila.ro/eveniment/atelier-de-caligrafie/
LOCATION:Biblioteca “Panait Istrati” Braila\, Piața Poligon nr. 4\, Brăila\, Brăila\, 810026\, România
CATEGORIES:Evenimente
END:VEVENT
BEGIN:VEVENT
DTSTART;TZID=Europe/Moscow:20250623T090000
DTEND;TZID=Europe/Moscow:20250623T103000
DTSTAMP:20260421T080731
CREATED:20250623T075633Z
LAST-MODIFIED:20250623T081104Z
UID:9480-1750669200-1750674600@www.bjbraila.ro
SUMMARY:Creativ Kids
DESCRIPTION:Atelier: Creativ Kids \nCoordonatori: LALU Doina\, LUNGU Mihaela \nLocație: Sala Dunărea
URL:https://www.bjbraila.ro/eveniment/creativ-kids/
LOCATION:Biblioteca “Panait Istrati” Braila\, Piața Poligon nr. 4\, Brăila\, Brăila\, 810026\, România
CATEGORIES:Evenimente
END:VEVENT
BEGIN:VEVENT
DTSTART;TZID=Europe/Moscow:20250623T100000
DTEND;TZID=Europe/Moscow:20250623T120000
DTSTAMP:20260421T080731
CREATED:20250623T075009Z
LAST-MODIFIED:20250624T053427Z
UID:9474-1750672800-1750680000@www.bjbraila.ro
SUMMARY:Atelier de reparat biciclete
DESCRIPTION:Atelier de reparat biciclete \nCoordonatori: GHEORGHE Silviu\, ONOFREI Laurian \nLocație:  Makerspace
URL:https://www.bjbraila.ro/eveniment/9474/
LOCATION:Biblioteca “Panait Istrati” Braila\, Piața Poligon nr. 4\, Brăila\, Brăila\, 810026\, România
CATEGORIES:Evenimente
END:VEVENT
BEGIN:VEVENT
DTSTART;TZID=Europe/Moscow:20250623T103000
DTEND;TZID=Europe/Moscow:20250623T113000
DTSTAMP:20260421T080731
CREATED:20250624T054521Z
LAST-MODIFIED:20250624T054521Z
UID:9530-1750674600-1750678200@www.bjbraila.ro
SUMMARY:Pictură pe sticlă
DESCRIPTION:Atelier: Pictură pe sticlă \nCoordonatori: Petrof Jeni\, Ștefu Gabriela\, Apostu Viorica; \nLocație: Ludotecă
URL:https://www.bjbraila.ro/eveniment/pictura-pe-sticla-2/
LOCATION:Biblioteca “Panait Istrati” Braila\, Piața Poligon nr. 4\, Brăila\, Brăila\, 810026\, România
END:VEVENT
END:VCALENDAR