BEGIN:VCALENDAR
VERSION:2.0
PRODID:-//bjbraila.ro - ECPv6.15.20//NONSGML v1.0//EN
CALSCALE:GREGORIAN
METHOD:PUBLISH
X-WR-CALNAME:bjbraila.ro
X-ORIGINAL-URL:https://www.bjbraila.ro
X-WR-CALDESC:Evenimente pentru bjbraila.ro
REFRESH-INTERVAL;VALUE=DURATION:PT1H
X-Robots-Tag:noindex
X-PUBLISHED-TTL:PT1H
BEGIN:VTIMEZONE
TZID:Europe/Moscow
BEGIN:STANDARD
TZOFFSETFROM:+0300
TZOFFSETTO:+0300
TZNAME:MSK
DTSTART:20240101T000000
END:STANDARD
END:VTIMEZONE
BEGIN:VEVENT
DTSTART;TZID=Europe/Moscow:20250714T090000
DTEND;TZID=Europe/Moscow:20250714T110000
DTSTAMP:20260422T014859
CREATED:20250711T054223Z
LAST-MODIFIED:20250711T083749Z
UID:9739-1752483600-1752490800@www.bjbraila.ro
SUMMARY:Arta vorbirii corecte
DESCRIPTION:Atelier: Arta vorbirii corecte \nCoordonator: Maria Denisa Frățilă \nLocația: sala Fănuș Neagu\, etajul 3
URL:https://www.bjbraila.ro/eveniment/arta-vorbirii-corecte/
LOCATION:Biblioteca “Panait Istrati” Braila\, Piața Poligon nr. 4\, Brăila\, Brăila\, 810026\, România
END:VEVENT
BEGIN:VEVENT
DTSTART;TZID=Europe/Moscow:20250714T103000
DTEND;TZID=Europe/Moscow:20250714T120000
DTSTAMP:20260422T014859
CREATED:20250711T055551Z
LAST-MODIFIED:20250711T055551Z
UID:9749-1752489000-1752494400@www.bjbraila.ro
SUMMARY:Atelier de pictură
DESCRIPTION:Atelier de pictură \nCoordonatori: Steluța Buzdugan\, Irina Ene\, Denisa Lilof \nLocația: Mediatecă\, parter
URL:https://www.bjbraila.ro/eveniment/atelier-de-pictura/
LOCATION:Biblioteca “Panait Istrati” Braila\, Piața Poligon nr. 4\, Brăila\, Brăila\, 810026\, România
END:VEVENT
BEGIN:VEVENT
DTSTART;TZID=Europe/Moscow:20250714T103000
DTEND;TZID=Europe/Moscow:20250714T120000
DTSTAMP:20260422T014859
CREATED:20250711T060155Z
LAST-MODIFIED:20250711T060155Z
UID:9759-1752489000-1752494400@www.bjbraila.ro
SUMMARY:Călători prin file de poveste
DESCRIPTION:Atelier: Călători prin file de poveste \nCoordonator: Roxana Neagu \nLocația: Centrul de instruire\, etajul 3
URL:https://www.bjbraila.ro/eveniment/calatori-prin-file-de-poveste/
LOCATION:Biblioteca “Panait Istrati” Braila\, Piața Poligon nr. 4\, Brăila\, Brăila\, 810026\, România
END:VEVENT
BEGIN:VEVENT
DTSTART;TZID=Europe/Moscow:20250714T110000
DTEND;TZID=Europe/Moscow:20250714T120000
DTSTAMP:20260422T014859
CREATED:20250711T060741Z
LAST-MODIFIED:20250711T084133Z
UID:9770-1752490800-1752494400@www.bjbraila.ro
SUMMARY:Filozofie pentru pici
DESCRIPTION:Atelier: Filozofie pentru pici \nCoordonator: Oana Ghetu\, Mihnea Popoacă\, Vlad Popa \nLocația: sala Fănuș Neagu\, etajul 3
URL:https://www.bjbraila.ro/eveniment/filozofie-pentru-pici/
LOCATION:Biblioteca “Panait Istrati” Braila\, Piața Poligon nr. 4\, Brăila\, Brăila\, 810026\, România
END:VEVENT
BEGIN:VEVENT
DTSTART;TZID=Europe/Moscow:20250715T090000
DTEND;TZID=Europe/Moscow:20250715T110000
DTSTAMP:20260422T014859
CREATED:20250711T054930Z
LAST-MODIFIED:20250711T083856Z
UID:9741-1752570000-1752577200@www.bjbraila.ro
SUMMARY:Arta vorbirii corecte
DESCRIPTION:Atelier: Arta vorbirii corecte \nCoordonator: Maria Denisa Frățilă \nLocația: sala Fănuș Neagu\, etajul 3
URL:https://www.bjbraila.ro/eveniment/arta-vorbirii-corecte-2/
LOCATION:Biblioteca “Panait Istrati” Braila\, Piața Poligon nr. 4\, Brăila\, Brăila\, 810026\, România
END:VEVENT
BEGIN:VEVENT
DTSTART;TZID=Europe/Moscow:20250715T103000
DTEND;TZID=Europe/Moscow:20250715T120000
DTSTAMP:20260422T014859
CREATED:20250711T055729Z
LAST-MODIFIED:20250711T055729Z
UID:9751-1752575400-1752580800@www.bjbraila.ro
SUMMARY:Atelier de pictură
DESCRIPTION:Atelier de pictură \nCoordonatori: Steluța Buzdugan\, Irina Ene\, Denisa Lilof \nLocația: Mediatecă\, parter
URL:https://www.bjbraila.ro/eveniment/atelier-de-pictura-2/
LOCATION:Biblioteca “Panait Istrati” Braila\, Piața Poligon nr. 4\, Brăila\, Brăila\, 810026\, România
END:VEVENT
BEGIN:VEVENT
DTSTART;TZID=Europe/Moscow:20250715T103000
DTEND;TZID=Europe/Moscow:20250715T120000
DTSTAMP:20260422T014859
CREATED:20250711T060308Z
LAST-MODIFIED:20250711T060308Z
UID:9761-1752575400-1752580800@www.bjbraila.ro
SUMMARY:Călători prin file de poveste
DESCRIPTION:Atelier: Călători prin file de poveste \nCoordonator: Roxana Neagu \nLocația: Centrul de instruire\, etajul 3
URL:https://www.bjbraila.ro/eveniment/calatori-prin-file-de-poveste-2/
LOCATION:Biblioteca “Panait Istrati” Braila\, Piața Poligon nr. 4\, Brăila\, Brăila\, 810026\, România
END:VEVENT
BEGIN:VEVENT
DTSTART;TZID=Europe/Moscow:20250715T110000
DTEND;TZID=Europe/Moscow:20250715T120000
DTSTAMP:20260422T014859
CREATED:20250711T060826Z
LAST-MODIFIED:20250711T084151Z
UID:9772-1752577200-1752580800@www.bjbraila.ro
SUMMARY:Filozofie pentru pici
DESCRIPTION:Atelier: Filozofie pentru pici \nCoordonator: Oana Ghetu\, Mihnea Popoacă\, Vlad Popa \nLocația: sala Fănuș Neagu\, etajul 3
URL:https://www.bjbraila.ro/eveniment/filozofie-pentru-pici-2/
LOCATION:Biblioteca “Panait Istrati” Braila\, Piața Poligon nr. 4\, Brăila\, Brăila\, 810026\, România
END:VEVENT
BEGIN:VEVENT
DTSTART;TZID=Europe/Moscow:20250716T090000
DTEND;TZID=Europe/Moscow:20250716T110000
DTSTAMP:20260422T014859
CREATED:20250711T055053Z
LAST-MODIFIED:20250711T083927Z
UID:9743-1752656400-1752663600@www.bjbraila.ro
SUMMARY:Arta vorbirii corecte
DESCRIPTION:Atelier: Arta vorbirii corecte \nCoordonator: Maria Denisa Frățilă \nLocația: sala Fănuș Neagu\, etajul 3
URL:https://www.bjbraila.ro/eveniment/arta-vorbirii-corecte-3/
LOCATION:Biblioteca “Panait Istrati” Braila\, Piața Poligon nr. 4\, Brăila\, Brăila\, 810026\, România
END:VEVENT
BEGIN:VEVENT
DTSTART;TZID=Europe/Moscow:20250716T103000
DTEND;TZID=Europe/Moscow:20250716T120000
DTSTAMP:20260422T014859
CREATED:20250711T055824Z
LAST-MODIFIED:20250711T055824Z
UID:9753-1752661800-1752667200@www.bjbraila.ro
SUMMARY:Atelier de pictură
DESCRIPTION:Atelier de pictură \nCoordonatori: Steluța Buzdugan\, Irina Ene\, Denisa Lilof \nLocația: Mediatecă\, parter
URL:https://www.bjbraila.ro/eveniment/atelier-de-pictura-3/
LOCATION:Biblioteca “Panait Istrati” Braila\, Piața Poligon nr. 4\, Brăila\, Brăila\, 810026\, România
END:VEVENT
BEGIN:VEVENT
DTSTART;TZID=Europe/Moscow:20250716T103000
DTEND;TZID=Europe/Moscow:20250716T120000
DTSTAMP:20260422T014859
CREATED:20250711T060409Z
LAST-MODIFIED:20250711T060409Z
UID:9763-1752661800-1752667200@www.bjbraila.ro
SUMMARY:Călători prin file de poveste
DESCRIPTION:Atelier: Călători prin file de poveste \nCoordonator: Roxana Neagu \nLocația: Centrul de instruire\, etajul 3
URL:https://www.bjbraila.ro/eveniment/calatori-prin-file-de-poveste-3/
LOCATION:Biblioteca “Panait Istrati” Braila\, Piața Poligon nr. 4\, Brăila\, Brăila\, 810026\, România
END:VEVENT
BEGIN:VEVENT
DTSTART;TZID=Europe/Moscow:20250716T110000
DTEND;TZID=Europe/Moscow:20250716T120000
DTSTAMP:20260422T014859
CREATED:20250711T060915Z
LAST-MODIFIED:20250711T084206Z
UID:9774-1752663600-1752667200@www.bjbraila.ro
SUMMARY:Filozofie pentru pici
DESCRIPTION:Atelier: Filozofie pentru pici \nCoordonator: Oana Ghetu\, Mihnea Popoacă\, Vlad Popa \nLocația: sala Fănuș Neagu\, etajul 3
URL:https://www.bjbraila.ro/eveniment/filozofie-pentru-pici-3/
LOCATION:Biblioteca “Panait Istrati” Braila\, Piața Poligon nr. 4\, Brăila\, Brăila\, 810026\, România
END:VEVENT
BEGIN:VEVENT
DTSTART;TZID=Europe/Moscow:20250717T090000
DTEND;TZID=Europe/Moscow:20250717T110000
DTSTAMP:20260422T014859
CREATED:20250711T055136Z
LAST-MODIFIED:20250711T083936Z
UID:9745-1752742800-1752750000@www.bjbraila.ro
SUMMARY:Arta vorbirii corecte
DESCRIPTION:Atelier: Arta vorbirii corecte \nCoordonator: Maria Denisa Frățilă \nLocația: sala Fănuș Neagu\, etajul 3
URL:https://www.bjbraila.ro/eveniment/arta-vorbirii-corecte-4/
LOCATION:Biblioteca “Panait Istrati” Braila\, Piața Poligon nr. 4\, Brăila\, Brăila\, 810026\, România
END:VEVENT
BEGIN:VEVENT
DTSTART;TZID=Europe/Moscow:20250717T103000
DTEND;TZID=Europe/Moscow:20250717T120000
DTSTAMP:20260422T014859
CREATED:20250711T055925Z
LAST-MODIFIED:20250711T055925Z
UID:9755-1752748200-1752753600@www.bjbraila.ro
SUMMARY:Atelier de pictură
DESCRIPTION:Atelier de pictură \nCoordonatori: Steluța Buzdugan\, Irina Ene\, Denisa Lilof \nLocația: Mediatecă\, parter
URL:https://www.bjbraila.ro/eveniment/atelier-de-pictura-4/
LOCATION:Biblioteca “Panait Istrati” Braila\, Piața Poligon nr. 4\, Brăila\, Brăila\, 810026\, România
END:VEVENT
BEGIN:VEVENT
DTSTART;TZID=Europe/Moscow:20250717T103000
DTEND;TZID=Europe/Moscow:20250717T120000
DTSTAMP:20260422T014859
CREATED:20250711T060455Z
LAST-MODIFIED:20250711T060455Z
UID:9765-1752748200-1752753600@www.bjbraila.ro
SUMMARY:Călători prin file de poveste
DESCRIPTION:Atelier: Călători prin file de poveste \nCoordonator: Roxana Neagu \nLocația: Centrul de instruire\, etajul 3
URL:https://www.bjbraila.ro/eveniment/calatori-prin-file-de-poveste-4/
LOCATION:Biblioteca “Panait Istrati” Braila\, Piața Poligon nr. 4\, Brăila\, Brăila\, 810026\, România
END:VEVENT
BEGIN:VEVENT
DTSTART;TZID=Europe/Moscow:20250717T110000
DTEND;TZID=Europe/Moscow:20250717T120000
DTSTAMP:20260422T014859
CREATED:20250711T061152Z
LAST-MODIFIED:20250711T084220Z
UID:9776-1752750000-1752753600@www.bjbraila.ro
SUMMARY:Filozofie pentru pici
DESCRIPTION:Atelier: Filozofie pentru pici \nCoordonator: Oana Ghetu\, Mihnea Popoacă\, Vlad Popa \nLocația: sala Fănuș Neagu\, etajul 3
URL:https://www.bjbraila.ro/eveniment/filozofie-pentru-pici-4/
LOCATION:Biblioteca “Panait Istrati” Braila\, Piața Poligon nr. 4\, Brăila\, Brăila\, 810026\, România
END:VEVENT
BEGIN:VEVENT
DTSTART;TZID=Europe/Moscow:20250718T090000
DTEND;TZID=Europe/Moscow:20250718T110000
DTSTAMP:20260422T014859
CREATED:20250711T055243Z
LAST-MODIFIED:20250711T083956Z
UID:9747-1752829200-1752836400@www.bjbraila.ro
SUMMARY:Arta vorbirii corecte
DESCRIPTION:Atelier: Arta vorbirii corecte \nCoordonator: Maria Denisa Frățilă \nLocația: sala Fănuș Neagu\, etajul 3
URL:https://www.bjbraila.ro/eveniment/arta-vorbirii-corecte-5/
LOCATION:Biblioteca “Panait Istrati” Braila\, Piața Poligon nr. 4\, Brăila\, Brăila\, 810026\, România
END:VEVENT
BEGIN:VEVENT
DTSTART;TZID=Europe/Moscow:20250718T103000
DTEND;TZID=Europe/Moscow:20250718T120000
DTSTAMP:20260422T014859
CREATED:20250711T060015Z
LAST-MODIFIED:20250711T060015Z
UID:9757-1752834600-1752840000@www.bjbraila.ro
SUMMARY:Atelier de pictură
DESCRIPTION:Atelier de pictură \nCoordonatori: Steluța Buzdugan\, Irina Ene\, Denisa Lilof \nLocația: Mediatecă\, parter
URL:https://www.bjbraila.ro/eveniment/atelier-de-pictura-5/
LOCATION:Biblioteca “Panait Istrati” Braila\, Piața Poligon nr. 4\, Brăila\, Brăila\, 810026\, România
END:VEVENT
BEGIN:VEVENT
DTSTART;TZID=Europe/Moscow:20250718T103000
DTEND;TZID=Europe/Moscow:20250718T120000
DTSTAMP:20260422T014859
CREATED:20250711T060559Z
LAST-MODIFIED:20250711T060559Z
UID:9768-1752834600-1752840000@www.bjbraila.ro
SUMMARY:Călători prin file de poveste
DESCRIPTION:Atelier: Călători prin file de poveste \nCoordonator: Roxana Neagu \nLocația: Centrul de instruire\, etajul 3
URL:https://www.bjbraila.ro/eveniment/calatori-prin-file-de-poveste-5/
LOCATION:Biblioteca “Panait Istrati” Braila\, Piața Poligon nr. 4\, Brăila\, Brăila\, 810026\, România
END:VEVENT
BEGIN:VEVENT
DTSTART;TZID=Europe/Moscow:20250718T110000
DTEND;TZID=Europe/Moscow:20250718T120000
DTSTAMP:20260422T014859
CREATED:20250711T061237Z
LAST-MODIFIED:20250711T084235Z
UID:9778-1752836400-1752840000@www.bjbraila.ro
SUMMARY:Filozofie pentru pici
DESCRIPTION:Atelier: Filozofie pentru pici \nCoordonator: Oana Ghetu\, Mihnea Popoacă\, Vlad Popa \nLocația: sala Fănuș Neagu\, etajul 3
URL:https://www.bjbraila.ro/eveniment/filozofie-pentru-pici-5/
LOCATION:Biblioteca “Panait Istrati” Braila\, Piața Poligon nr. 4\, Brăila\, Brăila\, 810026\, România
END:VEVENT
BEGIN:VEVENT
DTSTART;TZID=Europe/Moscow:20250721T090000
DTEND;TZID=Europe/Moscow:20250721T103000
DTSTAMP:20260422T014859
CREATED:20250718T094551Z
LAST-MODIFIED:20250718T094551Z
UID:9832-1753088400-1753093800@www.bjbraila.ro
SUMMARY:Magia florilor
DESCRIPTION:Atelier: Magia florilor \nCoordonator: Camelia Cherciu \nLocația: Grădina Publică \n 
URL:https://www.bjbraila.ro/eveniment/magia-florilor/
LOCATION:Brăila
END:VEVENT
BEGIN:VEVENT
DTSTART;TZID=Europe/Moscow:20250721T090000
DTEND;TZID=Europe/Moscow:20250721T103000
DTSTAMP:20260422T014859
CREATED:20250718T094945Z
LAST-MODIFIED:20250718T094945Z
UID:9842-1753088400-1753093800@www.bjbraila.ro
SUMMARY:Jurnal de vacanță
DESCRIPTION:Atelier: Jurnal de vacanță \nCoordonator: Ana Maria Florică\, Olimpia Moraru \nLocația: Centrul Multicultural
URL:https://www.bjbraila.ro/eveniment/jurnal-de-vacanta/
LOCATION:Biblioteca “Panait Istrati” Braila\, Piața Poligon nr. 4\, Brăila\, Brăila\, 810026\, România
END:VEVENT
BEGIN:VEVENT
DTSTART;TZID=Europe/Moscow:20250721T090000
DTEND;TZID=Europe/Moscow:20250721T103000
DTSTAMP:20260422T014859
CREATED:20250718T095322Z
LAST-MODIFIED:20250718T095322Z
UID:9852-1753088400-1753093800@www.bjbraila.ro
SUMMARY:Învață franceza prin teatru
DESCRIPTION:Atelier: Învață franceza prin teatru \nCoordonator: Ludmila Crăciun \nLocația: sala Fănuș Neagu
URL:https://www.bjbraila.ro/eveniment/invata-franceza-prin-teatru/
LOCATION:Biblioteca “Panait Istrati” Braila\, Piața Poligon nr. 4\, Brăila\, Brăila\, 810026\, România
END:VEVENT
BEGIN:VEVENT
DTSTART;TZID=Europe/Moscow:20250721T090000
DTEND;TZID=Europe/Moscow:20250721T110000
DTSTAMP:20260422T014859
CREATED:20250718T095713Z
LAST-MODIFIED:20250718T095713Z
UID:9862-1753088400-1753095600@www.bjbraila.ro
SUMMARY:Vacanță în Ecobază
DESCRIPTION:Atelier: Vacanță în Ecobază \nCoordonator: Cornelia Miler \nLocația: curtea Bibliotecii
URL:https://www.bjbraila.ro/eveniment/vacanta-in-ecobaza/
LOCATION:Biblioteca “Panait Istrati” Braila\, Piața Poligon nr. 4\, Brăila\, Brăila\, 810026\, România
END:VEVENT
BEGIN:VEVENT
DTSTART;TZID=Europe/Moscow:20250722T090000
DTEND;TZID=Europe/Moscow:20250722T103000
DTSTAMP:20260422T014859
CREATED:20250718T094626Z
LAST-MODIFIED:20250718T094626Z
UID:9834-1753174800-1753180200@www.bjbraila.ro
SUMMARY:Magia florilor
DESCRIPTION:Atelier: Magia florilor \nCoordonator: Camelia Cherciu \nLocația: Grădina Publică
URL:https://www.bjbraila.ro/eveniment/magia-florilor-2/
LOCATION:Brăila
END:VEVENT
BEGIN:VEVENT
DTSTART;TZID=Europe/Moscow:20250722T090000
DTEND;TZID=Europe/Moscow:20250722T103000
DTSTAMP:20260422T014859
CREATED:20250718T095015Z
LAST-MODIFIED:20250718T095015Z
UID:9844-1753174800-1753180200@www.bjbraila.ro
SUMMARY:Jurnal de vacanță
DESCRIPTION:Atelier: Jurnal de vacanță \nCoordonator: Ana Maria Florică\, Olimpia Moraru \nLocația: Centrul Multicultural
URL:https://www.bjbraila.ro/eveniment/jurnal-de-vacanta-2/
LOCATION:Biblioteca “Panait Istrati” Braila\, Piața Poligon nr. 4\, Brăila\, Brăila\, 810026\, România
END:VEVENT
BEGIN:VEVENT
DTSTART;TZID=Europe/Moscow:20250722T090000
DTEND;TZID=Europe/Moscow:20250722T103000
DTSTAMP:20260422T014859
CREATED:20250718T095357Z
LAST-MODIFIED:20250718T095357Z
UID:9854-1753174800-1753180200@www.bjbraila.ro
SUMMARY:Învață franceza prin teatru
DESCRIPTION:Atelier: Învață franceza prin teatru \nCoordonator: Ludmila Crăciun \nLocația: sala Fănuș Neagu
URL:https://www.bjbraila.ro/eveniment/invata-franceza-prin-teatru-2/
LOCATION:Biblioteca “Panait Istrati” Braila\, Piața Poligon nr. 4\, Brăila\, Brăila\, 810026\, România
END:VEVENT
BEGIN:VEVENT
DTSTART;TZID=Europe/Moscow:20250722T090000
DTEND;TZID=Europe/Moscow:20250722T110000
DTSTAMP:20260422T014859
CREATED:20250718T095747Z
LAST-MODIFIED:20250718T095747Z
UID:9864-1753174800-1753182000@www.bjbraila.ro
SUMMARY:Vacanță în Ecobază
DESCRIPTION:Atelier: Vacanță în Ecobază \nCoordonator: Cornelia Miler \nLocația: curtea Bibliotecii
URL:https://www.bjbraila.ro/eveniment/vacanta-in-ecobaza-2/
LOCATION:Biblioteca “Panait Istrati” Braila\, Piața Poligon nr. 4\, Brăila\, Brăila\, 810026\, România
END:VEVENT
BEGIN:VEVENT
DTSTART;TZID=Europe/Moscow:20250723T090000
DTEND;TZID=Europe/Moscow:20250723T103000
DTSTAMP:20260422T014859
CREATED:20250718T094656Z
LAST-MODIFIED:20250718T094656Z
UID:9836-1753261200-1753266600@www.bjbraila.ro
SUMMARY:Magia florilor
DESCRIPTION:Atelier: Magia florilor \nCoordonator: Camelia Cherciu \nLocația: Grădina Publică
URL:https://www.bjbraila.ro/eveniment/magia-florilor-3/
LOCATION:Brăila
END:VEVENT
BEGIN:VEVENT
DTSTART;TZID=Europe/Moscow:20250723T090000
DTEND;TZID=Europe/Moscow:20250723T103000
DTSTAMP:20260422T014859
CREATED:20250718T095049Z
LAST-MODIFIED:20250718T095049Z
UID:9846-1753261200-1753266600@www.bjbraila.ro
SUMMARY:Jurnal de vacanță
DESCRIPTION:Atelier: Jurnal de vacanță \nCoordonator: Ana Maria Florică\, Olimpia Moraru \nLocația: Centrul Multicultural
URL:https://www.bjbraila.ro/eveniment/jurnal-de-vacanta-3/
LOCATION:Biblioteca “Panait Istrati” Braila\, Piața Poligon nr. 4\, Brăila\, Brăila\, 810026\, România
END:VEVENT
END:VCALENDAR