BEGIN:VCALENDAR
VERSION:2.0
PRODID:-//bjbraila.ro - ECPv6.15.20//NONSGML v1.0//EN
CALSCALE:GREGORIAN
METHOD:PUBLISH
X-WR-CALNAME:bjbraila.ro
X-ORIGINAL-URL:https://www.bjbraila.ro
X-WR-CALDESC:Evenimente pentru bjbraila.ro
REFRESH-INTERVAL;VALUE=DURATION:PT1H
X-Robots-Tag:noindex
X-PUBLISHED-TTL:PT1H
BEGIN:VTIMEZONE
TZID:Europe/Moscow
BEGIN:STANDARD
TZOFFSETFROM:+0300
TZOFFSETTO:+0300
TZNAME:MSK
DTSTART:20240101T000000
END:STANDARD
END:VTIMEZONE
BEGIN:VEVENT
DTSTART;TZID=Europe/Moscow:20251028T080000
DTEND;TZID=Europe/Moscow:20251028T160000
DTSTAMP:20260421T160047
CREATED:20251027T080708Z
LAST-MODIFIED:20251027T080708Z
UID:10122-1761638400-1761667200@www.bjbraila.ro
SUMMARY:Club robotică
DESCRIPTION:Club robotică \n\ncoordonator: Silviu Gheorghe;\nlocația: Makerspace\, etajul 1;\nora: 08.00 – 16.00;\natelier adresat tinerilor cu vârsta cuprinsă între 14 și 19 ani;\ndetalii: 0239 611 292\n\n 
URL:https://www.bjbraila.ro/eveniment/club-robotica-57/
LOCATION:Biblioteca “Panait Istrati” Braila\, Piața Poligon nr. 4\, Brăila\, Brăila\, 810026\, România
CATEGORIES:Evenimente
ORGANIZER;CN="Biblioteca %E2%80%9CPanait Istrati%E2%80%9D Braila":MAILTO:bjpi@bjbraila.ro
END:VEVENT
BEGIN:VEVENT
DTSTART;TZID=Europe/Moscow:20251028T140000
DTEND;TZID=Europe/Moscow:20251028T160000
DTSTAMP:20260421T160047
CREATED:20251027T081224Z
LAST-MODIFIED:20251027T081224Z
UID:10132-1761660000-1761667200@www.bjbraila.ro
SUMMARY:Arta lumii
DESCRIPTION:  \n\ncoordonator: Buzdugan Steluța\, Ene Irina;\nlocația: Mediatecă\, parter;\nora: 14.00 – 16.00;\ndetalii: 0239 611 292\n\n 
URL:https://www.bjbraila.ro/eveniment/arta-lumii-9/
LOCATION:Biblioteca “Panait Istrati” Braila\, Piața Poligon nr. 4\, Brăila\, Brăila\, 810026\, România
ORGANIZER;CN="Biblioteca %E2%80%9CPanait Istrati%E2%80%9D Braila":MAILTO:bjpi@bjbraila.ro
END:VEVENT
BEGIN:VEVENT
DTSTART;TZID=Europe/Moscow:20251028T170000
DTEND;TZID=Europe/Moscow:20251028T180000
DTSTAMP:20260421T160047
CREATED:20251027T081650Z
LAST-MODIFIED:20251027T081650Z
UID:10134-1761670800-1761674400@www.bjbraila.ro
SUMMARY:Atelier limba engleză adulți
DESCRIPTION:coordonator: Eftime Violeta;\nlocația: Centrul Instruire\, etajul 3;\nora: 17.00 – 18.00;\ndetalii: 0239 611 292\n\n 
URL:https://www.bjbraila.ro/eveniment/atelier-limba-engleza-adulti/
LOCATION:Biblioteca “Panait Istrati” Braila\, Piața Poligon nr. 4\, Brăila\, Brăila\, 810026\, România
CATEGORIES:Evenimente
ORGANIZER;CN="Biblioteca %E2%80%9CPanait Istrati%E2%80%9D Braila":MAILTO:bjpi@bjbraila.ro
END:VEVENT
BEGIN:VEVENT
DTSTART;TZID=Europe/Moscow:20251029T080000
DTEND;TZID=Europe/Moscow:20251029T160000
DTSTAMP:20260421T160047
CREATED:20251027T080752Z
LAST-MODIFIED:20251027T080752Z
UID:10124-1761724800-1761753600@www.bjbraila.ro
SUMMARY:Club robotică
DESCRIPTION:Club robotică \n\ncoordonator: Silviu Gheorghe;\nlocația: Makerspace\, etajul 1;\nora: 08.00 – 16.00;\natelier adresat tinerilor cu vârsta cuprinsă între 14 și 19 ani;\ndetalii: 0239 611 292\n\n 
URL:https://www.bjbraila.ro/eveniment/club-robotica-58/
LOCATION:Biblioteca “Panait Istrati” Braila\, Piața Poligon nr. 4\, Brăila\, Brăila\, 810026\, România
CATEGORIES:Evenimente
ORGANIZER;CN="Biblioteca %E2%80%9CPanait Istrati%E2%80%9D Braila":MAILTO:bjpi@bjbraila.ro
END:VEVENT
BEGIN:VEVENT
DTSTART;TZID=Europe/Moscow:20251029T110000
DTEND;TZID=Europe/Moscow:20251029T120000
DTSTAMP:20260421T160047
CREATED:20251027T082054Z
LAST-MODIFIED:20251027T082054Z
UID:10138-1761735600-1761739200@www.bjbraila.ro
SUMMARY:Atelier limba engleză adulți
DESCRIPTION:Atelier limba engleză adulți \n\ncoordonator: Eftime Violeta;\nlocația: Centrul Instruire\, etajul 3;\nora: 11.00 – 12.00;\ndetalii: 0239 611 292\n\n 
URL:https://www.bjbraila.ro/eveniment/atelier-limba-engleza-adulti-3/
LOCATION:Biblioteca “Panait Istrati” Braila\, Piața Poligon nr. 4\, Brăila\, Brăila\, 810026\, România
CATEGORIES:Evenimente
ORGANIZER;CN="Biblioteca %E2%80%9CPanait Istrati%E2%80%9D Braila":MAILTO:bjpi@bjbraila.ro
END:VEVENT
BEGIN:VEVENT
DTSTART;TZID=Europe/Moscow:20251029T163000
DTEND;TZID=Europe/Moscow:20251029T173000
DTSTAMP:20260421T160047
CREATED:20251027T083141Z
LAST-MODIFIED:20251027T083141Z
UID:10141-1761755400-1761759000@www.bjbraila.ro
SUMMARY:Șah copii
DESCRIPTION:Șah copii \n\ncoordonator: Preda Iulian ;\nlocația: Mediatecă\, parter;\nora: 16.30 – 17.30;\ndetalii: 0239 611 292\n\n 
URL:https://www.bjbraila.ro/eveniment/sah-copii/
LOCATION:Biblioteca “Panait Istrati” Braila\, Piața Poligon nr. 4\, Brăila\, Brăila\, 810026\, România
CATEGORIES:Evenimente
ORGANIZER;CN="Biblioteca %E2%80%9CPanait Istrati%E2%80%9D Braila":MAILTO:bjpi@bjbraila.ro
END:VEVENT
BEGIN:VEVENT
DTSTART;TZID=Europe/Moscow:20251029T170000
DTEND;TZID=Europe/Moscow:20251029T180000
DTSTAMP:20260421T160047
CREATED:20251027T081906Z
LAST-MODIFIED:20251027T081906Z
UID:10136-1761757200-1761760800@www.bjbraila.ro
SUMMARY:Atelier limba engleză adulți
DESCRIPTION:Atelier limba engleză adulți \n\ncoordonator: Eftime Violeta;\nlocația: Centrul Instruire\, etajul 3;\nora: 17.00 – 18.00;\ndetalii: 0239 611 292\n\n 
URL:https://www.bjbraila.ro/eveniment/atelier-limba-engleza-adulti-2/
LOCATION:Biblioteca “Panait Istrati” Braila\, Piața Poligon nr. 4\, Brăila\, Brăila\, 810026\, România
CATEGORIES:Evenimente
ORGANIZER;CN="Biblioteca %E2%80%9CPanait Istrati%E2%80%9D Braila":MAILTO:bjpi@bjbraila.ro
END:VEVENT
BEGIN:VEVENT
DTSTART;TZID=Europe/Moscow:20251030T080000
DTEND;TZID=Europe/Moscow:20251030T160000
DTSTAMP:20260421T160047
CREATED:20251027T080839Z
LAST-MODIFIED:20251027T080839Z
UID:10126-1761811200-1761840000@www.bjbraila.ro
SUMMARY:Club robotică
DESCRIPTION:Club robotică \n\ncoordonator: Silviu Gheorghe;\nlocația: Makerspace\, etajul 1;\nora: 08.00 – 16.00;\natelier adresat tinerilor cu vârsta cuprinsă între 14 și 19 ani;\ndetalii: 0239 611 292\n\n 
URL:https://www.bjbraila.ro/eveniment/club-robotica-59/
LOCATION:Biblioteca “Panait Istrati” Braila\, Piața Poligon nr. 4\, Brăila\, Brăila\, 810026\, România
CATEGORIES:Evenimente
ORGANIZER;CN="Biblioteca %E2%80%9CPanait Istrati%E2%80%9D Braila":MAILTO:bjpi@bjbraila.ro
END:VEVENT
BEGIN:VEVENT
DTSTART;TZID=Europe/Moscow:20251030T100000
DTEND;TZID=Europe/Moscow:20251030T113000
DTSTAMP:20260421T160047
CREATED:20251027T083519Z
LAST-MODIFIED:20251027T083519Z
UID:10143-1761818400-1761823800@www.bjbraila.ro
SUMMARY:În vizită la bibliotecă
DESCRIPTION:În vizită la bibliotecă \n\ncoordonator: Chiriac Valentina;\nlocația: Secția Împrumut Adulți;\nora: 10.00 – 11.30;\ndetalii: 0239 611 292\n\n 
URL:https://www.bjbraila.ro/eveniment/in-vizita-la-biblioteca/
LOCATION:Biblioteca “Panait Istrati” Braila\, Piața Poligon nr. 4\, Brăila\, Brăila\, 810026\, România
CATEGORIES:Evenimente
ORGANIZER;CN="Biblioteca %E2%80%9CPanait Istrati%E2%80%9D Braila":MAILTO:bjpi@bjbraila.ro
END:VEVENT
BEGIN:VEVENT
DTSTART;TZID=Europe/Moscow:20251030T113000
DTEND;TZID=Europe/Moscow:20251030T130000
DTSTAMP:20260421T160047
CREATED:20251027T083654Z
LAST-MODIFIED:20251027T083654Z
UID:10146-1761823800-1761829200@www.bjbraila.ro
SUMMARY:Filmul de joi
DESCRIPTION:Filmul de joi \n\ncoordonator: Buzdugan Steluța\, Ene Irina;\nlocația: Mediatecă\, parter;\nora: 11.30 – 13.00;\ndetalii: 0239 611 292
URL:https://www.bjbraila.ro/eveniment/filmul-de-joi-9/
LOCATION:Biblioteca “Panait Istrati” Braila\, Piața Poligon nr. 4\, Brăila\, Brăila\, 810026\, România
CATEGORIES:Evenimente
ORGANIZER;CN="Biblioteca %E2%80%9CPanait Istrati%E2%80%9D Braila":MAILTO:bjpi@bjbraila.ro
END:VEVENT
BEGIN:VEVENT
DTSTART;TZID=Europe/Moscow:20251030T163000
DTEND;TZID=Europe/Moscow:20251030T180000
DTSTAMP:20260421T160047
CREATED:20251027T083848Z
LAST-MODIFIED:20251027T083848Z
UID:10148-1761841800-1761847200@www.bjbraila.ro
SUMMARY:Atelier de croșetat
DESCRIPTION:Atelier de croșetat \n\ncoordonator: Lalu Doina\, Lungu Mihaela\, Prodan Nicoleta;\nlocația: Centrul Multicultural;\nora: 16.30 – 18.00;\ndetalii: 0239 611 292
URL:https://www.bjbraila.ro/eveniment/atelier-de-crosetat-2/
LOCATION:Biblioteca “Panait Istrati” Braila\, Piața Poligon nr. 4\, Brăila\, Brăila\, 810026\, România
CATEGORIES:Evenimente
ORGANIZER;CN="Biblioteca %E2%80%9CPanait Istrati%E2%80%9D Braila":MAILTO:bjpi@bjbraila.ro
END:VEVENT
BEGIN:VEVENT
DTSTART;TZID=Europe/Moscow:20251031T080000
DTEND;TZID=Europe/Moscow:20251031T160000
DTSTAMP:20260421T160047
CREATED:20251027T080923Z
LAST-MODIFIED:20251027T080923Z
UID:10128-1761897600-1761926400@www.bjbraila.ro
SUMMARY:Club robotică
DESCRIPTION:Club robotică \n\ncoordonator: Silviu Gheorghe;\nlocația: Makerspace\, etajul 1;\nora: 08.00 – 16.00;\natelier adresat tinerilor cu vârsta cuprinsă între 14 și 19 ani;\ndetalii: 0239 611 292\n\n 
URL:https://www.bjbraila.ro/eveniment/club-robotica-60/
LOCATION:Biblioteca “Panait Istrati” Braila\, Piața Poligon nr. 4\, Brăila\, Brăila\, 810026\, România
CATEGORIES:Evenimente
ORGANIZER;CN="Biblioteca %E2%80%9CPanait Istrati%E2%80%9D Braila":MAILTO:bjpi@bjbraila.ro
END:VEVENT
BEGIN:VEVENT
DTSTART;TZID=Europe/Moscow:20251031T150000
DTEND;TZID=Europe/Moscow:20251031T170000
DTSTAMP:20260421T160047
CREATED:20251027T084005Z
LAST-MODIFIED:20251027T084005Z
UID:10151-1761922800-1761930000@www.bjbraila.ro
SUMMARY:CodeKids
DESCRIPTION:CodeKids \n\ncoordonator: Alecu Ștefăniță;\nlocația: Centrul Instruire\, etajul 3;\nora: 15.00 – 17.00;\ndetalii: 0239 611 292
URL:https://www.bjbraila.ro/eveniment/codekids-11/
LOCATION:Biblioteca “Panait Istrati” Braila\, Piața Poligon nr. 4\, Brăila\, Brăila\, 810026\, România
CATEGORIES:Evenimente
ORGANIZER;CN="Biblioteca %E2%80%9CPanait Istrati%E2%80%9D Braila":MAILTO:bjpi@bjbraila.ro
END:VEVENT
BEGIN:VEVENT
DTSTART;TZID=Europe/Moscow:20251031T160000
DTEND;TZID=Europe/Moscow:20251031T170000
DTSTAMP:20260421T160047
CREATED:20251027T084312Z
LAST-MODIFIED:20251027T084312Z
UID:10156-1761926400-1761930000@www.bjbraila.ro
SUMMARY:Limba engleză adulți
DESCRIPTION:Limba engleză adulți \n\ncoordonator: Rîșnoveanu Cătălin;\nlocația: Centrul Multicultural;\nora: 16.00 – 17.00;\ndetalii: 0239 611 292
URL:https://www.bjbraila.ro/eveniment/limba-engleza-adulti/
LOCATION:Biblioteca “Panait Istrati” Braila\, Piața Poligon nr. 4\, Brăila\, Brăila\, 810026\, România
ORGANIZER;CN="Biblioteca %E2%80%9CPanait Istrati%E2%80%9D Braila":MAILTO:bjpi@bjbraila.ro
END:VEVENT
BEGIN:VEVENT
DTSTART;TZID=Europe/Moscow:20251031T160000
DTEND;TZID=Europe/Moscow:20251031T173000
DTSTAMP:20260421T160047
CREATED:20251027T084451Z
LAST-MODIFIED:20251027T084451Z
UID:10158-1761926400-1761931800@www.bjbraila.ro
SUMMARY:Călători pe Mapamond
DESCRIPTION:Călători pe Mapamond \n\ncoordonator: Iacob Silvia;\nlocația: Sala Fănuș Neagu\, etajul 3;\nora: 16.00 – 17.30;\ndetalii: 0239 611 292
URL:https://www.bjbraila.ro/eveniment/calatori-pe-mapamond-2/
LOCATION:Biblioteca “Panait Istrati” Braila\, Piața Poligon nr. 4\, Brăila\, Brăila\, 810026\, România
CATEGORIES:Evenimente
ORGANIZER;CN="Biblioteca %E2%80%9CPanait Istrati%E2%80%9D Braila":MAILTO:bjpi@bjbraila.ro
END:VEVENT
BEGIN:VEVENT
DTSTART;TZID=Europe/Moscow:20251031T160000
DTEND;TZID=Europe/Moscow:20251031T180000
DTSTAMP:20260421T160047
CREATED:20251027T084136Z
LAST-MODIFIED:20251027T084136Z
UID:10153-1761926400-1761933600@www.bjbraila.ro
SUMMARY:Cenaclul Alter Ego
DESCRIPTION:Cenaclul Alter Ego \n\ncoordonator: Chifane Liviu;\nlocația: Sala Panait Istrati\, etajul 3;\nora: 16.00 – 18.00;\ndetalii: 0239 611 292
URL:https://www.bjbraila.ro/eveniment/cenaclul-alter-ego-3/
LOCATION:Brăila
CATEGORIES:Evenimente
END:VEVENT
BEGIN:VEVENT
DTSTART;TZID=Europe/Moscow:20251101T080000
DTEND;TZID=Europe/Moscow:20251101T160000
DTSTAMP:20260421T160047
CREATED:20251027T081019Z
LAST-MODIFIED:20251027T082220Z
UID:10130-1761984000-1762012800@www.bjbraila.ro
SUMMARY:Club robotică
DESCRIPTION:Club robotică \n\ncoordonator: Silviu Gheorghe;\nlocația: Makerspace\, etajul 1;\nora: 08.00 – 16.00;\natelier adresat tinerilor cu vârsta cuprinsă între 14 și 19 ani;\ndetalii: 0239 611 292\n\n 
URL:https://www.bjbraila.ro/eveniment/club-robotica-61/
LOCATION:Biblioteca “Panait Istrati” Braila\, Piața Poligon nr. 4\, Brăila\, Brăila\, 810026\, România
ORGANIZER;CN="Biblioteca %E2%80%9CPanait Istrati%E2%80%9D Braila":MAILTO:bjpi@bjbraila.ro
END:VEVENT
BEGIN:VEVENT
DTSTART;TZID=Europe/Moscow:20251101T093000
DTEND;TZID=Europe/Moscow:20251101T110000
DTSTAMP:20260421T160047
CREATED:20251027T084627Z
LAST-MODIFIED:20251027T084627Z
UID:10160-1761989400-1761994800@www.bjbraila.ro
SUMMARY:Tărâmul emoțiilor
DESCRIPTION:Tărâmul emoțiilor \n\ncoordonator: Cherciu Camelia;\nlocația: Secția Împrumut Adulți;\nora: 09.30 – 11.00;\ndetalii: 0239 611 292
URL:https://www.bjbraila.ro/eveniment/taramul-emotiilor-6/
LOCATION:Biblioteca “Panait Istrati” Braila\, Piața Poligon nr. 4\, Brăila\, Brăila\, 810026\, România
CATEGORIES:Evenimente
ORGANIZER;CN="Biblioteca %E2%80%9CPanait Istrati%E2%80%9D Braila":MAILTO:bjpi@bjbraila.ro
END:VEVENT
BEGIN:VEVENT
DTSTART;TZID=Europe/Moscow:20251101T100000
DTEND;TZID=Europe/Moscow:20251101T120000
DTSTAMP:20260421T160047
CREATED:20251027T085354Z
LAST-MODIFIED:20251027T085354Z
UID:10169-1761991200-1761998400@www.bjbraila.ro
SUMMARY:Niciodată Singur
DESCRIPTION:Niciodată Singur \n\ncoordonator: Prof. Crețu Alina;\nlocația: Sala Dunărea;\nora: 10.00 – 12.00;\nActivități pentru seniori;\ndetalii: 0239 611 292
URL:https://www.bjbraila.ro/eveniment/niciodata-singur-3/
LOCATION:Biblioteca “Panait Istrati” Braila\, Piața Poligon nr. 4\, Brăila\, Brăila\, 810026\, România
CATEGORIES:Evenimente
ORGANIZER;CN="Biblioteca %E2%80%9CPanait Istrati%E2%80%9D Braila":MAILTO:bjpi@bjbraila.ro
END:VEVENT
BEGIN:VEVENT
DTSTART;TZID=Europe/Moscow:20251101T100000
DTEND;TZID=Europe/Moscow:20251101T140000
DTSTAMP:20260421T160047
CREATED:20251027T085532Z
LAST-MODIFIED:20251027T085532Z
UID:10171-1761991200-1762005600@www.bjbraila.ro
SUMMARY:Atelier Marketing Digital
DESCRIPTION:Atelier Marketing Digital \n\ncoordonator: Adamache Teodora;\nlocația: Centrul Instruire\, etajul 3;\nora: 10.00 – 14.00;\ndetalii: 0239 611 292
URL:https://www.bjbraila.ro/eveniment/atelier-marketing-digital-2/
LOCATION:Biblioteca “Panait Istrati” Braila\, Piața Poligon nr. 4\, Brăila\, Brăila\, 810026\, România
CATEGORIES:Evenimente
ORGANIZER;CN="Biblioteca %E2%80%9CPanait Istrati%E2%80%9D Braila":MAILTO:bjpi@bjbraila.ro
END:VEVENT
BEGIN:VEVENT
DTSTART;TZID=Europe/Moscow:20251101T103000
DTEND;TZID=Europe/Moscow:20251101T120000
DTSTAMP:20260421T160047
CREATED:20251027T085150Z
LAST-MODIFIED:20251027T085150Z
UID:10167-1761993000-1761998400@www.bjbraila.ro
SUMMARY:Atelier Grafică
DESCRIPTION:Atelier Grafică \n\ncoordonator: Ioanid Marilena;\nlocația: Mediatecă\, parter;\nora: 10.30 – 12.00;\ndetalii: 0239 611 292
URL:https://www.bjbraila.ro/eveniment/atelier-grafica/
LOCATION:Biblioteca “Panait Istrati” Braila\, Piața Poligon nr. 4\, Brăila\, Brăila\, 810026\, România
CATEGORIES:Evenimente
ORGANIZER;CN="Biblioteca %E2%80%9CPanait Istrati%E2%80%9D Braila":MAILTO:bjpi@bjbraila.ro
END:VEVENT
BEGIN:VEVENT
DTSTART;TZID=Europe/Moscow:20251101T110000
DTEND;TZID=Europe/Moscow:20251101T123000
DTSTAMP:20260421T160047
CREATED:20251027T084844Z
LAST-MODIFIED:20251027T085007Z
UID:10162-1761994800-1762000200@www.bjbraila.ro
SUMMARY:Colorăm Viața
DESCRIPTION:Colorăm Viața \n\ncoordonator: Cherciu Camelia;\nlocația: Secția Împrumut Adulți;\nora: 11.00 – 12.30;\ndetalii: 0239 611 292
URL:https://www.bjbraila.ro/eveniment/taramul-emotiilor-7/
LOCATION:Biblioteca “Panait Istrati” Braila\, Piața Poligon nr. 4\, Brăila\, Brăila\, 810026\, România
CATEGORIES:Evenimente
ORGANIZER;CN="Biblioteca %E2%80%9CPanait Istrati%E2%80%9D Braila":MAILTO:bjpi@bjbraila.ro
END:VEVENT
BEGIN:VEVENT
DTSTART;TZID=Europe/Moscow:20251101T110000
DTEND;TZID=Europe/Moscow:20251101T130000
DTSTAMP:20260421T160047
CREATED:20251027T085711Z
LAST-MODIFIED:20251027T085711Z
UID:10173-1761994800-1762002000@www.bjbraila.ro
SUMMARY:Grup artistic Nino Nino
DESCRIPTION:Grup artistic Nino Nino \n\ncoordonator: Lică Barbu;\nlocația: Sala Panait Istrati\, etajul 3;\nora: 11.00 – 13.00;\ndetalii: 0239 611 292
URL:https://www.bjbraila.ro/eveniment/grup-artistic-nino-nino/
LOCATION:Biblioteca “Panait Istrati” Braila\, Piața Poligon nr. 4\, Brăila\, Brăila\, 810026\, România
CATEGORIES:Evenimente
ORGANIZER;CN="Biblioteca %E2%80%9CPanait Istrati%E2%80%9D Braila":MAILTO:bjpi@bjbraila.ro
END:VEVENT
BEGIN:VEVENT
DTSTART;TZID=Europe/Moscow:20251103T080000
DTEND;TZID=Europe/Moscow:20251103T160000
DTSTAMP:20260421T160047
CREATED:20251103T072236Z
LAST-MODIFIED:20251103T072236Z
UID:10179-1762156800-1762185600@www.bjbraila.ro
SUMMARY:Club Robotică
DESCRIPTION:Club robotică \n\ncoordonator: Silviu Gheorghe;\nlocația: Makerspace\, etajul 1;\nora: 08.00 – 16.00;\natelier adresat tinerilor cu vârsta cuprinsă între 14 și 19 ani;\ndetalii: 0239 611 292
URL:https://www.bjbraila.ro/eveniment/club-robotica-62/
LOCATION:Biblioteca “Panait Istrati” Braila\, Piața Poligon nr. 4\, Brăila\, Brăila\, 810026\, România
CATEGORIES:Evenimente
ORGANIZER;CN="Biblioteca %E2%80%9CPanait Istrati%E2%80%9D Braila":MAILTO:bjpi@bjbraila.ro
END:VEVENT
BEGIN:VEVENT
DTSTART;TZID=Europe/Moscow:20251104T080000
DTEND;TZID=Europe/Moscow:20251104T160000
DTSTAMP:20260421T160047
CREATED:20251103T072327Z
LAST-MODIFIED:20251103T072327Z
UID:10181-1762243200-1762272000@www.bjbraila.ro
SUMMARY:Club Robotică
DESCRIPTION:Club robotică \n\ncoordonator: Silviu Gheorghe;\nlocația: Makerspace\, etajul 1;\nora: 08.00 – 16.00;\natelier adresat tinerilor cu vârsta cuprinsă între 14 și 19 ani;\ndetalii: 0239 611 292
URL:https://www.bjbraila.ro/eveniment/club-robotica-63/
LOCATION:Biblioteca “Panait Istrati” Braila\, Piața Poligon nr. 4\, Brăila\, Brăila\, 810026\, România
CATEGORIES:Evenimente
ORGANIZER;CN="Biblioteca %E2%80%9CPanait Istrati%E2%80%9D Braila":MAILTO:bjpi@bjbraila.ro
END:VEVENT
BEGIN:VEVENT
DTSTART;TZID=Europe/Moscow:20251104T140000
DTEND;TZID=Europe/Moscow:20251104T160000
DTSTAMP:20260421T160047
CREATED:20251103T072937Z
LAST-MODIFIED:20251103T072937Z
UID:10192-1762264800-1762272000@www.bjbraila.ro
SUMMARY:Arta lumii
DESCRIPTION:Arta lumii \n\ncoordonator: Buzdugan Steluța\, Ene Irina;\nlocația: Mediatecă\, parter;\nora: 14.00 – 16.00;\ndetalii: 0239 611 292
URL:https://www.bjbraila.ro/eveniment/arta-lumii-10/
LOCATION:Biblioteca “Panait Istrati” Braila\, Piața Poligon nr. 4\, Brăila\, Brăila\, 810026\, România
CATEGORIES:Evenimente
ORGANIZER;CN="Biblioteca %E2%80%9CPanait Istrati%E2%80%9D Braila":MAILTO:bjpi@bjbraila.ro
END:VEVENT
BEGIN:VEVENT
DTSTART;TZID=Europe/Moscow:20251104T140000
DTEND;TZID=Europe/Moscow:20251104T160000
DTSTAMP:20260421T160047
CREATED:20251103T073617Z
LAST-MODIFIED:20251103T073617Z
UID:10194-1762264800-1762272000@www.bjbraila.ro
SUMMARY:Cu temele la zi
DESCRIPTION:Cu temele la zi \n\ncoordonator: Florică Ana-Maria;\nlocația: Centrul Multicultural;\nora: 14.00 – 16.00;\ndetalii: 0239 611 292
URL:https://www.bjbraila.ro/eveniment/cu-temele-la-zi/
LOCATION:Biblioteca “Panait Istrati” Braila\, Piața Poligon nr. 4\, Brăila\, Brăila\, 810026\, România
CATEGORIES:Evenimente
ORGANIZER;CN="Biblioteca %E2%80%9CPanait Istrati%E2%80%9D Braila":MAILTO:bjpi@bjbraila.ro
END:VEVENT
BEGIN:VEVENT
DTSTART;TZID=Europe/Moscow:20251104T170000
DTEND;TZID=Europe/Moscow:20251104T180000
DTSTAMP:20260421T160047
CREATED:20251103T073916Z
LAST-MODIFIED:20251103T073916Z
UID:10196-1762275600-1762279200@www.bjbraila.ro
SUMMARY:Atelier de limba engleză adulți
DESCRIPTION:Atelier de limba engleză adulți \n\ncoordonator: Eftime Violeta;\nlocația: Centrul Instruire\, etajul 3;\nora: 17.00 – 18.00;\ndetalii: 0239 611 292
URL:https://www.bjbraila.ro/eveniment/atelier-de-limba-engleza-adulti-3/
LOCATION:Biblioteca “Panait Istrati” Braila\, Piața Poligon nr. 4\, Brăila\, Brăila\, 810026\, România
ORGANIZER;CN="Biblioteca %E2%80%9CPanait Istrati%E2%80%9D Braila":MAILTO:bjpi@bjbraila.ro
END:VEVENT
BEGIN:VEVENT
DTSTART;TZID=Europe/Moscow:20251105T080000
DTEND;TZID=Europe/Moscow:20251105T160000
DTSTAMP:20260421T160047
CREATED:20251103T072409Z
LAST-MODIFIED:20251103T072409Z
UID:10183-1762329600-1762358400@www.bjbraila.ro
SUMMARY:Club Robotică
DESCRIPTION:Club robotică \n\ncoordonator: Silviu Gheorghe;\nlocația: Makerspace\, etajul 1;\nora: 08.00 – 16.00;\natelier adresat tinerilor cu vârsta cuprinsă între 14 și 19 ani;\ndetalii: 0239 611 292
URL:https://www.bjbraila.ro/eveniment/club-robotica-64/
LOCATION:Biblioteca “Panait Istrati” Braila\, Piața Poligon nr. 4\, Brăila\, Brăila\, 810026\, România
CATEGORIES:Evenimente
ORGANIZER;CN="Biblioteca %E2%80%9CPanait Istrati%E2%80%9D Braila":MAILTO:bjpi@bjbraila.ro
END:VEVENT
BEGIN:VEVENT
DTSTART;TZID=Europe/Moscow:20251105T080000
DTEND;TZID=Europe/Moscow:20251105T190000
DTSTAMP:20260421T160047
CREATED:20251105T100520Z
LAST-MODIFIED:20251105T100540Z
UID:10230-1762329600-1762369200@www.bjbraila.ro
SUMMARY:Ceahlăul literaturii române- expoziție documentară
DESCRIPTION:Cu ocazia împlinirii a 145 de ani de la nașterea scriitorului Mihail Sadoveanu\, Biblioteca Judeteana „Panait Istrati” Braila organizează expoziția documentară „Ceahlăul literaturii române”\, ce poate fi vizitată la parterul Compartimentului Împrumut Carte pentru Adulți în perioada 5-24 noiembrie a.c.\n\n\nMihail Sadoveanu a fost unul dintre cei mai prolifici scriitori români\, abordând diferite genuri și teme literare. A scris romane\, povestiri\, nuvele\, schițe\, memorii\, reportaje\, biografii\, eseuri\, traduceri și poezii. Prin stilul său\, a fost un maestru al descrierii naturii și al evocării atmosferei\, folosind un limbaj bogat și expresiv.\n\n\nSadoveanu a creat personaje memorabile\, inspirate din istoria și viața poporului român\, dar și din propria sa experiență. De asemenea\, a fost un narator captivant\, care a știut să mențină interesul cititorului prin suspans\, umor\, ironie și dramatism.\nExpoziția este realizată de Doina Lalu\, bibliotecar.
URL:https://www.bjbraila.ro/eveniment/ceahlaul-literaturii-romane-expozitie-documentara/
LOCATION:Biblioteca “Panait Istrati” Braila\, Piața Poligon nr. 4\, Brăila\, Brăila\, 810026\, România
CATEGORIES:Expoziție
ATTACH;FMTTYPE=image/jpeg:https://www.bjbraila.ro/wp-content/uploads/2025/11/M-Sadoveanu.jpg
END:VEVENT
END:VCALENDAR