BEGIN:VCALENDAR
VERSION:2.0
PRODID:-//bjbraila.ro - ECPv6.15.20//NONSGML v1.0//EN
CALSCALE:GREGORIAN
METHOD:PUBLISH
X-WR-CALNAME:bjbraila.ro
X-ORIGINAL-URL:https://www.bjbraila.ro
X-WR-CALDESC:Evenimente pentru bjbraila.ro
REFRESH-INTERVAL;VALUE=DURATION:PT1H
X-Robots-Tag:noindex
X-PUBLISHED-TTL:PT1H
BEGIN:VTIMEZONE
TZID:Europe/Moscow
BEGIN:STANDARD
TZOFFSETFROM:+0300
TZOFFSETTO:+0300
TZNAME:MSK
DTSTART:20240101T000000
END:STANDARD
END:VTIMEZONE
BEGIN:VEVENT
DTSTART;TZID=Europe/Moscow:20251115T080000
DTEND;TZID=Europe/Moscow:20251115T160000
DTSTAMP:20260422T015211
CREATED:20251110T072004Z
LAST-MODIFIED:20251110T072004Z
UID:10261-1763193600-1763222400@www.bjbraila.ro
SUMMARY:Club robotică
DESCRIPTION:Club robotică \n\ncoordonator: Silviu Gheorghe;\nlocația: Makerspace\, etajul 1;\nora: 08.00 – 16.00;\natelier adresat tinerilor cu vârsta cuprinsă între 14 și 19 ani;\ndetalii: 0239 611 292
URL:https://www.bjbraila.ro/eveniment/club-robotica-73/
LOCATION:Biblioteca “Panait Istrati” Braila\, Piața Poligon nr. 4\, Brăila\, Brăila\, 810026\, România
CATEGORIES:Evenimente
ORGANIZER;CN="Biblioteca %E2%80%9CPanait Istrati%E2%80%9D Braila":MAILTO:bjpi@bjbraila.ro
END:VEVENT
BEGIN:VEVENT
DTSTART;TZID=Europe/Moscow:20251115T093000
DTEND;TZID=Europe/Moscow:20251115T110000
DTSTAMP:20260422T015211
CREATED:20251110T100235Z
LAST-MODIFIED:20251110T100235Z
UID:10291-1763199000-1763204400@www.bjbraila.ro
SUMMARY:Tărâmul emoțiilor
DESCRIPTION:Tărâmul emoțiilor \n\ncoordonator: Cherciu Camelia;\nlocația: Secția Împrumut Adulți;\nora: 09.30 – 11.00;\ndetalii: 0239 611 292
URL:https://www.bjbraila.ro/eveniment/taramul-emotiilor-8/
LOCATION:Biblioteca “Panait Istrati” Braila\, Piața Poligon nr. 4\, Brăila\, Brăila\, 810026\, România
CATEGORIES:Evenimente
ORGANIZER;CN="Biblioteca %E2%80%9CPanait Istrati%E2%80%9D Braila":MAILTO:bjpi@bjbraila.ro
END:VEVENT
BEGIN:VEVENT
DTSTART;TZID=Europe/Moscow:20251115T100000
DTEND;TZID=Europe/Moscow:20251115T120000
DTSTAMP:20260422T015211
CREATED:20251110T100649Z
LAST-MODIFIED:20251110T100649Z
UID:10295-1763200800-1763208000@www.bjbraila.ro
SUMMARY:Niciodată Singur
DESCRIPTION:Niciodată Singur \n\ncoordonator: Crețu Alina ;\nlocația: Sala Fănuș Neagu\, etajul 3;\nora: 10.00 – 12.00;\nactivități seniori;\ndetalii: 0239 611 292
URL:https://www.bjbraila.ro/eveniment/niciodata-singur-5/
LOCATION:Biblioteca “Panait Istrati” Braila\, Piața Poligon nr. 4\, Brăila\, Brăila\, 810026\, România
CATEGORIES:Evenimente
ORGANIZER;CN="Biblioteca %E2%80%9CPanait Istrati%E2%80%9D Braila":MAILTO:bjpi@bjbraila.ro
END:VEVENT
BEGIN:VEVENT
DTSTART;TZID=Europe/Moscow:20251115T100000
DTEND;TZID=Europe/Moscow:20251115T140000
DTSTAMP:20260422T015211
CREATED:20251110T100847Z
LAST-MODIFIED:20251110T100847Z
UID:10297-1763200800-1763215200@www.bjbraila.ro
SUMMARY:Atelier Marketing Digital
DESCRIPTION:Atelier Marketing Digital \n\ncoordonator:  Adamache Teodora ;\nlocația: Centrul Instruire\, etajul 3;\nora: 10.00 – 14.00;\ndetalii: 0239 611 292
URL:https://www.bjbraila.ro/eveniment/atelier-marketing-digital-4/
LOCATION:Biblioteca “Panait Istrati” Braila\, Piața Poligon nr. 4\, Brăila\, Brăila\, 810026\, România
CATEGORIES:Evenimente
ORGANIZER;CN="Biblioteca %E2%80%9CPanait Istrati%E2%80%9D Braila":MAILTO:bjpi@bjbraila.ro
END:VEVENT
BEGIN:VEVENT
DTSTART;TZID=Europe/Moscow:20251115T110000
DTEND;TZID=Europe/Moscow:20251115T123000
DTSTAMP:20260422T015211
CREATED:20251110T100435Z
LAST-MODIFIED:20251110T100435Z
UID:10293-1763204400-1763209800@www.bjbraila.ro
SUMMARY:Colorăm viața
DESCRIPTION:Colorăm viața \n\ncoordonator: Camelia Cherciu;\nlocația: Secția Împrumut Adulți;\nora: 11.00 – 12.30;\ndetalii: 0239 611 292
URL:https://www.bjbraila.ro/eveniment/coloram-viata-2/
LOCATION:Biblioteca “Panait Istrati” Braila\, Piața Poligon nr. 4\, Brăila\, Brăila\, 810026\, România
CATEGORIES:Evenimente
ORGANIZER;CN="Biblioteca %E2%80%9CPanait Istrati%E2%80%9D Braila":MAILTO:bjpi@bjbraila.ro
END:VEVENT
BEGIN:VEVENT
DTSTART;TZID=Europe/Moscow:20251115T110000
DTEND;TZID=Europe/Moscow:20251115T130000
DTSTAMP:20260422T015211
CREATED:20251110T101016Z
LAST-MODIFIED:20251110T101016Z
UID:10299-1763204400-1763211600@www.bjbraila.ro
SUMMARY:Grup artistic Nino Nino
DESCRIPTION:Grup artistic Nino Nino \n\ncoordonator: Lică Barbu;\nlocația: sala Panait Istrati\, etajul 3;\nora: 11.00 – 13.00;\ndetalii: 0239 611 292
URL:https://www.bjbraila.ro/eveniment/grup-artistic-nino-nino-3/
LOCATION:Biblioteca “Panait Istrati” Braila\, Piața Poligon nr. 4\, Brăila\, Brăila\, 810026\, România
CATEGORIES:Evenimente
ORGANIZER;CN="Biblioteca %E2%80%9CPanait Istrati%E2%80%9D Braila":MAILTO:bjpi@bjbraila.ro
END:VEVENT
BEGIN:VEVENT
DTSTART;TZID=Europe/Moscow:20251117T080000
DTEND;TZID=Europe/Moscow:20251117T160000
DTSTAMP:20260422T015211
CREATED:20251117T072158Z
LAST-MODIFIED:20251117T072158Z
UID:10313-1763366400-1763395200@www.bjbraila.ro
SUMMARY:Club robotică
DESCRIPTION:Club robotică \n\ncoordonator: Silviu Gheorghe;\nlocația: Makerspace\, etajul 1;\nora: 08.00 – 16.00;\natelier adresat tinerilor cu vârsta cuprinsă între 14 și 19 ani;\ndetalii: 0239 611 292
URL:https://www.bjbraila.ro/eveniment/club-robotica-74/
LOCATION:Biblioteca “Panait Istrati” Braila\, Piața Poligon nr. 4\, Brăila\, Brăila\, 810026\, România
CATEGORIES:Evenimente
ORGANIZER;CN="Biblioteca %E2%80%9CPanait Istrati%E2%80%9D Braila":MAILTO:bjpi@bjbraila.ro
END:VEVENT
BEGIN:VEVENT
DTSTART;TZID=Europe/Moscow:20251118T080000
DTEND;TZID=Europe/Moscow:20251118T160000
DTSTAMP:20260422T015211
CREATED:20251117T073405Z
LAST-MODIFIED:20251117T073405Z
UID:10315-1763452800-1763481600@www.bjbraila.ro
SUMMARY:Club robotică
DESCRIPTION:Club robotică \n\ncoordonator: Silviu Gheorghe;\nlocația: Makerspace\, etajul 1;\nora: 08.00 – 16.00;\natelier adresat tinerilor cu vârsta cuprinsă între 14 și 19 ani;\ndetalii: 0239 611 292
URL:https://www.bjbraila.ro/eveniment/club-robotica-75/
LOCATION:Biblioteca “Panait Istrati” Braila\, Piața Poligon nr. 4\, Brăila\, Brăila\, 810026\, România
CATEGORIES:Evenimente
ORGANIZER;CN="Biblioteca %E2%80%9CPanait Istrati%E2%80%9D Braila":MAILTO:bjpi@bjbraila.ro
END:VEVENT
BEGIN:VEVENT
DTSTART;TZID=Europe/Moscow:20251118T110000
DTEND;TZID=Europe/Moscow:20251118T123000
DTSTAMP:20260422T015211
CREATED:20251117T074331Z
LAST-MODIFIED:20251117T074331Z
UID:10325-1763463600-1763469000@www.bjbraila.ro
SUMMARY:Activități cu seniorii
DESCRIPTION:coordonator: Apostu Viorica\, Ștefu Gabriela;\nlocația: Căminul Sf. Petru și Pavel;\nora: 11.00 – 12.30;\ndetalii: 0239 611 292
URL:https://www.bjbraila.ro/eveniment/activitati-cu-seniorii-3/
LOCATION:Biblioteca “Panait Istrati” Braila\, Piața Poligon nr. 4\, Brăila\, Brăila\, 810026\, România
ORGANIZER;CN="Biblioteca %E2%80%9CPanait Istrati%E2%80%9D Braila":MAILTO:bjpi@bjbraila.ro
END:VEVENT
BEGIN:VEVENT
DTSTART;TZID=Europe/Moscow:20251118T140000
DTEND;TZID=Europe/Moscow:20251118T160000
DTSTAMP:20260422T015211
CREATED:20251117T074503Z
LAST-MODIFIED:20251117T074503Z
UID:10327-1763474400-1763481600@www.bjbraila.ro
SUMMARY:Arta lumii
DESCRIPTION:Arta lumii \n\ncoordonator: Buzdugan Steluța\, Ene Irina;\nlocația: Mediatecă\, parter ;\nora: 14.00 – 16.00;\ndetalii: 0239 611 292
URL:https://www.bjbraila.ro/eveniment/arta-lumii-12/
LOCATION:Biblioteca “Panait Istrati” Braila\, Piața Poligon nr. 4\, Brăila\, Brăila\, 810026\, România
CATEGORIES:Evenimente
ORGANIZER;CN="Biblioteca %E2%80%9CPanait Istrati%E2%80%9D Braila":MAILTO:bjpi@bjbraila.ro
END:VEVENT
BEGIN:VEVENT
DTSTART;TZID=Europe/Moscow:20251118T140000
DTEND;TZID=Europe/Moscow:20251118T160000
DTSTAMP:20260422T015211
CREATED:20251117T074629Z
LAST-MODIFIED:20251117T074629Z
UID:10329-1763474400-1763481600@www.bjbraila.ro
SUMMARY:Cu temele la zi
DESCRIPTION:Cu temele la zi \n\ncoordonator: Florică Ana-Maria;\nlocația: Centrul Multicultural;\nora: 14.00 – 16.00;\ndetalii: 0239 611 292
URL:https://www.bjbraila.ro/eveniment/cu-temele-la-zi-3/
LOCATION:Biblioteca “Panait Istrati” Braila\, Piața Poligon nr. 4\, Brăila\, Brăila\, 810026\, România
CATEGORIES:Evenimente
ORGANIZER;CN="Biblioteca %E2%80%9CPanait Istrati%E2%80%9D Braila":MAILTO:bjpi@bjbraila.ro
END:VEVENT
BEGIN:VEVENT
DTSTART;TZID=Europe/Moscow:20251118T170000
DTEND;TZID=Europe/Moscow:20251118T180000
DTSTAMP:20260422T015211
CREATED:20251117T074941Z
LAST-MODIFIED:20251117T074941Z
UID:10331-1763485200-1763488800@www.bjbraila.ro
SUMMARY:Atelier de limba engleză adulți
DESCRIPTION:Atelier de limba engleză adulți \n\ncoordonator: Eftime Violeta;\nlocația: Centrul de Instruire\, etajul 3;\nora: 17.00 – 18.00;\ndetalii: 0239 611 292
URL:https://www.bjbraila.ro/eveniment/atelier-de-limba-engleza-adulti-9/
LOCATION:Biblioteca “Panait Istrati” Braila\, Piața Poligon nr. 4\, Brăila\, Brăila\, 810026\, România
ORGANIZER;CN="Biblioteca %E2%80%9CPanait Istrati%E2%80%9D Braila":MAILTO:bjpi@bjbraila.ro
END:VEVENT
BEGIN:VEVENT
DTSTART;TZID=Europe/Moscow:20251119T080000
DTEND;TZID=Europe/Moscow:20251119T160000
DTSTAMP:20260422T015211
CREATED:20251117T073452Z
LAST-MODIFIED:20251117T073452Z
UID:10317-1763539200-1763568000@www.bjbraila.ro
SUMMARY:Club robotică
DESCRIPTION:Club robotică \n\ncoordonator: Silviu Gheorghe;\nlocația: Makerspace\, etajul 1;\nora: 08.00 – 16.00;\natelier adresat tinerilor cu vârsta cuprinsă între 14 și 19 ani;\ndetalii: 0239 611 292
URL:https://www.bjbraila.ro/eveniment/club-robotica-76/
LOCATION:Biblioteca “Panait Istrati” Braila\, Piața Poligon nr. 4\, Brăila\, Brăila\, 810026\, România
CATEGORIES:Evenimente
ORGANIZER;CN="Biblioteca %E2%80%9CPanait Istrati%E2%80%9D Braila":MAILTO:bjpi@bjbraila.ro
END:VEVENT
BEGIN:VEVENT
DTSTART;TZID=Europe/Moscow:20251119T110000
DTEND;TZID=Europe/Moscow:20251119T120000
DTSTAMP:20260422T015211
CREATED:20251117T075234Z
LAST-MODIFIED:20251117T075234Z
UID:10337-1763550000-1763553600@www.bjbraila.ro
SUMMARY:Atelier de limba engleză adulți
DESCRIPTION:Atelier de limba engleză adulți \n\ncoordonator: Eftime Violeta;\nlocația: Centrul de Instruire\, etajul 3;\nora: 11.00 – 12.00;\ndetalii: 0239 611 292
URL:https://www.bjbraila.ro/eveniment/atelier-de-limba-engleza-adulti-11/
LOCATION:Biblioteca “Panait Istrati” Braila\, Piața Poligon nr. 4\, Brăila\, Brăila\, 810026\, România
CATEGORIES:Evenimente
ORGANIZER;CN="Biblioteca %E2%80%9CPanait Istrati%E2%80%9D Braila":MAILTO:bjpi@bjbraila.ro
END:VEVENT
BEGIN:VEVENT
DTSTART;TZID=Europe/Moscow:20251119T143000
DTEND;TZID=Europe/Moscow:20251119T160000
DTSTAMP:20260422T015211
CREATED:20251117T075713Z
LAST-MODIFIED:20251117T075713Z
UID:10339-1763562600-1763568000@www.bjbraila.ro
SUMMARY:Atelier de pictura pe sticlă
DESCRIPTION:Atelier de pictura pe sticlă \n\ncoordonator: Prodan Nicoleta;\nlocația: Centrul Multicultural;\nora: 14.30 – 16.00;\ndetalii: 0239 611 292
URL:https://www.bjbraila.ro/eveniment/atelier-de-pictura-pe-sticla-2/
LOCATION:Biblioteca “Panait Istrati” Braila\, Piața Poligon nr. 4\, Brăila\, Brăila\, 810026\, România
ORGANIZER;CN="Biblioteca %E2%80%9CPanait Istrati%E2%80%9D Braila":MAILTO:bjpi@bjbraila.ro
END:VEVENT
BEGIN:VEVENT
DTSTART;TZID=Europe/Moscow:20251119T163000
DTEND;TZID=Europe/Moscow:20251119T173000
DTSTAMP:20260422T015211
CREATED:20251117T075929Z
LAST-MODIFIED:20251117T075929Z
UID:10341-1763569800-1763573400@www.bjbraila.ro
SUMMARY:Șah copii
DESCRIPTION:Șah copii \n\ncoordonator: Preda Iulian;\nlocația: Mediatecă\, parter;\nora: 16.30 – 17.30;\ndetalii: 0239 611 292
URL:https://www.bjbraila.ro/eveniment/sah-copii-4/
LOCATION:Biblioteca “Panait Istrati” Braila\, Piața Poligon nr. 4\, Brăila\, Brăila\, 810026\, România
CATEGORIES:Evenimente
ORGANIZER;CN="Biblioteca %E2%80%9CPanait Istrati%E2%80%9D Braila":MAILTO:bjpi@bjbraila.ro
END:VEVENT
BEGIN:VEVENT
DTSTART;TZID=Europe/Moscow:20251119T163000
DTEND;TZID=Europe/Moscow:20251119T180000
DTSTAMP:20260422T015211
CREATED:20251117T080218Z
LAST-MODIFIED:20251117T080218Z
UID:10343-1763569800-1763575200@www.bjbraila.ro
SUMMARY:Poveștile firelor de ață
DESCRIPTION:Poveștile firelor de ață \n\ncoordonator: Răileanu Leta;\nlocația: Secția Împrumut Adulți ;\nora: 16.30 – 18.00;\ndetalii: 0239 611 292
URL:https://www.bjbraila.ro/eveniment/povestile-firelor-de-ata-6/
LOCATION:Biblioteca “Panait Istrati” Braila\, Piața Poligon nr. 4\, Brăila\, Brăila\, 810026\, România
CATEGORIES:Evenimente
ORGANIZER;CN="Biblioteca %E2%80%9CPanait Istrati%E2%80%9D Braila":MAILTO:bjpi@bjbraila.ro
END:VEVENT
BEGIN:VEVENT
DTSTART;TZID=Europe/Moscow:20251119T170000
DTEND;TZID=Europe/Moscow:20251119T180000
DTSTAMP:20260422T015211
CREATED:20251117T075059Z
LAST-MODIFIED:20251117T075059Z
UID:10335-1763571600-1763575200@www.bjbraila.ro
SUMMARY:Atelier de limba engleză adulți
DESCRIPTION:Atelier de limba engleză adulți \n\ncoordonator: Eftime Violeta;\nlocația: Centrul de Instruire\, etajul 3;\nora: 17.00 – 18.00;\ndetalii: 0239 611 292
URL:https://www.bjbraila.ro/eveniment/atelier-de-limba-engleza-adulti-10/
LOCATION:Biblioteca “Panait Istrati” Braila\, Piața Poligon nr. 4\, Brăila\, Brăila\, 810026\, România
CATEGORIES:Evenimente
ORGANIZER;CN="Biblioteca %E2%80%9CPanait Istrati%E2%80%9D Braila":MAILTO:bjpi@bjbraila.ro
END:VEVENT
BEGIN:VEVENT
DTSTART;TZID=Europe/Moscow:20251120T080000
DTEND;TZID=Europe/Moscow:20251120T170000
DTSTAMP:20260422T015211
CREATED:20251117T073531Z
LAST-MODIFIED:20251117T073531Z
UID:10319-1763625600-1763658000@www.bjbraila.ro
SUMMARY:Club robotică
DESCRIPTION:Club robotică \n\ncoordonator: Silviu Gheorghe;\nlocația: Makerspace\, etajul 1;\nora: 08.00 – 16.00;\natelier adresat tinerilor cu vârsta cuprinsă între 14 și 19 ani;\ndetalii: 0239 611 292
URL:https://www.bjbraila.ro/eveniment/club-robotica-77/
LOCATION:Biblioteca “Panait Istrati” Braila\, Piața Poligon nr. 4\, Brăila\, Brăila\, 810026\, România
CATEGORIES:Evenimente
ORGANIZER;CN="Biblioteca %E2%80%9CPanait Istrati%E2%80%9D Braila":MAILTO:bjpi@bjbraila.ro
END:VEVENT
BEGIN:VEVENT
DTSTART;TZID=Europe/Moscow:20251120T090000
DTEND;TZID=Europe/Moscow:20251120T100000
DTSTAMP:20260422T015211
CREATED:20251117T080357Z
LAST-MODIFIED:20251117T080357Z
UID:10345-1763629200-1763632800@www.bjbraila.ro
SUMMARY:Colorăm Viața
DESCRIPTION:Colorăm Viața \n\ncoordonator: Cherciu Camelia;\nlocația: Centrul de Educație Incluzivă ;\nora: 09.00 – 10.00;\ndetalii: 0239 611 292
URL:https://www.bjbraila.ro/eveniment/coloram-viata-3/
LOCATION:Biblioteca “Panait Istrati” Braila\, Piața Poligon nr. 4\, Brăila\, Brăila\, 810026\, România
CATEGORIES:Evenimente
ORGANIZER;CN="Biblioteca %E2%80%9CPanait Istrati%E2%80%9D Braila":MAILTO:bjpi@bjbraila.ro
END:VEVENT
BEGIN:VEVENT
DTSTART;TZID=Europe/Moscow:20251120T113000
DTEND;TZID=Europe/Moscow:20251120T130000
DTSTAMP:20260422T015211
CREATED:20251117T080524Z
LAST-MODIFIED:20251117T080524Z
UID:10347-1763638200-1763643600@www.bjbraila.ro
SUMMARY:Filmul de Joi
DESCRIPTION:Filmul de Joi \n\ncoordonator:Buzdugan Steluța\, Ene irina;\nlocația: Mediatecă\, parter;\nora: 11.30 – 13.00;\ndetalii: 0239 611 292
URL:https://www.bjbraila.ro/eveniment/filmul-de-joi-12/
LOCATION:Biblioteca “Panait Istrati” Braila\, Piața Poligon nr. 4\, Brăila\, Brăila\, 810026\, România
CATEGORIES:Evenimente
ORGANIZER;CN="Biblioteca %E2%80%9CPanait Istrati%E2%80%9D Braila":MAILTO:bjpi@bjbraila.ro
END:VEVENT
BEGIN:VEVENT
DTSTART;TZID=Europe/Moscow:20251120T140000
DTEND;TZID=Europe/Moscow:20251120T153000
DTSTAMP:20260422T015211
CREATED:20251117T080829Z
LAST-MODIFIED:20251117T080829Z
UID:10351-1763647200-1763652600@www.bjbraila.ro
SUMMARY:Sunt Creativ
DESCRIPTION:Sunt Creativ \n\ncoordonator: Iacob Silvia;\nlocația: sala Panait Istrati\, etajul 3;\nora: 14.00 – 15.30;\ndetalii: 0239 611 292
URL:https://www.bjbraila.ro/eveniment/sunt-creativ-10/
LOCATION:Biblioteca “Panait Istrati” Braila\, Piața Poligon nr. 4\, Brăila\, Brăila\, 810026\, România
CATEGORIES:Evenimente
ORGANIZER;CN="Biblioteca %E2%80%9CPanait Istrati%E2%80%9D Braila":MAILTO:bjpi@bjbraila.ro
END:VEVENT
BEGIN:VEVENT
DTSTART;TZID=Europe/Moscow:20251120T140000
DTEND;TZID=Europe/Moscow:20251120T153000
DTSTAMP:20260422T015211
CREATED:20251117T080954Z
LAST-MODIFIED:20251117T080954Z
UID:10353-1763647200-1763652600@www.bjbraila.ro
SUMMARY:Cerc pedagogic
DESCRIPTION:Cerc pedagogic \n\nlocația: Sala Dunărea;\nora: 14.00 – 15.30;\ndetalii: 0239 611 292
URL:https://www.bjbraila.ro/eveniment/cerc-pedagogic/
LOCATION:Biblioteca “Panait Istrati” Braila\, Piața Poligon nr. 4\, Brăila\, Brăila\, 810026\, România
CATEGORIES:Evenimente
ORGANIZER;CN="Biblioteca %E2%80%9CPanait Istrati%E2%80%9D Braila":MAILTO:bjpi@bjbraila.ro
END:VEVENT
BEGIN:VEVENT
DTSTART;TZID=Europe/Moscow:20251120T143000
DTEND;TZID=Europe/Moscow:20251120T160000
DTSTAMP:20260422T015211
CREATED:20251117T080655Z
LAST-MODIFIED:20251117T080655Z
UID:10349-1763649000-1763654400@www.bjbraila.ro
SUMMARY:Atelier de Caligrafie
DESCRIPTION:Atelier de Caligrafie \n\ncoordonator: Florică Ana-Maria;\nlocația: Centrul Multicultural;\nora: 14.30 – 16.00;\ndetalii: 0239 611 292
URL:https://www.bjbraila.ro/eveniment/atelier-de-caligrafie-9/
LOCATION:Biblioteca “Panait Istrati” Braila\, Piața Poligon nr. 4\, Brăila\, Brăila\, 810026\, România
CATEGORIES:Evenimente
ORGANIZER;CN="Biblioteca %E2%80%9CPanait Istrati%E2%80%9D Braila":MAILTO:bjpi@bjbraila.ro
END:VEVENT
BEGIN:VEVENT
DTSTART;TZID=Europe/Moscow:20251121T080000
DTEND;TZID=Europe/Moscow:20251121T160000
DTSTAMP:20260422T015211
CREATED:20251117T073608Z
LAST-MODIFIED:20251117T073608Z
UID:10321-1763712000-1763740800@www.bjbraila.ro
SUMMARY:Club robotică
DESCRIPTION:Club robotică \n\ncoordonator: Silviu Gheorghe;\nlocația: Makerspace\, etajul 1;\nora: 08.00 – 16.00;\natelier adresat tinerilor cu vârsta cuprinsă între 14 și 19 ani;\ndetalii: 0239 611 292
URL:https://www.bjbraila.ro/eveniment/club-robotica-78/
LOCATION:Biblioteca “Panait Istrati” Braila\, Piața Poligon nr. 4\, Brăila\, Brăila\, 810026\, România
CATEGORIES:Evenimente
ORGANIZER;CN="Biblioteca %E2%80%9CPanait Istrati%E2%80%9D Braila":MAILTO:bjpi@bjbraila.ro
END:VEVENT
BEGIN:VEVENT
DTSTART;TZID=Europe/Moscow:20251121T150000
DTEND;TZID=Europe/Moscow:20251121T170000
DTSTAMP:20260422T015211
CREATED:20251117T081127Z
LAST-MODIFIED:20251117T081127Z
UID:10355-1763737200-1763744400@www.bjbraila.ro
SUMMARY:CodeKids
DESCRIPTION:CodeKids \n\ncoordonator: Alecu Ștefăniță;\nlocația: Centrul de Instruire\, etajul 3;\nora: 15.00 – 17.00;\ndetalii: 0239 611 292
URL:https://www.bjbraila.ro/eveniment/codekids-14/
LOCATION:Biblioteca “Panait Istrati” Braila\, Piața Poligon nr. 4\, Brăila\, Brăila\, 810026\, România
CATEGORIES:Evenimente
ORGANIZER;CN="Biblioteca %E2%80%9CPanait Istrati%E2%80%9D Braila":MAILTO:bjpi@bjbraila.ro
END:VEVENT
BEGIN:VEVENT
DTSTART;TZID=Europe/Moscow:20251121T160000
DTEND;TZID=Europe/Moscow:20251121T170000
DTSTAMP:20260422T015211
CREATED:20251117T081337Z
LAST-MODIFIED:20251117T081337Z
UID:10357-1763740800-1763744400@www.bjbraila.ro
SUMMARY:Limba engleză adulți
DESCRIPTION:Limba engleză adulți \n\ncoordonator: Rîșnoveanu Cătălin;\nlocația: Centrul Multicultural ;\nora: 16.00 – 17.00;\ndetalii: 0239 611 292
URL:https://www.bjbraila.ro/eveniment/limba-engleza-adulti-3/
LOCATION:Biblioteca “Panait Istrati” Braila\, Piața Poligon nr. 4\, Brăila\, Brăila\, 810026\, România
CATEGORIES:Evenimente
ORGANIZER;CN="Biblioteca %E2%80%9CPanait Istrati%E2%80%9D Braila":MAILTO:bjpi@bjbraila.ro
END:VEVENT
BEGIN:VEVENT
DTSTART;TZID=Europe/Moscow:20251121T170000
DTEND;TZID=Europe/Moscow:20251121T190000
DTSTAMP:20260422T015211
CREATED:20251110T134349Z
LAST-MODIFIED:20251110T134350Z
UID:10301-1763744400-1763751600@www.bjbraila.ro
SUMMARY:Lansare Antologia Cenaclului Literar Alter Ego Brăila
DESCRIPTION:Vineri\, 21 noiembrie\, de la ora 17.00\, vă invităm la lansarea Antologiei Cenaclului Literar Alter Ego Brăila! Antologia reunește 32 de autori de poezii și proză\, unii aflați la debut\, alții la maturitatea vocației\, cu o activitate literară consistentă și o recunoaștere critică pe măsură. Cenaclul a pornit la drum în toamna anului 2022 și prin întâlniri regulate\, publicarea cronicilor pe site-ul dedicat\, prin participarea la evenimente culturale diverse\, membrii săi au format treptat un nucleu literar demn de remarcat în peisajul cultural brăilean. \nModerează: Liviu Chifane\, coordonator cenaclu și Dragoș Adrian Neagu\, directorul Bibliotecii.
URL:https://www.bjbraila.ro/eveniment/lansare-antologia-cenaclului-literar-alter-ego-braila-2/
LOCATION:Biblioteca “Panait Istrati” Braila\, Piața Poligon nr. 4\, Brăila\, Brăila\, 810026\, România
CATEGORIES:Lansare de carte
ATTACH;FMTTYPE=image/jpeg:https://www.bjbraila.ro/wp-content/uploads/2025/11/afis-lansare-Alter-Ego-1.jpg
END:VEVENT
BEGIN:VEVENT
DTSTART;TZID=Europe/Moscow:20251121T170000
DTEND;TZID=Europe/Moscow:20251121T190000
DTSTAMP:20260422T015211
CREATED:20251117T081510Z
LAST-MODIFIED:20251117T081510Z
UID:10359-1763744400-1763751600@www.bjbraila.ro
SUMMARY:Lansare carte - Antologia Cenaclului Alter Ego
DESCRIPTION:Lansare carte – Antologia Cenaclului Alter Ego \n\nlocația: sala Fănuș Neagu\, etajul 3;\nora: 17.00 – 19.00;\ndetalii: 0239 611 292
URL:https://www.bjbraila.ro/eveniment/lansare-carte-antologia-cenaclului-alter-ego/
LOCATION:Biblioteca “Panait Istrati” Braila\, Piața Poligon nr. 4\, Brăila\, Brăila\, 810026\, România
CATEGORIES:Lansare de carte
ORGANIZER;CN="Biblioteca %E2%80%9CPanait Istrati%E2%80%9D Braila":MAILTO:bjpi@bjbraila.ro
END:VEVENT
BEGIN:VEVENT
DTSTART;TZID=Europe/Moscow:20251122T080000
DTEND;TZID=Europe/Moscow:20251122T160000
DTSTAMP:20260422T015211
CREATED:20251117T073701Z
LAST-MODIFIED:20251117T073701Z
UID:10323-1763798400-1763827200@www.bjbraila.ro
SUMMARY:Club robotică
DESCRIPTION:Club robotică \n\ncoordonator: Silviu Gheorghe;\nlocația: Makerspace\, etajul 1;\nora: 08.00 – 16.00;\natelier adresat tinerilor cu vârsta cuprinsă între 14 și 19 ani;\ndetalii: 0239 611 292
URL:https://www.bjbraila.ro/eveniment/club-robotica-79/
LOCATION:Biblioteca “Panait Istrati” Braila\, Piața Poligon nr. 4\, Brăila\, Brăila\, 810026\, România
CATEGORIES:Evenimente
ORGANIZER;CN="Biblioteca %E2%80%9CPanait Istrati%E2%80%9D Braila":MAILTO:bjpi@bjbraila.ro
END:VEVENT
END:VCALENDAR