BEGIN:VCALENDAR
VERSION:2.0
PRODID:-//bjbraila.ro - ECPv6.15.20//NONSGML v1.0//EN
CALSCALE:GREGORIAN
METHOD:PUBLISH
X-ORIGINAL-URL:https://www.bjbraila.ro
X-WR-CALDESC:Evenimente pentru bjbraila.ro
REFRESH-INTERVAL;VALUE=DURATION:PT1H
X-Robots-Tag:noindex
X-PUBLISHED-TTL:PT1H
BEGIN:VTIMEZONE
TZID:Europe/Moscow
BEGIN:STANDARD
TZOFFSETFROM:+0300
TZOFFSETTO:+0300
TZNAME:MSK
DTSTART:20240101T000000
END:STANDARD
END:VTIMEZONE
BEGIN:VEVENT
DTSTART;TZID=Europe/Moscow:20250513T080000
DTEND;TZID=Europe/Moscow:20250513T160000
DTSTAMP:20260420T200708
CREATED:20250512T055443Z
LAST-MODIFIED:20250512T055443Z
UID:9163-1747123200-1747152000@www.bjbraila.ro
SUMMARY:Club robotică
DESCRIPTION:Club robotică \n\ncoordonator: Silviu Gheorghe;\nlocația: Makerspace\, etajul 1;\nora: 08.00 – 16.00;\natelier adresat tinerilor cu vârsta cuprinsă între 14 și 19 ani;\ndetalii: 0239 611 292
URL:https://www.bjbraila.ro/eveniment/club-robotica-23/
LOCATION:Biblioteca “Panait Istrati” Braila\, Piața Poligon nr. 4\, Brăila\, Brăila\, 810026\, România
CATEGORIES:Evenimente
ORGANIZER;CN="Biblioteca %E2%80%9CPanait Istrati%E2%80%9D Braila":MAILTO:bjpi@bjbraila.ro
END:VEVENT
BEGIN:VEVENT
DTSTART;TZID=Europe/Moscow:20250513T140000
DTEND;TZID=Europe/Moscow:20250513T160000
DTSTAMP:20260420T200708
CREATED:20250512T060927Z
LAST-MODIFIED:20250512T060927Z
UID:9179-1747144800-1747152000@www.bjbraila.ro
SUMMARY:Arta lumii
DESCRIPTION:Arta lumii \n\ncoordonator: Irina Ene;\nlocația: Mediatecă\, parter;\nora: 14.00 – 16.00;\natelier adresat;\ndetalii: 0239 611 292
URL:https://www.bjbraila.ro/eveniment/arta-lumii-3/
LOCATION:Biblioteca “Panait Istrati” Braila\, Piața Poligon nr. 4\, Brăila\, Brăila\, 810026\, România
CATEGORIES:Evenimente
ORGANIZER;CN="Biblioteca %E2%80%9CPanait Istrati%E2%80%9D Braila":MAILTO:bjpi@bjbraila.ro
END:VEVENT
BEGIN:VEVENT
DTSTART;TZID=Europe/Moscow:20250514T080000
DTEND;TZID=Europe/Moscow:20250514T160000
DTSTAMP:20260420T200708
CREATED:20250512T055529Z
LAST-MODIFIED:20250512T055529Z
UID:9165-1747209600-1747238400@www.bjbraila.ro
SUMMARY:Club robotică
DESCRIPTION:Club robotică \n\ncoordonator: Silviu Gheorghe;\nlocația: Makerspace\, etajul 1;\nora: 08.00 – 16.00;\natelier adresat tinerilor cu vârsta cuprinsă între 14 și 19 ani;\ndetalii: 0239 611 292
URL:https://www.bjbraila.ro/eveniment/club-robotica-24/
LOCATION:Biblioteca “Panait Istrati” Braila\, Piața Poligon nr. 4\, Brăila\, Brăila\, 810026\, România
CATEGORIES:Evenimente
ORGANIZER;CN="Biblioteca %E2%80%9CPanait Istrati%E2%80%9D Braila":MAILTO:bjpi@bjbraila.ro
END:VEVENT
BEGIN:VEVENT
DTSTART;TZID=Europe/Moscow:20250514T110000
DTEND;TZID=Europe/Moscow:20250514T120000
DTSTAMP:20260420T200708
CREATED:20250512T061115Z
LAST-MODIFIED:20250512T061115Z
UID:9183-1747220400-1747224000@www.bjbraila.ro
SUMMARY:Engleza de la zero
DESCRIPTION:Engleza de la zero \n\ncoordonator: Violeta Eftime;\nlocația: Centrul de instruire\, etajul 3;\nora: 11.00 – 12.00;\natelier adresat persoanelor adulte;\ndetalii: 0239 611 292
URL:https://www.bjbraila.ro/eveniment/engleza-de-la-zero-11/
LOCATION:Biblioteca “Panait Istrati” Braila\, Piața Poligon nr. 4\, Brăila\, Brăila\, 810026\, România
CATEGORIES:Evenimente
ORGANIZER;CN="Biblioteca %E2%80%9CPanait Istrati%E2%80%9D Braila":MAILTO:bjpi@bjbraila.ro
END:VEVENT
BEGIN:VEVENT
DTSTART;TZID=Europe/Moscow:20250514T170000
DTEND;TZID=Europe/Moscow:20250514T180000
DTSTAMP:20260420T200708
CREATED:20250512T061021Z
LAST-MODIFIED:20250512T061021Z
UID:9181-1747242000-1747245600@www.bjbraila.ro
SUMMARY:Engleza de la zero
DESCRIPTION:Engleza de la zero \n\ncoordonator: Violeta Eftime;\nlocația: Centrul de instruire\, etajul 3;\nora: 17.00 – 18.00;\natelier adresat persoanelor adulte;\ndetalii: 0239 611 292
URL:https://www.bjbraila.ro/eveniment/engleza-de-la-zero-10/
LOCATION:Biblioteca “Panait Istrati” Braila\, Piața Poligon nr. 4\, Brăila\, Brăila\, 810026\, România
CATEGORIES:Evenimente
ORGANIZER;CN="Biblioteca %E2%80%9CPanait Istrati%E2%80%9D Braila":MAILTO:bjpi@bjbraila.ro
END:VEVENT
BEGIN:VEVENT
DTSTART;TZID=Europe/Moscow:20250515T080000
DTEND;TZID=Europe/Moscow:20250515T160000
DTSTAMP:20260420T200708
CREATED:20250512T055612Z
LAST-MODIFIED:20250512T055612Z
UID:9167-1747296000-1747324800@www.bjbraila.ro
SUMMARY:Club robotică
DESCRIPTION:Club robotică \n\ncoordonator: Silviu Gheorghe;\nlocația: Makerspace\, etajul 1;\nora: 08.00 – 16.00;\natelier adresat tinerilor cu vârsta cuprinsă între 14 și 19 ani;\ndetalii: 0239 611 292
URL:https://www.bjbraila.ro/eveniment/club-robotica-25/
LOCATION:Biblioteca “Panait Istrati” Braila\, Piața Poligon nr. 4\, Brăila\, Brăila\, 810026\, România
CATEGORIES:Evenimente
ORGANIZER;CN="Biblioteca %E2%80%9CPanait Istrati%E2%80%9D Braila":MAILTO:bjpi@bjbraila.ro
END:VEVENT
BEGIN:VEVENT
DTSTART;TZID=Europe/Moscow:20250515T113000
DTEND;TZID=Europe/Moscow:20250515T130000
DTSTAMP:20260420T200708
CREATED:20250512T061220Z
LAST-MODIFIED:20250512T061232Z
UID:9186-1747308600-1747314000@www.bjbraila.ro
SUMMARY:Filmul de joi
DESCRIPTION:Filmul de joi \n\ncoordonator: Irina Ene;\nlocația: Mediatecă\, parter;\nora: 11.30 – 13.00\ndetalii: 0239 611 292
URL:https://www.bjbraila.ro/eveniment/filmul-de-joi-3/
LOCATION:Biblioteca “Panait Istrati” Braila\, Piața Poligon nr. 4\, Brăila\, Brăila\, 810026\, România
CATEGORIES:Evenimente
ORGANIZER;CN="Biblioteca %E2%80%9CPanait Istrati%E2%80%9D Braila":MAILTO:bjpi@bjbraila.ro
END:VEVENT
BEGIN:VEVENT
DTSTART;TZID=Europe/Moscow:20250515T120000
DTEND;TZID=Europe/Moscow:20250515T130000
DTSTAMP:20260420T200708
CREATED:20250512T065123Z
LAST-MODIFIED:20250512T065123Z
UID:9210-1747310400-1747314000@www.bjbraila.ro
SUMMARY:Povești pentru copii isteți
DESCRIPTION:Povești pentru copii isteți \n\ncoordonatori: Apostu Viorica\, Ștefu Gabriela;\nlocația: Centrul Multifuncțional Lacul Dulce;\nora: 12.00 – 13.00;\ndetalii: 0239 611 292
URL:https://www.bjbraila.ro/eveniment/povesti-pentru-copii-isteti-2/
LOCATION:Brăila
CATEGORIES:Evenimente
ORGANIZER;CN="Biblioteca %E2%80%9CPanait Istrati%E2%80%9D Braila":MAILTO:bjpi@bjbraila.ro
END:VEVENT
BEGIN:VEVENT
DTSTART;TZID=Europe/Moscow:20250515T143000
DTEND;TZID=Europe/Moscow:20250515T160000
DTSTAMP:20260420T200708
CREATED:20250512T061846Z
LAST-MODIFIED:20250512T061846Z
UID:9195-1747319400-1747324800@www.bjbraila.ro
SUMMARY:Caligrafie
DESCRIPTION:Caligrafie \n\ncoordonator: Mara Ionașcu;\nlocația: Centrul Multicultural;\nora: 14.30 – 16.00\natelier adresat copiilor cu vârsta cuprinsă între 6 și 8 ani;\ndetalii: 0239 611 292
URL:https://www.bjbraila.ro/eveniment/caligrafie-2/
LOCATION:Biblioteca “Panait Istrati” Braila\, Piața Poligon nr. 4\, Brăila\, Brăila\, 810026\, România
CATEGORIES:Evenimente
ORGANIZER;CN="Biblioteca %E2%80%9CPanait Istrati%E2%80%9D Braila":MAILTO:bjpi@bjbraila.ro
END:VEVENT
BEGIN:VEVENT
DTSTART;TZID=Europe/Moscow:20250515T163000
DTEND;TZID=Europe/Moscow:20250515T180000
DTSTAMP:20260420T200708
CREATED:20250512T062146Z
LAST-MODIFIED:20250512T062201Z
UID:9201-1747326600-1747332000@www.bjbraila.ro
SUMMARY:Atelier de croșetat pentru adulți
DESCRIPTION:Atelier de croșetat pentru adulți \n\ncoordonator: Doina Lalu\, Mihaela Lungu\, Nicoleta Prodan;\nlocația: secția Împrumut pentru adulți;\nora: 16.30 – 18.00;\natelier adresat persoanelor adulte;\ndetalii: 0239 611 292
URL:https://www.bjbraila.ro/eveniment/atelier-de-crosetat-pentru-adulti-2/
LOCATION:Biblioteca “Panait Istrati” Braila\, Piața Poligon nr. 4\, Brăila\, Brăila\, 810026\, România
CATEGORIES:Evenimente
ORGANIZER;CN="Biblioteca %E2%80%9CPanait Istrati%E2%80%9D Braila":MAILTO:bjpi@bjbraila.ro
END:VEVENT
BEGIN:VEVENT
DTSTART;TZID=Europe/Moscow:20250515T170000
DTEND;TZID=Europe/Moscow:20250515T190000
DTSTAMP:20260420T200708
CREATED:20250512T061335Z
LAST-MODIFIED:20250512T061335Z
UID:9189-1747328400-1747335600@www.bjbraila.ro
SUMMARY:Alcoolicii Anonimi
DESCRIPTION:Alcoolicii Anonimi \n\nlocația: sala Panait Istrati\, etajul 3;\nora: 17.00 – 19.00;\ndetalii: 0239 611 292
URL:https://www.bjbraila.ro/eveniment/alcoolicii-anonimi-8/
LOCATION:Biblioteca “Panait Istrati” Braila\, Piața Poligon nr. 4\, Brăila\, Brăila\, 810026\, România
CATEGORIES:Evenimente
ORGANIZER;CN="Biblioteca %E2%80%9CPanait Istrati%E2%80%9D Braila":MAILTO:bjpi@bjbraila.ro
END:VEVENT
BEGIN:VEVENT
DTSTART;TZID=Europe/Moscow:20250516T080000
DTEND;TZID=Europe/Moscow:20250516T160000
DTSTAMP:20260420T200708
CREATED:20250512T055659Z
LAST-MODIFIED:20250512T055659Z
UID:9169-1747382400-1747411200@www.bjbraila.ro
SUMMARY:Club robotică
DESCRIPTION:Club robotică \n\ncoordonator: Silviu Gheorghe;\nlocația: Makerspace\, etajul 1;\nora: 08.00 – 16.00;\natelier adresat tinerilor cu vârsta cuprinsă între 14 și 19 ani;\ndetalii: 0239 611 292
URL:https://www.bjbraila.ro/eveniment/club-robotica-26/
LOCATION:Biblioteca “Panait Istrati” Braila\, Piața Poligon nr. 4\, Brăila\, Brăila\, 810026\, România
CATEGORIES:Evenimente
ORGANIZER;CN="Biblioteca %E2%80%9CPanait Istrati%E2%80%9D Braila":MAILTO:bjpi@bjbraila.ro
END:VEVENT
BEGIN:VEVENT
DTSTART;TZID=Europe/Moscow:20250516T150000
DTEND;TZID=Europe/Moscow:20250516T170000
DTSTAMP:20260420T200708
CREATED:20250512T062023Z
LAST-MODIFIED:20250512T062023Z
UID:9199-1747407600-1747414800@www.bjbraila.ro
SUMMARY:CodeKids
DESCRIPTION:CodeKids \n\ncoordonator: Ștefăniță Alecu;\nlocația: Centrul de instruire\, etajul 3;\nora: 15.00 – 17.00;\natelier adresat copiilor cu vârsta de minim 10 ani;\ndetalii: 0239 611 292
URL:https://www.bjbraila.ro/eveniment/codekids-4/
LOCATION:Biblioteca “Panait Istrati” Braila\, Piața Poligon nr. 4\, Brăila\, Brăila\, 810026\, România
CATEGORIES:Evenimente
ORGANIZER;CN="Biblioteca %E2%80%9CPanait Istrati%E2%80%9D Braila":MAILTO:bjpi@bjbraila.ro
END:VEVENT
BEGIN:VEVENT
DTSTART;TZID=Europe/Moscow:20250516T160000
DTEND;TZID=Europe/Moscow:20250516T180000
DTSTAMP:20260420T200708
CREATED:20250512T061935Z
LAST-MODIFIED:20250512T061935Z
UID:9197-1747411200-1747418400@www.bjbraila.ro
SUMMARY:Engleză pentru adulți
DESCRIPTION:Engleză pentru adulți \n\ncoordonator: Cătălin Râșnoveanu;\nlocația: Centrul Multicultural;\nora: 16.00 – 18.00\ndetalii: 0239 611 292
URL:https://www.bjbraila.ro/eveniment/engleza-pentru-adulti-2/
LOCATION:Biblioteca “Panait Istrati” Braila\, Piața Poligon nr. 4\, Brăila\, Brăila\, 810026\, România
CATEGORIES:Evenimente
ORGANIZER;CN="Biblioteca %E2%80%9CPanait Istrati%E2%80%9D Braila":MAILTO:bjpi@bjbraila.ro
END:VEVENT
BEGIN:VEVENT
DTSTART;TZID=Europe/Moscow:20250517T080000
DTEND;TZID=Europe/Moscow:20250517T120000
DTSTAMP:20260420T200708
CREATED:20250512T055757Z
LAST-MODIFIED:20250512T055757Z
UID:9171-1747468800-1747483200@www.bjbraila.ro
SUMMARY:Club robotică
DESCRIPTION:Club robotică \n\ncoordonator: Silviu Gheorghe;\nlocația: Makerspace\, etajul 1;\nora: 08.00 – 16.00;\natelier adresat tinerilor cu vârsta cuprinsă între 14 și 19 ani;\ndetalii: 0239 611 292
URL:https://www.bjbraila.ro/eveniment/club-robotica-27/
LOCATION:Casa Tineretului Brăila
CATEGORIES:Evenimente
ORGANIZER;CN="Biblioteca %E2%80%9CPanait Istrati%E2%80%9D Braila":MAILTO:bjpi@bjbraila.ro
END:VEVENT
BEGIN:VEVENT
DTSTART;TZID=Europe/Moscow:20250517T100000
DTEND;TZID=Europe/Moscow:20250517T120000
DTSTAMP:20260420T200708
CREATED:20250512T063232Z
LAST-MODIFIED:20250512T063232Z
UID:9208-1747476000-1747483200@www.bjbraila.ro
SUMMARY:Niciodată singuri
DESCRIPTION:Niciodată singuri \n\nlocația: sala Dunărea;\nora: 10.00 – 12.00;\natelier adresat seniorilor;\ndetalii: 0239 611 292;
URL:https://www.bjbraila.ro/eveniment/niciodata-singuri-3/
LOCATION:Biblioteca “Panait Istrati” Braila\, Piața Poligon nr. 4\, Brăila\, Brăila\, 810026\, România
CATEGORIES:Evenimente
ORGANIZER;CN="Biblioteca %E2%80%9CPanait Istrati%E2%80%9D Braila":MAILTO:bjpi@bjbraila.ro
END:VEVENT
BEGIN:VEVENT
DTSTART;TZID=Europe/Moscow:20250517T110000
DTEND;TZID=Europe/Moscow:20250517T120000
DTSTAMP:20260420T200708
CREATED:20250512T062529Z
LAST-MODIFIED:20250512T062529Z
UID:9204-1747479600-1747483200@www.bjbraila.ro
SUMMARY:Atelierul de grafică
DESCRIPTION:Atelierul de grafică \n\ncoordonator: Marilena Ioanid;\nlocația: Mediatecă\, parter;\nora: 11.00 – 12.00;\natelier adresat copiilor cu vârsta cuprinsă între 7 și 14 ani;\ndetalii: 0239 611 292
URL:https://www.bjbraila.ro/eveniment/atelierul-de-grafica-2/
LOCATION:Biblioteca “Panait Istrati” Braila\, Piața Poligon nr. 4\, Brăila\, Brăila\, 810026\, România
CATEGORIES:Evenimente
ORGANIZER;CN="Biblioteca %E2%80%9CPanait Istrati%E2%80%9D Braila":MAILTO:bjpi@bjbraila.ro
END:VEVENT
BEGIN:VEVENT
DTSTART;TZID=Europe/Moscow:20250517T110000
DTEND;TZID=Europe/Moscow:20250517T130000
DTSTAMP:20260420T200708
CREATED:20250512T062623Z
LAST-MODIFIED:20250512T062844Z
UID:9206-1747479600-1747486800@www.bjbraila.ro
SUMMARY:Nino Nino
DESCRIPTION:Nino Nino \n\ncoordonator: Lică Barbu;\nlocația: sala Panait Istrati\, etajul 3;\nora: 11.00 – 13.00\ndetalii: 0239 611 292
URL:https://www.bjbraila.ro/eveniment/nino-nino-3/
LOCATION:Biblioteca “Panait Istrati” Braila\, Piața Poligon nr. 4\, Brăila\, Brăila\, 810026\, România
CATEGORIES:Evenimente
ORGANIZER;CN="Biblioteca %E2%80%9CPanait Istrati%E2%80%9D Braila":MAILTO:bjpi@bjbraila.ro
END:VEVENT
BEGIN:VEVENT
DTSTART;TZID=Europe/Moscow:20250519T080000
DTEND;TZID=Europe/Moscow:20250519T160000
DTSTAMP:20260420T200708
CREATED:20250519T054451Z
LAST-MODIFIED:20250519T054451Z
UID:9220-1747641600-1747670400@www.bjbraila.ro
SUMMARY:Club robotică
DESCRIPTION:Club robotică \n\ncoordonator: Silviu Gheorghe;\nlocația: Makerspace\, etajul 1;\nora: 08.00 – 16.00;\natelier adresat tinerilor cu vârsta cuprinsă între 14 și 19 ani;\ndetalii: 0239 611 292
URL:https://www.bjbraila.ro/eveniment/club-robotica-28/
LOCATION:Biblioteca “Panait Istrati” Braila\, Piața Poligon nr. 4\, Brăila\, Brăila\, 810026\, România
CATEGORIES:Evenimente
ORGANIZER;CN="Biblioteca %E2%80%9CPanait Istrati%E2%80%9D Braila":MAILTO:bjpi@bjbraila.ro
END:VEVENT
BEGIN:VEVENT
DTSTART;TZID=Europe/Moscow:20250519T080000
DTEND;TZID=Europe/Moscow:20250519T190000
DTSTAMP:20260420T200708
CREATED:20250519T114930Z
LAST-MODIFIED:20250519T114930Z
UID:9295-1747641600-1747681200@www.bjbraila.ro
SUMMARY:Ziua Pictorilor în România
DESCRIPTION:Ziua pictorilor în România – 19 mai\, este sărbătorită la data nașterii pictorului Ion Țuculescu (1910-1962)\, pictor reprezentativ pentru spiritul românesc. Fascinat de arta arhaică autohtonă\, s-a inspirat cu precădere din filonul popular românesc\, pe care l-a interpretat într-o manieră proprie\, cu tente expresioniste\, ce l-au înscris în marele circuit universal al valorilor. Dintre operele reprezentative ale creației sale amintim: ”Peisaj cu arbuști galbeni”\, ”Iarna în mahala”\, ”Frunze de zăpadă”\, ”Dramă folclorică”\, ”Noaptea salcâmilor”\, ”Țărmul roșu”\, ”Apus de soare”\, ”Totem solar”\, ”A fost odată”\, ”Târgul de afară”\, ”Mască africană”\, ”Portretul soției”\, ”Autoportret cu frunză”\, ”Urme”\, ”Copac în soare”\, ”Baia de soare”\, ”Nivele”\, ”Eternitate”\, ”Apocalips”\, ”Clepsidra”\, ”Țărm înalt”\, ”Vas cu flori”\, ”Kimono”\, ”Peisaj fantastic”\, ”Testament plastic”. \n19 mai nu este doar o dată aniversară\, ci o reafirmare a identității naționale prin artă.\nCei mai importanți dintre pictorii care au marcat evoluția picturii românești și au au menținut-o în legatură cu Europa artistică\, și-au tras seva creatiei din specificul national. Alte câteva nume importante\, mai vechi și mai noi\, din pictura românească: Octav Băncilă\, Aurel Popp\, Jean Al.Steriadi\, Dumitru Gheață\, Olga Greceanu\, Horia Bernea\, Ion Grigore\, Ion Murariu\, Magdalena Rădulescu\, Ion Pacea\, Adrian Ghenie\, Sorin Ilfoveanu\, Ștefan Câlția\, Marinela Măntescu\, Mariana Baitelu.\n\nSala de Lectură vă așteaptă cu o colecție impresionantă de monografii\, enciclopedii și albume de artă\, pe care o puteți răsfoi/ studia\, spre încântarea ochilor și îmbogățirea sufletului.\nExpoziție realizată de Dana Iuliana Gheorghe\, bibliotecar.\n\nLa mulți ani de creativitate artistică\, pictorilor români!\n 
URL:https://www.bjbraila.ro/eveniment/ziua-pictorilor-in-romania/
LOCATION:Brăila
CATEGORIES:Expoziție
ATTACH;FMTTYPE=image/jpeg:https://www.bjbraila.ro/wp-content/uploads/2025/05/Untitled.jpg
END:VEVENT
BEGIN:VEVENT
DTSTART;TZID=Europe/Moscow:20250519T120000
DTEND;TZID=Europe/Moscow:20250519T140000
DTSTAMP:20260420T200708
CREATED:20250519T072808Z
LAST-MODIFIED:20250519T072808Z
UID:9283-1747656000-1747663200@www.bjbraila.ro
SUMMARY:Universul lecturii
DESCRIPTION:Universul lecturii \n\nlocația: secția Împrumut pentru Adulți;\nora: 12:00 – 14:00;\ndetalii: 0239 611 292
URL:https://www.bjbraila.ro/eveniment/universul-lecturii/
LOCATION:Biblioteca “Panait Istrati” Braila\, Piața Poligon nr. 4\, Brăila\, Brăila\, 810026\, România
CATEGORIES:Evenimente
ORGANIZER;CN="Biblioteca %E2%80%9CPanait Istrati%E2%80%9D Braila":MAILTO:bjpi@bjbraila.ro
END:VEVENT
BEGIN:VEVENT
DTSTART;TZID=Europe/Moscow:20250519T140000
DTEND;TZID=Europe/Moscow:20250519T150000
DTSTAMP:20260420T200708
CREATED:20250519T055358Z
LAST-MODIFIED:20250519T055358Z
UID:9238-1747663200-1747666800@www.bjbraila.ro
SUMMARY:Să scriem și să citim corect românește
DESCRIPTION:Să scriem și să citim corect românește \n\ncoordonator: Mara Ionașcu;\nlocația: Centrul Multicultural;\nora: 14.00 – 15.00;\natelier adresat\ndetalii: 0239 611 292
URL:https://www.bjbraila.ro/eveniment/sa-scriem-si-sa-citim-corect-romaneste-2/
LOCATION:Biblioteca “Panait Istrati” Braila\, Piața Poligon nr. 4\, Brăila\, Brăila\, 810026\, România
CATEGORIES:Evenimente
ORGANIZER;CN="Biblioteca %E2%80%9CPanait Istrati%E2%80%9D Braila":MAILTO:bjpi@bjbraila.ro
END:VEVENT
BEGIN:VEVENT
DTSTART;TZID=Europe/Moscow:20250519T170000
DTEND;TZID=Europe/Moscow:20250519T180000
DTSTAMP:20260420T200708
CREATED:20250519T060057Z
LAST-MODIFIED:20250519T060057Z
UID:9247-1747674000-1747677600@www.bjbraila.ro
SUMMARY:Engleza de la zero
DESCRIPTION:Engleza de la zero \n\ncoordonator: Violeta Eftime;\nlocația: Centrul de instruire\, etajul 3;\nora: 17.00 – 18.00;\natelier adresat persoanelor adulte;\ndetalii: 0239 611 292
URL:https://www.bjbraila.ro/eveniment/engleza-de-la-zero-14/
LOCATION:Biblioteca “Panait Istrati” Braila\, Piața Poligon nr. 4\, Brăila\, Brăila\, 810026\, România
CATEGORIES:Evenimente
ORGANIZER;CN="Biblioteca %E2%80%9CPanait Istrati%E2%80%9D Braila":MAILTO:bjpi@bjbraila.ro
END:VEVENT
BEGIN:VEVENT
DTSTART;TZID=Europe/Moscow:20250519T170000
DTEND;TZID=Europe/Moscow:20250519T190000
DTSTAMP:20260420T200708
CREATED:20250519T055051Z
LAST-MODIFIED:20250519T055051Z
UID:9232-1747674000-1747681200@www.bjbraila.ro
SUMMARY:Alcoolicii Anonimi
DESCRIPTION:Alcoolicii Anonimi \n\nlocația: sala Panait Istrati\, etajul 3;\nora: 17.00 – 19.00;\ndetalii: 0239 611 292
URL:https://www.bjbraila.ro/eveniment/alcoolicii-anonimi-9/
LOCATION:Biblioteca “Panait Istrati” Braila\, Piața Poligon nr. 4\, Brăila\, Brăila\, 810026\, România
CATEGORIES:Evenimente
ORGANIZER;CN="Biblioteca %E2%80%9CPanait Istrati%E2%80%9D Braila":MAILTO:bjpi@bjbraila.ro
END:VEVENT
BEGIN:VEVENT
DTSTART;TZID=Europe/Moscow:20250519T170000
DTEND;TZID=Europe/Moscow:20250519T190000
DTSTAMP:20260420T200708
CREATED:20250519T055229Z
LAST-MODIFIED:20250519T055229Z
UID:9236-1747674000-1747681200@www.bjbraila.ro
SUMMARY:Curs Antreprenoriat
DESCRIPTION:Curs Antreprenoriat \n\ncoordonator: Marius Coadă;\nlocația: sala Fănuș Neagu\, etajul 3;\nora: 17.00 – 19.00;\natelier adresat tinerilor de peste 14 ani;\ndetalii: 0239 611 292
URL:https://www.bjbraila.ro/eveniment/curs-antreprenoriat-6/
LOCATION:Biblioteca “Panait Istrati” Braila\, Piața Poligon nr. 4\, Brăila\, Brăila\, 810026\, România
CATEGORIES:Evenimente
ORGANIZER;CN="Biblioteca %E2%80%9CPanait Istrati%E2%80%9D Braila":MAILTO:bjpi@bjbraila.ro
END:VEVENT
BEGIN:VEVENT
DTSTART;TZID=Europe/Moscow:20250520T080000
DTEND;TZID=Europe/Moscow:20250520T160000
DTSTAMP:20260420T200708
CREATED:20250519T054525Z
LAST-MODIFIED:20250519T054525Z
UID:9222-1747728000-1747756800@www.bjbraila.ro
SUMMARY:Club robotică
DESCRIPTION:Club robotică \n\ncoordonator: Silviu Gheorghe;\nlocația: Makerspace\, etajul 1;\nora: 08.00 – 16.00;\natelier adresat tinerilor cu vârsta cuprinsă între 14 și 19 ani;\ndetalii: 0239 611 292
URL:https://www.bjbraila.ro/eveniment/club-robotica-29/
LOCATION:Biblioteca “Panait Istrati” Braila\, Piața Poligon nr. 4\, Brăila\, Brăila\, 810026\, România
CATEGORIES:Evenimente
ORGANIZER;CN="Biblioteca %E2%80%9CPanait Istrati%E2%80%9D Braila":MAILTO:bjpi@bjbraila.ro
END:VEVENT
BEGIN:VEVENT
DTSTART;TZID=Europe/Moscow:20250520T110000
DTEND;TZID=Europe/Moscow:20250520T120000
DTSTAMP:20260420T200708
CREATED:20250519T055717Z
LAST-MODIFIED:20250519T062307Z
UID:9242-1747738800-1747742400@www.bjbraila.ro
SUMMARY:Activiăți cu seniorii
DESCRIPTION:Activiăți cu seniorii \n\ncoordonator: Viorica Apostu\, Gabriela Ștefu;\nlocația: Căminul de bătrâni  Apostoli Petru și Pavel;\nora: 11.00 – 12.00;\natelier adresat seniorilor;\ndetalii: 0239 611 292
URL:https://www.bjbraila.ro/eveniment/activiati-cu-seniorii/
LOCATION:Biblioteca “Panait Istrati” Braila\, Piața Poligon nr. 4\, Brăila\, Brăila\, 810026\, România
CATEGORIES:Evenimente
ORGANIZER;CN="Biblioteca %E2%80%9CPanait Istrati%E2%80%9D Braila":MAILTO:bjpi@bjbraila.ro
END:VEVENT
BEGIN:VEVENT
DTSTART;TZID=Europe/Moscow:20250520T140000
DTEND;TZID=Europe/Moscow:20250520T160000
DTSTAMP:20260420T200708
CREATED:20250519T055616Z
LAST-MODIFIED:20250519T062350Z
UID:9240-1747749600-1747756800@www.bjbraila.ro
SUMMARY:Arta lumii
DESCRIPTION:Arta lumii \n\ncoordonator: Irina Ene;\nlocația: Mediatecă\, parter;\nora: 14.00 – 16.00;\ndetalii: 0239 611 292
URL:https://www.bjbraila.ro/eveniment/arta-lumii-4/
LOCATION:Biblioteca “Panait Istrati” Braila\, Piața Poligon nr. 4\, Brăila\, Brăila\, 810026\, România
CATEGORIES:Evenimente
ORGANIZER;CN="Biblioteca %E2%80%9CPanait Istrati%E2%80%9D Braila":MAILTO:bjpi@bjbraila.ro
END:VEVENT
BEGIN:VEVENT
DTSTART;TZID=Europe/Moscow:20250521T080000
DTEND;TZID=Europe/Moscow:20250521T160000
DTSTAMP:20260420T200708
CREATED:20250519T054600Z
LAST-MODIFIED:20250519T054600Z
UID:9224-1747814400-1747843200@www.bjbraila.ro
SUMMARY:Club robotică
DESCRIPTION:Club robotică \n\ncoordonator: Silviu Gheorghe;\nlocația: Makerspace\, etajul 1;\nora: 08.00 – 16.00;\natelier adresat tinerilor cu vârsta cuprinsă între 14 și 19 ani;\ndetalii: 0239 611 292
URL:https://www.bjbraila.ro/eveniment/club-robotica-30/
LOCATION:Biblioteca “Panait Istrati” Braila\, Piața Poligon nr. 4\, Brăila\, Brăila\, 810026\, România
CATEGORIES:Evenimente
ORGANIZER;CN="Biblioteca %E2%80%9CPanait Istrati%E2%80%9D Braila":MAILTO:bjpi@bjbraila.ro
END:VEVENT
BEGIN:VEVENT
DTSTART;TZID=Europe/Moscow:20250521T080000
DTEND;TZID=Europe/Moscow:20250521T190000
DTSTAMP:20260420T200708
CREATED:20250521T111653Z
LAST-MODIFIED:20250521T111653Z
UID:9333-1747814400-1747854000@www.bjbraila.ro
SUMMARY:Tudor Arghezi – eternul meșter al „cuvintelor potrivite”
DESCRIPTION:În perioada 21 mai – 4 iunie Secția Împrumut pentru Adulți a Bibliotecii Județene ”Panait Istrati” Brăila organizează expoziția documentară intitulată Tudor Arghezi – eternul meșter al „cuvintelor potrivite” – expoziție prilejuită de împlinirea a 145 de ani de la nașterea scriitorului (21 mai 1880 – 14 iul. 1967). \nOpera sa literară cuprinde poezie\, proză\, teatru și publicistică\, fiind recunoscut pentru stilul său inovator și pentru capacitatea de a îmbina elementele tradiționale cu modernismul. Opera sa poetică\, de o originalitate exemplară\, reprezintă o altă vârstă marcantă a literaturii române\, valoarea poeziei lui Arghezi constând în primul rând în adâncimea perspectivelor interioare.  \nVolumele de poezie ”Cuvinte potrivite” (1927) și ”Flori de mucigai” (1931) sunt considerate pietre de temelie ale literaturii române. A scris\, de asemenea\, teatru\, proză (notabile fiind romanele ”Cimitirul Buna Vestire”\, ”Ochii Maicii Domnului”\, pamflete\, precum și literatură pentru copii (volumele ”Cartea cu jucării”\, “Cântec de adormit Mitzura”\, “Buruieni”\, “Mărţişoare”\, “Prisaca”\, “Zdreanţă”\, etc). A fost un jurnalist prolific\, publicând articole în diverse ziare și reviste („Cronica”\, „Cuget românesc”\, „Națiunea”\, „Bilete de papagal”\, „Revista modernă”\, „Viața nouă”\, „Facla”\, „Viața românească”)\, însă spiritul său critic și ironic i-a adus adesea conflicte cu autoritățile. A încetat din viață în 1967\, la București și a fost înmormântat\, alături de Paraschiva\, soția sa\, în grădina casei din Str. Mărțișor\, cu funeralii naționale. Casa a rămas până astăzi muzeu\, fiind menținută de fiica sa\, Mitzura Arghezi. \nExpoziția este realizată de Silvia Iacob\, bibliotecar.
URL:https://www.bjbraila.ro/eveniment/tudor-arghezi-eternul-mester-al-cuvintelor-potrivite/
LOCATION:Biblioteca “Panait Istrati” Braila\, Piața Poligon nr. 4\, Brăila\, Brăila\, 810026\, România
CATEGORIES:Expoziție
ATTACH;FMTTYPE=image/jpeg:https://www.bjbraila.ro/wp-content/uploads/2025/05/afis.jpg
END:VEVENT
END:VCALENDAR