BEGIN:VCALENDAR
VERSION:2.0
PRODID:-//bjbraila.ro - ECPv6.15.20//NONSGML v1.0//EN
CALSCALE:GREGORIAN
METHOD:PUBLISH
X-ORIGINAL-URL:https://www.bjbraila.ro
X-WR-CALDESC:Evenimente pentru bjbraila.ro
REFRESH-INTERVAL;VALUE=DURATION:PT1H
X-Robots-Tag:noindex
X-PUBLISHED-TTL:PT1H
BEGIN:VTIMEZONE
TZID:Europe/Moscow
BEGIN:STANDARD
TZOFFSETFROM:+0300
TZOFFSETTO:+0300
TZNAME:MSK
DTSTART:20240101T000000
END:STANDARD
END:VTIMEZONE
BEGIN:VEVENT
DTSTART;TZID=Europe/Moscow:20250624T090000
DTEND;TZID=Europe/Moscow:20250624T100000
DTSTAMP:20260421T081356
CREATED:20250623T080742Z
LAST-MODIFIED:20250623T080742Z
UID:9497-1750755600-1750759200@www.bjbraila.ro
SUMMARY:Atelier de Caligrafie
DESCRIPTION:Atelier: Caligrafie \nCoordonator: FLORICĂ Ana-Maria; \nLocație: Centrul Multicultural
URL:https://www.bjbraila.ro/eveniment/atelier-de-caligrafie-2/
LOCATION:Brăila
END:VEVENT
BEGIN:VEVENT
DTSTART;TZID=Europe/Moscow:20250624T090000
DTEND;TZID=Europe/Moscow:20250624T103000
DTSTAMP:20260421T081356
CREATED:20250623T081150Z
LAST-MODIFIED:20250623T081150Z
UID:9506-1750755600-1750761000@www.bjbraila.ro
SUMMARY:Creativ Kids
DESCRIPTION:Atelier: Creativ Kids \nCoordonatori: LALU Doina\, LUNGU Mihaela \nLocație: Sala Dunărea
URL:https://www.bjbraila.ro/eveniment/creativ-kids-2/
LOCATION:Biblioteca “Panait Istrati” Braila\, Piața Poligon nr. 4\, Brăila\, Brăila\, 810026\, România
END:VEVENT
BEGIN:VEVENT
DTSTART;TZID=Europe/Moscow:20250624T100000
DTEND;TZID=Europe/Moscow:20250624T110000
DTSTAMP:20260421T081356
CREATED:20250623T081752Z
LAST-MODIFIED:20250623T081804Z
UID:9514-1750759200-1750762800@www.bjbraila.ro
SUMMARY:Cu și despre ciocolată
DESCRIPTION:  \nCu și despre ciocolată\, \n  \n \nCoordonator\, Vera MAXIM\,\nLocație: Poem Caffe\, \nPiața Traian
URL:https://www.bjbraila.ro/eveniment/9514/
LOCATION:Brăila
CATEGORIES:Evenimente
END:VEVENT
BEGIN:VEVENT
DTSTART;TZID=Europe/Moscow:20250624T100000
DTEND;TZID=Europe/Moscow:20250624T120000
DTSTAMP:20260421T081356
CREATED:20250624T053702Z
LAST-MODIFIED:20250624T053735Z
UID:9519-1750759200-1750766400@www.bjbraila.ro
SUMMARY:Atelier de reparat biciclete
DESCRIPTION:Atelier de reparat biciclete \nCoordonatori: GHEORGHE Silviu\, ONOFREI Laurian \nLocație:  Makerspace
URL:https://www.bjbraila.ro/eveniment/9519/
LOCATION:Biblioteca “Panait Istrati” Braila\, Piața Poligon nr. 4\, Brăila\, Brăila\, 810026\, România
END:VEVENT
BEGIN:VEVENT
DTSTART;TZID=Europe/Moscow:20250624T103000
DTEND;TZID=Europe/Moscow:20250624T113000
DTSTAMP:20260421T081356
CREATED:20250624T054408Z
LAST-MODIFIED:20250624T054408Z
UID:9528-1750761000-1750764600@www.bjbraila.ro
SUMMARY:Pictură pe sticlă
DESCRIPTION:Atelier: Pictură pe sticlă \nCoordonatori: Petrof Jeni\, Ștefu Gabriela\, Apostu Viorica; \nLocație: Ludotecă
URL:https://www.bjbraila.ro/eveniment/pictura-pe-sticla/
LOCATION:Biblioteca “Panait Istrati” Braila\, Piața Poligon nr. 4\, Brăila\, Brăila\, 810026\, România
END:VEVENT
BEGIN:VEVENT
DTSTART;TZID=Europe/Moscow:20250624T110000
DTEND;TZID=Europe/Moscow:20250624T110000
DTSTAMP:20260421T081356
CREATED:20250624T055912Z
LAST-MODIFIED:20250624T060749Z
UID:9550-1750762800-1750762800@www.bjbraila.ro
SUMMARY:Șah
DESCRIPTION:Atelier: Șah \nCoordonatori: Preda Iulian\, Chiriac Valentina; \nLocație: sala de lectură
URL:https://www.bjbraila.ro/eveniment/sah-2/
LOCATION:Biblioteca “Panait Istrati” Braila\, Piața Poligon nr. 4\, Brăila\, Brăila\, 810026\, România
END:VEVENT
BEGIN:VEVENT
DTSTART;TZID=Europe/Moscow:20250624T110000
DTEND;TZID=Europe/Moscow:20250624T120000
DTSTAMP:20260421T081356
CREATED:20250624T055237Z
LAST-MODIFIED:20250624T055237Z
UID:9540-1750762800-1750766400@www.bjbraila.ro
SUMMARY:Povești în limba franceză
DESCRIPTION:Atelier: Povești în limba franceză \nCoordonatori: Andreev Ileana – Alexia \nLocație: sala Dunărea
URL:https://www.bjbraila.ro/eveniment/povesti-in-limba-franceza-2/
LOCATION:Biblioteca “Panait Istrati” Braila\, Piața Poligon nr. 4\, Brăila\, Brăila\, 810026\, România
END:VEVENT
BEGIN:VEVENT
DTSTART;TZID=Europe/Moscow:20250624T110000
DTEND;TZID=Europe/Moscow:20250624T120000
DTSTAMP:20260421T081356
CREATED:20250624T065214Z
LAST-MODIFIED:20250624T065214Z
UID:9564-1750762800-1750766400@www.bjbraila.ro
SUMMARY:Teatru de păpuși
DESCRIPTION:Atelier: Teatru de păpuși \nCoordonatori: Damian Carmen\, Ionescu Monica Georgeta \nLocație: sala Fănuș Neagu
URL:https://www.bjbraila.ro/eveniment/teatru-de-papusi-2/
LOCATION:Biblioteca “Panait Istrati” Braila\, Piața Poligon nr. 4\, Brăila\, Brăila\, 810026\, România
END:VEVENT
BEGIN:VEVENT
DTSTART;TZID=Europe/Moscow:20250624T113000
DTEND;TZID=Europe/Moscow:20250624T123000
DTSTAMP:20260421T081356
CREATED:20250623T080307Z
LAST-MODIFIED:20250623T080307Z
UID:9487-1750764600-1750768200@www.bjbraila.ro
SUMMARY:Arta de a vorbi în public
DESCRIPTION:Atelier: Arta de a vorbi în public \nCoordonatori: LUNGU Teodora\, APOSTU Viorica \nSala: centrul de instruire\, etajul 3
URL:https://www.bjbraila.ro/eveniment/arta-de-a-vorbi-in-public-2/
LOCATION:Biblioteca “Panait Istrati” Braila\, Piața Poligon nr. 4\, Brăila\, Brăila\, 810026\, România
END:VEVENT
BEGIN:VEVENT
DTSTART;TZID=Europe/Moscow:20250625T090000
DTEND;TZID=Europe/Moscow:20250625T100000
DTSTAMP:20260421T081356
CREATED:20250623T080821Z
LAST-MODIFIED:20250623T080831Z
UID:9499-1750842000-1750845600@www.bjbraila.ro
SUMMARY:Atelier de Caligrafie
DESCRIPTION:Atelier: Caligrafie \nCoordonator: FLORICĂ Ana-Maria; \nLocație: Centrul Multicultural
URL:https://www.bjbraila.ro/eveniment/atelier-de-caligrafie-3/
LOCATION:Biblioteca “Panait Istrati” Braila\, Piața Poligon nr. 4\, Brăila\, Brăila\, 810026\, România
END:VEVENT
BEGIN:VEVENT
DTSTART;TZID=Europe/Moscow:20250625T090000
DTEND;TZID=Europe/Moscow:20250625T103000
DTSTAMP:20260421T081356
CREATED:20250623T081237Z
LAST-MODIFIED:20250623T081237Z
UID:9508-1750842000-1750847400@www.bjbraila.ro
SUMMARY:Creativ Kids
DESCRIPTION:Atelier: Creativ Kids \nCoordonatori: LALU Doina\, LUNGU Mihaela \nLocație: Sala Dunărea
URL:https://www.bjbraila.ro/eveniment/creativ-kids-3/
LOCATION:Biblioteca “Panait Istrati” Braila\, Piața Poligon nr. 4\, Brăila\, Brăila\, 810026\, România
END:VEVENT
BEGIN:VEVENT
DTSTART;TZID=Europe/Moscow:20250625T100000
DTEND;TZID=Europe/Moscow:20250625T120000
DTSTAMP:20260421T081356
CREATED:20250624T053813Z
LAST-MODIFIED:20250624T053813Z
UID:9522-1750845600-1750852800@www.bjbraila.ro
SUMMARY:Atelier de reparat biciclete
DESCRIPTION:Atelier de reparat biciclete \nCoordonatori: GHEORGHE Silviu\, ONOFREI Laurian \nLocație:  Makerspace
URL:https://www.bjbraila.ro/eveniment/atelier-de-reparat-biciclete/
LOCATION:Biblioteca “Panait Istrati” Braila\, Piața Poligon nr. 4\, Brăila\, Brăila\, 810026\, România
END:VEVENT
BEGIN:VEVENT
DTSTART;TZID=Europe/Moscow:20250625T103000
DTEND;TZID=Europe/Moscow:20250625T113000
DTSTAMP:20260421T081356
CREATED:20250624T054908Z
LAST-MODIFIED:20250624T054908Z
UID:9536-1750847400-1750851000@www.bjbraila.ro
SUMMARY:Pictură pe sticlă
DESCRIPTION:Atelier: Pictură pe sticlă \nCoordonatori: Petrof Jeni\, Ștefu Gabriela\, Apostu Viorica; \nLocație: Ludotecă
URL:https://www.bjbraila.ro/eveniment/pictura-pe-sticla-5/
LOCATION:Biblioteca “Panait Istrati” Braila\, Piața Poligon nr. 4\, Brăila\, Brăila\, 810026\, România
END:VEVENT
BEGIN:VEVENT
DTSTART;TZID=Europe/Moscow:20250625T110000
DTEND;TZID=Europe/Moscow:20250625T120000
DTSTAMP:20260421T081356
CREATED:20250624T055321Z
LAST-MODIFIED:20250624T055321Z
UID:9542-1750849200-1750852800@www.bjbraila.ro
SUMMARY:Povești în limba franceză
DESCRIPTION:Atelier: Povești în limba franceză \nCoordonatori: Andreev Ileana – Alexia \nLocație: sala Dunărea
URL:https://www.bjbraila.ro/eveniment/povesti-in-limba-franceza-3/
LOCATION:Biblioteca “Panait Istrati” Braila\, Piața Poligon nr. 4\, Brăila\, Brăila\, 810026\, România
END:VEVENT
BEGIN:VEVENT
DTSTART;TZID=Europe/Moscow:20250625T110000
DTEND;TZID=Europe/Moscow:20250625T120000
DTSTAMP:20260421T081356
CREATED:20250624T055953Z
LAST-MODIFIED:20250624T055953Z
UID:9552-1750849200-1750852800@www.bjbraila.ro
SUMMARY:Șah
DESCRIPTION:Atelier: Șah \nCoordonatori: Preda Iulian\, Chiriac Valentina; \nLocație: sala de lectură
URL:https://www.bjbraila.ro/eveniment/sah-3/
LOCATION:Biblioteca “Panait Istrati” Braila\, Piața Poligon nr. 4\, Brăila\, Brăila\, 810026\, România
END:VEVENT
BEGIN:VEVENT
DTSTART;TZID=Europe/Moscow:20250625T110000
DTEND;TZID=Europe/Moscow:20250625T120000
DTSTAMP:20260421T081356
CREATED:20250624T065248Z
LAST-MODIFIED:20250624T065248Z
UID:9566-1750849200-1750852800@www.bjbraila.ro
SUMMARY:Teatru de păpuși
DESCRIPTION:Atelier: Teatru de păpuși \nCoordonatori: Damian Carmen\, Ionescu Monica Georgeta \nLocație: sala Fănuș Neagu
URL:https://www.bjbraila.ro/eveniment/teatru-de-papusi-3/
LOCATION:Biblioteca “Panait Istrati” Braila\, Piața Poligon nr. 4\, Brăila\, Brăila\, 810026\, România
END:VEVENT
BEGIN:VEVENT
DTSTART;TZID=Europe/Moscow:20250625T113000
DTEND;TZID=Europe/Moscow:20250625T123000
DTSTAMP:20260421T081356
CREATED:20250623T080339Z
LAST-MODIFIED:20250623T080339Z
UID:9489-1750851000-1750854600@www.bjbraila.ro
SUMMARY:Arta de a vorbi în public
DESCRIPTION:Atelier: Arta de a vorbi în public \nCoordonatori: LUNGU Teodora\, APOSTU Viorica \nSala: centrul de instruire\, etajul 3
URL:https://www.bjbraila.ro/eveniment/arta-de-a-vorbi-in-public-3/
LOCATION:Biblioteca “Panait Istrati” Braila\, Piața Poligon nr. 4\, Brăila\, Brăila\, 810026\, România
END:VEVENT
BEGIN:VEVENT
DTSTART;TZID=Europe/Moscow:20250626T090000
DTEND;TZID=Europe/Moscow:20250626T100000
DTSTAMP:20260421T081356
CREATED:20250623T080902Z
LAST-MODIFIED:20250623T080902Z
UID:9501-1750928400-1750932000@www.bjbraila.ro
SUMMARY:Atelier de Caligrafie
DESCRIPTION:Atelier: Caligrafie \nCoordonator: FLORICĂ Ana-Maria; \nLocație: Centrul Multicultural
URL:https://www.bjbraila.ro/eveniment/atelier-de-caligrafie-4/
LOCATION:Biblioteca “Panait Istrati” Braila\, Piața Poligon nr. 4\, Brăila\, Brăila\, 810026\, România
END:VEVENT
BEGIN:VEVENT
DTSTART;TZID=Europe/Moscow:20250626T090000
DTEND;TZID=Europe/Moscow:20250626T103000
DTSTAMP:20260421T081356
CREATED:20250623T081401Z
LAST-MODIFIED:20250623T081401Z
UID:9510-1750928400-1750933800@www.bjbraila.ro
SUMMARY:Creativ Kids
DESCRIPTION:Atelier: Creativ Kids \nCoordonatori: LALU Doina\, LUNGU Mihaela \nLocație: Sala Dunărea
URL:https://www.bjbraila.ro/eveniment/creativ-kids-4/
LOCATION:Biblioteca “Panait Istrati” Braila\, Piața Poligon nr. 4\, Brăila\, Brăila\, 810026\, România
END:VEVENT
BEGIN:VEVENT
DTSTART;TZID=Europe/Moscow:20250626T100000
DTEND;TZID=Europe/Moscow:20250626T120000
DTSTAMP:20260421T081356
CREATED:20250624T053854Z
LAST-MODIFIED:20250624T053854Z
UID:9524-1750932000-1750939200@www.bjbraila.ro
SUMMARY:Atelier de reparat biciclete
DESCRIPTION:Atelier de reparat biciclete \nCoordonatori: GHEORGHE Silviu\, ONOFREI Laurian \nLocație:  Makerspace
URL:https://www.bjbraila.ro/eveniment/atelier-de-reparat-biciclete-2/
LOCATION:Biblioteca “Panait Istrati” Braila\, Piața Poligon nr. 4\, Brăila\, Brăila\, 810026\, România
END:VEVENT
BEGIN:VEVENT
DTSTART;TZID=Europe/Moscow:20250626T103000
DTEND;TZID=Europe/Moscow:20250626T113000
DTSTAMP:20260421T081356
CREATED:20250624T054557Z
LAST-MODIFIED:20250624T054557Z
UID:9532-1750933800-1750937400@www.bjbraila.ro
SUMMARY:Pictură pe sticlă
DESCRIPTION:Atelier: Pictură pe sticlă \nCoordonatori: Petrof Jeni\, Ștefu Gabriela\, Apostu Viorica; \nLocație: Ludotecă
URL:https://www.bjbraila.ro/eveniment/pictura-pe-sticla-3/
LOCATION:Biblioteca “Panait Istrati” Braila\, Piața Poligon nr. 4\, Brăila\, Brăila\, 810026\, România
END:VEVENT
BEGIN:VEVENT
DTSTART;TZID=Europe/Moscow:20250626T110000
DTEND;TZID=Europe/Moscow:20250626T120000
DTSTAMP:20260421T081356
CREATED:20250624T055503Z
LAST-MODIFIED:20250624T055503Z
UID:9544-1750935600-1750939200@www.bjbraila.ro
SUMMARY:Povești în limba franceză
DESCRIPTION:Atelier: Povești în limba franceză \nCoordonatori: Andreev Ileana – Alexia \nLocație: sala Dunărea
URL:https://www.bjbraila.ro/eveniment/povesti-in-limba-franceza-4/
LOCATION:Biblioteca “Panait Istrati” Braila\, Piața Poligon nr. 4\, Brăila\, Brăila\, 810026\, România
END:VEVENT
BEGIN:VEVENT
DTSTART;TZID=Europe/Moscow:20250626T110000
DTEND;TZID=Europe/Moscow:20250626T120000
DTSTAMP:20260421T081356
CREATED:20250624T060141Z
LAST-MODIFIED:20250624T060141Z
UID:9554-1750935600-1750939200@www.bjbraila.ro
SUMMARY:Șah
DESCRIPTION:Atelier: Șah \nCoordonatori: Preda Iulian\, Chiriac Valentina; \nLocație: sala de lectură
URL:https://www.bjbraila.ro/eveniment/sah-4/
LOCATION:Biblioteca “Panait Istrati” Braila\, Piața Poligon nr. 4\, Brăila\, Brăila\, 810026\, România
END:VEVENT
BEGIN:VEVENT
DTSTART;TZID=Europe/Moscow:20250626T110000
DTEND;TZID=Europe/Moscow:20250626T120000
DTSTAMP:20260421T081356
CREATED:20250624T065320Z
LAST-MODIFIED:20250624T065320Z
UID:9568-1750935600-1750939200@www.bjbraila.ro
SUMMARY:Teatru de păpuși
DESCRIPTION:Atelier: Teatru de păpuși \nCoordonatori: Damian Carmen\, Ionescu Monica Georgeta \nLocație: sala Fănuș Neagu
URL:https://www.bjbraila.ro/eveniment/teatru-de-papusi-4/
LOCATION:Biblioteca “Panait Istrati” Braila\, Piața Poligon nr. 4\, Brăila\, Brăila\, 810026\, România
END:VEVENT
BEGIN:VEVENT
DTSTART;TZID=Europe/Moscow:20250626T113000
DTEND;TZID=Europe/Moscow:20250626T123000
DTSTAMP:20260421T081356
CREATED:20250623T080432Z
LAST-MODIFIED:20250623T080432Z
UID:9491-1750937400-1750941000@www.bjbraila.ro
SUMMARY:Arta de a vorbi în public
DESCRIPTION:Atelier: Arta de a vorbi în public \nCoordonatori: LUNGU Teodora\, APOSTU Viorica \nSala: centrul de instruire\, etajul 3
URL:https://www.bjbraila.ro/eveniment/arta-de-a-vorbi-in-public-4/
LOCATION:Biblioteca “Panait Istrati” Braila\, Piața Poligon nr. 4\, Brăila\, Brăila\, 810026\, România
END:VEVENT
BEGIN:VEVENT
DTSTART;TZID=Europe/Moscow:20250627T080000
DTEND;TZID=Europe/Moscow:20250627T170000
DTSTAMP:20260421T081356
CREATED:20250627T112227Z
LAST-MODIFIED:20250627T112227Z
UID:9639-1751011200-1751043600@www.bjbraila.ro
SUMMARY:Sunt creativ
DESCRIPTION:Atelier: Sunt creativ \nCoordonatori: Florentina Petcu\, Silvia Iacob \nLocația: sala Panait Istrati
URL:https://www.bjbraila.ro/eveniment/sunt-creativ-5/
LOCATION:Brăila
END:VEVENT
BEGIN:VEVENT
DTSTART;TZID=Europe/Moscow:20250627T090000
DTEND;TZID=Europe/Moscow:20250627T100000
DTSTAMP:20260421T081356
CREATED:20250623T080937Z
LAST-MODIFIED:20250623T080937Z
UID:9503-1751014800-1751018400@www.bjbraila.ro
SUMMARY:Atelier de Caligrafie
DESCRIPTION:Atelier: Caligrafie \nCoordonator: FLORICĂ Ana-Maria; \nLocație: Centrul Multicultural
URL:https://www.bjbraila.ro/eveniment/atelier-de-caligrafie-5/
LOCATION:Biblioteca “Panait Istrati” Braila\, Piața Poligon nr. 4\, Brăila\, Brăila\, 810026\, România
END:VEVENT
BEGIN:VEVENT
DTSTART;TZID=Europe/Moscow:20250627T090000
DTEND;TZID=Europe/Moscow:20250627T103000
DTSTAMP:20260421T081356
CREATED:20250623T081433Z
LAST-MODIFIED:20250623T081433Z
UID:9512-1751014800-1751020200@www.bjbraila.ro
SUMMARY:Creativ Kids
DESCRIPTION:Atelier: Creativ Kids \nCoordonatori: LALU Doina\, LUNGU Mihaela \nLocație: Sala Dunărea
URL:https://www.bjbraila.ro/eveniment/creativ-kids-5/
LOCATION:Biblioteca “Panait Istrati” Braila\, Piața Poligon nr. 4\, Brăila\, Brăila\, 810026\, România
END:VEVENT
BEGIN:VEVENT
DTSTART;TZID=Europe/Moscow:20250627T100000
DTEND;TZID=Europe/Moscow:20250627T120000
DTSTAMP:20260421T081356
CREATED:20250624T054006Z
LAST-MODIFIED:20250624T054006Z
UID:9526-1751018400-1751025600@www.bjbraila.ro
SUMMARY:Atelier de reparat biciclete
DESCRIPTION:Atelier de reparat biciclete \nCoordonatori: GHEORGHE Silviu\, ONOFREI Laurian \nLocație:  Makerspace
URL:https://www.bjbraila.ro/eveniment/atelier-de-reparat-biciclete-3/
LOCATION:Biblioteca “Panait Istrati” Braila\, Piața Poligon nr. 4\, Brăila\, Brăila\, 810026\, România
END:VEVENT
BEGIN:VEVENT
DTSTART;TZID=Europe/Moscow:20250627T103000
DTEND;TZID=Europe/Moscow:20250627T113000
DTSTAMP:20260421T081356
CREATED:20250624T054633Z
LAST-MODIFIED:20250624T054633Z
UID:9534-1751020200-1751023800@www.bjbraila.ro
SUMMARY:Pictură pe sticlă
DESCRIPTION:Atelier: Pictură pe sticlă \nCoordonatori: Petrof Jeni\, Ștefu Gabriela\, Apostu Viorica; \nLocație: Ludotecă
URL:https://www.bjbraila.ro/eveniment/pictura-pe-sticla-4/
LOCATION:Biblioteca “Panait Istrati” Braila\, Piața Poligon nr. 4\, Brăila\, Brăila\, 810026\, România
END:VEVENT
END:VCALENDAR