BEGIN:VCALENDAR
VERSION:2.0
PRODID:-//bjbraila.ro - ECPv6.15.20//NONSGML v1.0//EN
CALSCALE:GREGORIAN
METHOD:PUBLISH
X-ORIGINAL-URL:https://www.bjbraila.ro
X-WR-CALDESC:Evenimente pentru bjbraila.ro
REFRESH-INTERVAL;VALUE=DURATION:PT1H
X-Robots-Tag:noindex
X-PUBLISHED-TTL:PT1H
BEGIN:VTIMEZONE
TZID:Europe/Moscow
BEGIN:STANDARD
TZOFFSETFROM:+0300
TZOFFSETTO:+0300
TZNAME:MSK
DTSTART:20240101T000000
END:STANDARD
END:VTIMEZONE
BEGIN:VEVENT
DTSTART;TZID=Europe/Moscow:20250630T090000
DTEND;TZID=Europe/Moscow:20250630T100000
DTSTAMP:20260421T081138
CREATED:20250627T111026Z
LAST-MODIFIED:20250627T111026Z
UID:9611-1751274000-1751277600@www.bjbraila.ro
SUMMARY:Micul Picasso
DESCRIPTION:Atelier: Micul Picasso – atelier de pictură \nCoordonator: Adriana Trică \nLocația: sala de lectură\, etajul 1
URL:https://www.bjbraila.ro/eveniment/micul-picasso/
LOCATION:Biblioteca “Panait Istrati” Braila\, Piața Poligon nr. 4\, Brăila\, Brăila\, 810026\, România
END:VEVENT
BEGIN:VEVENT
DTSTART;TZID=Europe/Moscow:20250630T090000
DTEND;TZID=Europe/Moscow:20250630T103000
DTSTAMP:20260421T081138
CREATED:20250627T111853Z
LAST-MODIFIED:20250627T111853Z
UID:9631-1751274000-1751279400@www.bjbraila.ro
SUMMARY:
DESCRIPTION:Atelier: Sunt creativ \nCoordonatori: Florentina Petcu\, Silvia Iacob \nLocația: sala Panait Istrati
URL:https://www.bjbraila.ro/eveniment/9631/
LOCATION:Biblioteca “Panait Istrati” Braila\, Piața Poligon nr. 4\, Brăila\, Brăila\, 810026\, România
END:VEVENT
BEGIN:VEVENT
DTSTART;TZID=Europe/Moscow:20250630T090000
DTEND;TZID=Europe/Moscow:20250630T103000
DTSTAMP:20260421T081138
CREATED:20250627T112042Z
LAST-MODIFIED:20250627T112042Z
UID:9635-1751274000-1751279400@www.bjbraila.ro
SUMMARY:Sunt creativ
DESCRIPTION:Atelier: Sunt creativ \nCoordonatori: Florentina Petcu\, Silvia Iacob \nLocația: sala Panait Istrati
URL:https://www.bjbraila.ro/eveniment/sunt-creativ-3/
LOCATION:Biblioteca “Panait Istrati” Braila\, Piața Poligon nr. 4\, Brăila\, Brăila\, 810026\, România
END:VEVENT
BEGIN:VEVENT
DTSTART;TZID=Europe/Moscow:20250630T090000
DTEND;TZID=Europe/Moscow:20250630T110000
DTSTAMP:20260421T081138
CREATED:20250627T110003Z
LAST-MODIFIED:20250627T110003Z
UID:9591-1751274000-1751281200@www.bjbraila.ro
SUMMARY:English is fun
DESCRIPTION:Atelier: English is fun \nCoordonator: Olimpia Moraru \nLocația: Centrul Multicultural
URL:https://www.bjbraila.ro/eveniment/english-is-fun-4/
LOCATION:Biblioteca “Panait Istrati” Braila\, Piața Poligon nr. 4\, Brăila\, Brăila\, 810026\, România
END:VEVENT
BEGIN:VEVENT
DTSTART;TZID=Europe/Moscow:20250630T100000
DTEND;TZID=Europe/Moscow:20250630T110000
DTSTAMP:20260421T081138
CREATED:20250627T111432Z
LAST-MODIFIED:20250627T111432Z
UID:9621-1751277600-1751281200@www.bjbraila.ro
SUMMARY:Rachetomodelism
DESCRIPTION:Atelier: Rachetomodelism \nCoordonatori: Dragoș Neagu\, Răzvan Neculai \nLocația: sala Fănuș Neagu
URL:https://www.bjbraila.ro/eveniment/rachetomodelism/
LOCATION:Biblioteca “Panait Istrati” Braila\, Piața Poligon nr. 4\, Brăila\, Brăila\, 810026\, România
END:VEVENT
BEGIN:VEVENT
DTSTART;TZID=Europe/Moscow:20250630T100000
DTEND;TZID=Europe/Moscow:20250630T113000
DTSTAMP:20260421T081138
CREATED:20250627T105228Z
LAST-MODIFIED:20250627T105228Z
UID:9581-1751277600-1751283000@www.bjbraila.ro
SUMMARY:Creativ 3D
DESCRIPTION:Atelier: Creativ 3D – atelier de modelare și imprimare 3D \nCoordonator: Ștefăniță Alecu \nLocația: Centrul de instruire\, etaj 3
URL:https://www.bjbraila.ro/eveniment/creativ-3d/
LOCATION:Biblioteca “Panait Istrati” Braila\, Piața Poligon nr. 4\, Brăila\, Brăila\, 810026\, România
END:VEVENT
BEGIN:VEVENT
DTSTART;TZID=Europe/Moscow:20250630T110000
DTEND;TZID=Europe/Moscow:20250630T120000
DTSTAMP:20260421T081138
CREATED:20250627T110506Z
LAST-MODIFIED:20250627T110506Z
UID:9601-1751281200-1751284800@www.bjbraila.ro
SUMMARY:Eu știu să cos ... of course
DESCRIPTION:Atelier: Eu știu să cos … of course – atelier de cusături \nCoordonatori: Leta Răileanu\, Valentina Chiriac \nLocația: Panait Istrati\, etajul 3
URL:https://www.bjbraila.ro/eveniment/eu-stiu-sa-cos-of-course/
LOCATION:Biblioteca “Panait Istrati” Braila\, Piața Poligon nr. 4\, Brăila\, Brăila\, 810026\, România
END:VEVENT
BEGIN:VEVENT
DTSTART;TZID=Europe/Moscow:20250630T110000
DTEND;TZID=Europe/Moscow:20250630T120000
DTSTAMP:20260421T081138
CREATED:20250627T112611Z
LAST-MODIFIED:20250627T112611Z
UID:9645-1751281200-1751284800@www.bjbraila.ro
SUMMARY:Șah
DESCRIPTION:Atelier: Șah \nCoordonatori: Iulian Preda\, Valentina Chiriac \nLocația: Sala de lectură
URL:https://www.bjbraila.ro/eveniment/sah-6/
LOCATION:Biblioteca “Panait Istrati” Braila\, Piața Poligon nr. 4\, Brăila\, Brăila\, 810026\, România
END:VEVENT
BEGIN:VEVENT
DTSTART;TZID=Europe/Moscow:20250701T090000
DTEND;TZID=Europe/Moscow:20250701T100000
DTSTAMP:20260421T081138
CREATED:20250627T111059Z
LAST-MODIFIED:20250627T111059Z
UID:9613-1751360400-1751364000@www.bjbraila.ro
SUMMARY:Micul Picasso
DESCRIPTION:Atelier: Micul Picasso – atelier de pictură \nCoordonator: Adriana Trică \nLocația: sala de lectură\, etajul 1
URL:https://www.bjbraila.ro/eveniment/micul-picasso-2/
LOCATION:Biblioteca “Panait Istrati” Braila\, Piața Poligon nr. 4\, Brăila\, Brăila\, 810026\, România
END:VEVENT
BEGIN:VEVENT
DTSTART;TZID=Europe/Moscow:20250701T090000
DTEND;TZID=Europe/Moscow:20250701T103000
DTSTAMP:20260421T081138
CREATED:20250627T111928Z
LAST-MODIFIED:20250627T111928Z
UID:9633-1751360400-1751365800@www.bjbraila.ro
SUMMARY:Sunt creativ
DESCRIPTION:Atelier: Sunt creativ \nCoordonatori: Florentina Petcu\, Silvia Iacob \nLocația: sala Panait Istrati
URL:https://www.bjbraila.ro/eveniment/sunt-creativ-2/
LOCATION:Biblioteca “Panait Istrati” Braila\, Piața Poligon nr. 4\, Brăila\, Brăila\, 810026\, România
END:VEVENT
BEGIN:VEVENT
DTSTART;TZID=Europe/Moscow:20250701T090000
DTEND;TZID=Europe/Moscow:20250701T110000
DTSTAMP:20260421T081138
CREATED:20250627T110130Z
LAST-MODIFIED:20250627T110130Z
UID:9593-1751360400-1751367600@www.bjbraila.ro
SUMMARY:English is fun
DESCRIPTION:Atelier: English is fun \nCoordonator: Olimpia Moraru \nLocația: Centrul Multicultural
URL:https://www.bjbraila.ro/eveniment/english-is-fun-5/
LOCATION:Biblioteca “Panait Istrati” Braila\, Piața Poligon nr. 4\, Brăila\, Brăila\, 810026\, România
END:VEVENT
BEGIN:VEVENT
DTSTART;TZID=Europe/Moscow:20250701T100000
DTEND;TZID=Europe/Moscow:20250701T110000
DTSTAMP:20260421T081138
CREATED:20250627T111547Z
LAST-MODIFIED:20250627T111547Z
UID:9623-1751364000-1751367600@www.bjbraila.ro
SUMMARY:Rachetomodelism
DESCRIPTION:Atelier: Rachetomodelism \nCoordonatori: Dragoș Neagu\, Răzvan Neculai \nLocația: sala Fănuș Neagu
URL:https://www.bjbraila.ro/eveniment/rachetomodelism-2/
LOCATION:Biblioteca “Panait Istrati” Braila\, Piața Poligon nr. 4\, Brăila\, Brăila\, 810026\, România
END:VEVENT
BEGIN:VEVENT
DTSTART;TZID=Europe/Moscow:20250701T100000
DTEND;TZID=Europe/Moscow:20250701T110000
DTSTAMP:20260421T081138
CREATED:20250627T113350Z
LAST-MODIFIED:20250627T113350Z
UID:9655-1751364000-1751367600@www.bjbraila.ro
SUMMARY:Cu și despre ciocolată cu Vera Maxim
DESCRIPTION:Atelier: Cu și despre ciocolată cu Vera Maxim \nCoordonator: Vera Maxim \nLocația: Cofetăria Poem Caffe\, Piața Traian
URL:https://www.bjbraila.ro/eveniment/cu-si-despre-ciocolata-cu-vera-maxim/
LOCATION:Brăila
END:VEVENT
BEGIN:VEVENT
DTSTART;TZID=Europe/Moscow:20250701T100000
DTEND;TZID=Europe/Moscow:20250701T113000
DTSTAMP:20260421T081138
CREATED:20250627T105303Z
LAST-MODIFIED:20250627T105303Z
UID:9583-1751364000-1751369400@www.bjbraila.ro
SUMMARY:Creativ 3D
DESCRIPTION:Atelier: Creativ 3D – atelier de modelare și imprimare 3D \nCoordonator: Ștefăniță Alecu \nLocația: Centrul de instruire\, etaj 3
URL:https://www.bjbraila.ro/eveniment/creativ-3d-2/
LOCATION:Biblioteca “Panait Istrati” Braila\, Piața Poligon nr. 4\, Brăila\, Brăila\, 810026\, România
END:VEVENT
BEGIN:VEVENT
DTSTART;TZID=Europe/Moscow:20250701T110000
DTEND;TZID=Europe/Moscow:20250701T120000
DTSTAMP:20260421T081138
CREATED:20250627T110543Z
LAST-MODIFIED:20250627T110543Z
UID:9603-1751367600-1751371200@www.bjbraila.ro
SUMMARY:Eu știu să cos ... of course
DESCRIPTION:Atelier: Eu știu să cos … of course – atelier de cusături \nCoordonatori: Leta Răileanu\, Valentina Chiriac \nLocația: Panait Istrati\, etajul 3
URL:https://www.bjbraila.ro/eveniment/eu-stiu-sa-cos-of-course-2/
LOCATION:Biblioteca “Panait Istrati” Braila\, Piața Poligon nr. 4\, Brăila\, Brăila\, 810026\, România
END:VEVENT
BEGIN:VEVENT
DTSTART;TZID=Europe/Moscow:20250701T110000
DTEND;TZID=Europe/Moscow:20250701T120000
DTSTAMP:20260421T081138
CREATED:20250627T112707Z
LAST-MODIFIED:20250627T112707Z
UID:9647-1751367600-1751371200@www.bjbraila.ro
SUMMARY:Șah
DESCRIPTION:Atelier: Șah \nCoordonatori: Iulian Preda\, Valentina Chiriac \nLocația: Sala de lectură
URL:https://www.bjbraila.ro/eveniment/sah-7/
LOCATION:Biblioteca “Panait Istrati” Braila\, Piața Poligon nr. 4\, Brăila\, Brăila\, 810026\, România
END:VEVENT
BEGIN:VEVENT
DTSTART;TZID=Europe/Moscow:20250702T090000
DTEND;TZID=Europe/Moscow:20250702T100000
DTSTAMP:20260421T081138
CREATED:20250627T111143Z
LAST-MODIFIED:20250627T111143Z
UID:9615-1751446800-1751450400@www.bjbraila.ro
SUMMARY:Micul Picasso
DESCRIPTION:Atelier: Micul Picasso – atelier de pictură \nCoordonator: Adriana Trică \nLocația: sala de lectură\, etajul 1
URL:https://www.bjbraila.ro/eveniment/micul-picasso-3/
LOCATION:Biblioteca “Panait Istrati” Braila\, Piața Poligon nr. 4\, Brăila\, Brăila\, 810026\, România
END:VEVENT
BEGIN:VEVENT
DTSTART;TZID=Europe/Moscow:20250702T090000
DTEND;TZID=Europe/Moscow:20250702T103000
DTSTAMP:20260421T081138
CREATED:20250627T112115Z
LAST-MODIFIED:20250627T112115Z
UID:9637-1751446800-1751452200@www.bjbraila.ro
SUMMARY:Sunt creativ
DESCRIPTION:Atelier: Sunt creativ \nCoordonatori: Florentina Petcu\, Silvia Iacob \nLocația: sala Panait Istrati
URL:https://www.bjbraila.ro/eveniment/sunt-creativ-4/
LOCATION:Biblioteca “Panait Istrati” Braila\, Piața Poligon nr. 4\, Brăila\, Brăila\, 810026\, România
END:VEVENT
BEGIN:VEVENT
DTSTART;TZID=Europe/Moscow:20250702T090000
DTEND;TZID=Europe/Moscow:20250702T110000
DTSTAMP:20260421T081138
CREATED:20250627T110201Z
LAST-MODIFIED:20250627T110201Z
UID:9595-1751446800-1751454000@www.bjbraila.ro
SUMMARY:English is fun
DESCRIPTION:Atelier: English is fun \nCoordonator: Olimpia Moraru \nLocația: Centrul Multicultural
URL:https://www.bjbraila.ro/eveniment/english-is-fun-6/
LOCATION:Biblioteca “Panait Istrati” Braila\, Piața Poligon nr. 4\, Brăila\, Brăila\, 810026\, România
END:VEVENT
BEGIN:VEVENT
DTSTART;TZID=Europe/Moscow:20250702T100000
DTEND;TZID=Europe/Moscow:20250702T110000
DTSTAMP:20260421T081138
CREATED:20250627T111621Z
LAST-MODIFIED:20250627T111621Z
UID:9625-1751450400-1751454000@www.bjbraila.ro
SUMMARY:Rachetomodelism
DESCRIPTION:Atelier: Rachetomodelism \nCoordonatori: Dragoș Neagu\, Răzvan Neculai \nLocația: sala Fănuș Neagu
URL:https://www.bjbraila.ro/eveniment/rachetomodelism-3/
LOCATION:Biblioteca “Panait Istrati” Braila\, Piața Poligon nr. 4\, Brăila\, Brăila\, 810026\, România
END:VEVENT
BEGIN:VEVENT
DTSTART;TZID=Europe/Moscow:20250702T100000
DTEND;TZID=Europe/Moscow:20250702T110000
DTSTAMP:20260421T081138
CREATED:20250627T113517Z
LAST-MODIFIED:20250627T113517Z
UID:9657-1751450400-1751454000@www.bjbraila.ro
SUMMARY:Micul pizzer
DESCRIPTION:Atelier: Micul pizzer \nCoordonatori: Athena Bondoc \nLocația: Pizzeria La Grecu\, Calea Călărașilor
URL:https://www.bjbraila.ro/eveniment/micul-pizzer/
LOCATION:Brăila
END:VEVENT
BEGIN:VEVENT
DTSTART;TZID=Europe/Moscow:20250702T100000
DTEND;TZID=Europe/Moscow:20250702T113000
DTSTAMP:20260421T081138
CREATED:20250627T105402Z
LAST-MODIFIED:20250627T105402Z
UID:9585-1751450400-1751455800@www.bjbraila.ro
SUMMARY:Creativ 3D
DESCRIPTION:Atelier: Creativ 3D – atelier de modelare și imprimare 3D \nCoordonator: Ștefăniță Alecu \nLocația: Centrul de instruire\, etaj 3
URL:https://www.bjbraila.ro/eveniment/creativ-3d-3/
LOCATION:Biblioteca “Panait Istrati” Braila\, Piața Poligon nr. 4\, Brăila\, Brăila\, 810026\, România
END:VEVENT
BEGIN:VEVENT
DTSTART;TZID=Europe/Moscow:20250702T110000
DTEND;TZID=Europe/Moscow:20250702T120000
DTSTAMP:20260421T081138
CREATED:20250627T110642Z
LAST-MODIFIED:20250627T110642Z
UID:9605-1751454000-1751457600@www.bjbraila.ro
SUMMARY:Eu știu să cos ... of course
DESCRIPTION:Atelier: Eu știu să cos … of course – atelier de cusături \nCoordonatori: Leta Răileanu\, Valentina Chiriac \nLocația: Panait Istrati\, etajul 3
URL:https://www.bjbraila.ro/eveniment/eu-stiu-sa-cos-of-course-3/
LOCATION:Biblioteca “Panait Istrati” Braila\, Piața Poligon nr. 4\, Brăila\, Brăila\, 810026\, România
END:VEVENT
BEGIN:VEVENT
DTSTART;TZID=Europe/Moscow:20250702T110000
DTEND;TZID=Europe/Moscow:20250702T120000
DTSTAMP:20260421T081138
CREATED:20250627T112903Z
LAST-MODIFIED:20250627T112903Z
UID:9649-1751454000-1751457600@www.bjbraila.ro
SUMMARY:Șah
DESCRIPTION:Atelier: Șah \nCoordonatori: Iulian Preda\, Valentina Chiriac \nLocația: Sala de lectură
URL:https://www.bjbraila.ro/eveniment/sah-8/
LOCATION:Biblioteca “Panait Istrati” Braila\, Piața Poligon nr. 4\, Brăila\, Brăila\, 810026\, România
END:VEVENT
BEGIN:VEVENT
DTSTART;TZID=Europe/Moscow:20250703T090000
DTEND;TZID=Europe/Moscow:20250703T100000
DTSTAMP:20260421T081138
CREATED:20250627T111227Z
LAST-MODIFIED:20250627T111227Z
UID:9617-1751533200-1751536800@www.bjbraila.ro
SUMMARY:Micul Picasso
DESCRIPTION:Atelier: Micul Picasso – atelier de pictură \nCoordonator: Adriana Trică \nLocația: sala de lectură\, etajul 1
URL:https://www.bjbraila.ro/eveniment/micul-picasso-4/
LOCATION:Biblioteca “Panait Istrati” Braila\, Piața Poligon nr. 4\, Brăila\, Brăila\, 810026\, România
END:VEVENT
BEGIN:VEVENT
DTSTART;TZID=Europe/Moscow:20250703T090000
DTEND;TZID=Europe/Moscow:20250703T103000
DTSTAMP:20260421T081138
CREATED:20250627T112335Z
LAST-MODIFIED:20250627T112335Z
UID:9641-1751533200-1751538600@www.bjbraila.ro
SUMMARY:Sunt creativ
DESCRIPTION:Atelier: Sunt creativ \nCoordonatori: Florentina Petcu\, Silvia Iacob \nLocația: sala Panait Istrati
URL:https://www.bjbraila.ro/eveniment/sunt-creativ-6/
LOCATION:Biblioteca “Panait Istrati” Braila\, Piața Poligon nr. 4\, Brăila\, Brăila\, 810026\, România
END:VEVENT
BEGIN:VEVENT
DTSTART;TZID=Europe/Moscow:20250703T090000
DTEND;TZID=Europe/Moscow:20250703T110000
DTSTAMP:20260421T081138
CREATED:20250627T110316Z
LAST-MODIFIED:20250627T110316Z
UID:9599-1751533200-1751540400@www.bjbraila.ro
SUMMARY:English is fun
DESCRIPTION:Atelier: English is fun \nCoordonator: Olimpia Moraru \nLocația: Centrul Multicultural
URL:https://www.bjbraila.ro/eveniment/english-is-fun-8/
LOCATION:Biblioteca “Panait Istrati” Braila\, Piața Poligon nr. 4\, Brăila\, Brăila\, 810026\, România
END:VEVENT
BEGIN:VEVENT
DTSTART;TZID=Europe/Moscow:20250703T100000
DTEND;TZID=Europe/Moscow:20250703T110000
DTSTAMP:20260421T081138
CREATED:20250627T111652Z
LAST-MODIFIED:20250627T111652Z
UID:9627-1751536800-1751540400@www.bjbraila.ro
SUMMARY:Rachetomodelism
DESCRIPTION:Atelier: Rachetomodelism \nCoordonatori: Dragoș Neagu\, Răzvan Neculai \nLocația: sala Fănuș Neagu
URL:https://www.bjbraila.ro/eveniment/rachetomodelism-4/
LOCATION:Biblioteca “Panait Istrati” Braila\, Piața Poligon nr. 4\, Brăila\, Brăila\, 810026\, România
END:VEVENT
BEGIN:VEVENT
DTSTART;TZID=Europe/Moscow:20250703T100000
DTEND;TZID=Europe/Moscow:20250703T113000
DTSTAMP:20260421T081138
CREATED:20250627T105713Z
LAST-MODIFIED:20250627T105713Z
UID:9587-1751536800-1751542200@www.bjbraila.ro
SUMMARY:Creativ 3D
DESCRIPTION:Atelier: Creativ 3D – atelier de modelare și imprimare 3D \nCoordonator: Ștefăniță Alecu \nLocația: Centrul de instruire\, etaj 3
URL:https://www.bjbraila.ro/eveniment/creativ-3d-4/
LOCATION:Biblioteca “Panait Istrati” Braila\, Piața Poligon nr. 4\, Brăila\, Brăila\, 810026\, România
END:VEVENT
BEGIN:VEVENT
DTSTART;TZID=Europe/Moscow:20250703T110000
DTEND;TZID=Europe/Moscow:20250703T120000
DTSTAMP:20260421T081138
CREATED:20250627T110727Z
LAST-MODIFIED:20250627T110727Z
UID:9607-1751540400-1751544000@www.bjbraila.ro
SUMMARY:Eu știu să cos ... of course
DESCRIPTION:Atelier: Eu știu să cos … of course – atelier de cusături \nCoordonatori: Leta Răileanu\, Valentina Chiriac \nLocația: Panait Istrati\, etajul 3
URL:https://www.bjbraila.ro/eveniment/eu-stiu-sa-cos-of-course-4/
LOCATION:Biblioteca “Panait Istrati” Braila\, Piața Poligon nr. 4\, Brăila\, Brăila\, 810026\, România
END:VEVENT
END:VCALENDAR