BEGIN:VCALENDAR
VERSION:2.0
PRODID:-//bjbraila.ro - ECPv6.15.20//NONSGML v1.0//EN
CALSCALE:GREGORIAN
METHOD:PUBLISH
X-ORIGINAL-URL:https://www.bjbraila.ro
X-WR-CALDESC:Evenimente pentru bjbraila.ro
REFRESH-INTERVAL;VALUE=DURATION:PT1H
X-Robots-Tag:noindex
X-PUBLISHED-TTL:PT1H
BEGIN:VTIMEZONE
TZID:Europe/Moscow
BEGIN:STANDARD
TZOFFSETFROM:+0300
TZOFFSETTO:+0300
TZNAME:MSK
DTSTART:20240101T000000
END:STANDARD
END:VTIMEZONE
BEGIN:VEVENT
DTSTART;TZID=Europe/Moscow:20250708T090000
DTEND;TZID=Europe/Moscow:20250708T103000
DTSTAMP:20260421T031616
CREATED:20250704T061721Z
LAST-MODIFIED:20250704T061721Z
UID:9701-1751965200-1751970600@www.bjbraila.ro
SUMMARY:Legendele Brăilei
DESCRIPTION:Atelier: Legendele Brăilei – atelier de istorie locală \nCoordonator: Laura Caplea \nLocația: sala Fănuș Neagu\, etajul 3
URL:https://www.bjbraila.ro/eveniment/legendele-brailei-2/
LOCATION:Biblioteca “Panait Istrati” Braila\, Piața Poligon nr. 4\, Brăila\, Brăila\, 810026\, România
END:VEVENT
BEGIN:VEVENT
DTSTART;TZID=Europe/Moscow:20250708T090000
DTEND;TZID=Europe/Moscow:20250708T103000
DTSTAMP:20260421T031616
CREATED:20250704T062154Z
LAST-MODIFIED:20250704T062154Z
UID:9711-1751965200-1751970600@www.bjbraila.ro
SUMMARY:Tărâmul emoțiilor
DESCRIPTION:Atelier: Tărâmul emoțiilor \nCoordonator: Camelia Cherciu \nLocația: sala Panait Istrati\, etajul 3
URL:https://www.bjbraila.ro/eveniment/taramul-emotiilor-2/
LOCATION:Biblioteca “Panait Istrati” Braila\, Piața Poligon nr. 4\, Brăila\, Brăila\, 810026\, România
END:VEVENT
BEGIN:VEVENT
DTSTART;TZID=Europe/Moscow:20250708T100000
DTEND;TZID=Europe/Moscow:20250708T110000
DTSTAMP:20260421T031616
CREATED:20250704T060448Z
LAST-MODIFIED:20250704T060457Z
UID:9674-1751968800-1751972400@www.bjbraila.ro
SUMMARY:Rachetomodelism
DESCRIPTION:Atelier: Rachetomodelism \nCoordonatori: Dragoș Neagu\, Răzvan Neculai \nLocația: sala Fănuș Neagu
URL:https://www.bjbraila.ro/eveniment/rachetomodelism-8/
LOCATION:Biblioteca “Panait Istrati” Braila\, Piața Poligon nr. 4\, Brăila\, Brăila\, 810026\, România
END:VEVENT
BEGIN:VEVENT
DTSTART;TZID=Europe/Moscow:20250708T103000
DTEND;TZID=Europe/Moscow:20250708T120000
DTSTAMP:20260421T031616
CREATED:20250704T060801Z
LAST-MODIFIED:20250704T060801Z
UID:9678-1751970600-1751976000@www.bjbraila.ro
SUMMARY:Bijoux (handmade)
DESCRIPTION:Atelier: Bijoux (handmade) \nCoodonatori:  Steluta Buzdugan\, Irina Ene \nLocația: Mediatecă
URL:https://www.bjbraila.ro/eveniment/bijoux-handmade-2/
LOCATION:Biblioteca “Panait Istrati” Braila\, Piața Poligon nr. 4\, Brăila\, Brăila\, 810026\, România
END:VEVENT
BEGIN:VEVENT
DTSTART;TZID=Europe/Moscow:20250708T110000
DTEND;TZID=Europe/Moscow:20250708T123000
DTSTAMP:20260421T031616
CREATED:20250704T061338Z
LAST-MODIFIED:20250704T061338Z
UID:9691-1751972400-1751977800@www.bjbraila.ro
SUMMARY:Descoperim Franța și Coreea cu pisicile vorbărețe
DESCRIPTION:Atelier: Descoperim Franța și Coreea cu pisicile vorbărețe – atelier de franceză și coreeană \nCoordonatori: Daria Bordei\, Andra Constantin\, Valentina Chiriac \nLocația: sala Fănuș Neagu\, etajul 3.
URL:https://www.bjbraila.ro/eveniment/descoperim-franta-si-coreea-cu-pisicile-vorbarete-2/
LOCATION:Biblioteca “Panait Istrati” Braila\, Piața Poligon nr. 4\, Brăila\, Brăila\, 810026\, România
END:VEVENT
BEGIN:VEVENT
DTSTART;TZID=Europe/Moscow:20250708T120000
DTEND;TZID=Europe/Moscow:20250708T140000
DTSTAMP:20260421T031616
CREATED:20250704T062734Z
LAST-MODIFIED:20250704T062734Z
UID:9721-1751976000-1751983200@www.bjbraila.ro
SUMMARY:Design și programare
DESCRIPTION:Atelier: Design și programare \nCoordonatori: Andrei Lascu\, Daria Șerban \nLocația: Centrul de instruire\, etajul 3
URL:https://www.bjbraila.ro/eveniment/design-si-programare-2/
LOCATION:Biblioteca “Panait Istrati” Braila\, Piața Poligon nr. 4\, Brăila\, Brăila\, 810026\, România
END:VEVENT
BEGIN:VEVENT
DTSTART;TZID=Europe/Moscow:20250709T090000
DTEND;TZID=Europe/Moscow:20250709T103000
DTSTAMP:20260421T031616
CREATED:20250704T061806Z
LAST-MODIFIED:20250704T061806Z
UID:9703-1752051600-1752057000@www.bjbraila.ro
SUMMARY:Legendele Brăilei
DESCRIPTION:Atelier: Legendele Brăilei – atelier de istorie locală \nCoordonator: Laura Caplea \nLocația: sala Fănuș Neagu\, etajul 3
URL:https://www.bjbraila.ro/eveniment/legendele-brailei-3/
LOCATION:Biblioteca “Panait Istrati” Braila\, Piața Poligon nr. 4\, Brăila\, Brăila\, 810026\, România
END:VEVENT
BEGIN:VEVENT
DTSTART;TZID=Europe/Moscow:20250709T090000
DTEND;TZID=Europe/Moscow:20250709T103000
DTSTAMP:20260421T031616
CREATED:20250704T062255Z
LAST-MODIFIED:20250704T062255Z
UID:9713-1752051600-1752057000@www.bjbraila.ro
SUMMARY:Tărâmul emoțiilor
DESCRIPTION:Atelier: Tărâmul emoțiilor \nCoordonator: Camelia Cherciu \nLocația: sala Panait Istrati\, etajul 3
URL:https://www.bjbraila.ro/eveniment/taramul-emotiilor-3/
LOCATION:Biblioteca “Panait Istrati” Braila\, Piața Poligon nr. 4\, Brăila\, Brăila\, 810026\, România
END:VEVENT
BEGIN:VEVENT
DTSTART;TZID=Europe/Moscow:20250709T100000
DTEND;TZID=Europe/Moscow:20250709T110000
DTSTAMP:20260421T031616
CREATED:20250704T060339Z
LAST-MODIFIED:20250704T060521Z
UID:9672-1752055200-1752058800@www.bjbraila.ro
SUMMARY:Rachetomodelism
DESCRIPTION:Atelier: Rachetomodelism \nCoordonatori: Dragoș Neagu\, Răzvan Neculai \nLocația: sala Fănuș Neagu
URL:https://www.bjbraila.ro/eveniment/rachetomodelism-7/
LOCATION:Biblioteca “Panait Istrati” Braila\, Piața Poligon nr. 4\, Brăila\, Brăila\, 810026\, România
END:VEVENT
BEGIN:VEVENT
DTSTART;TZID=Europe/Moscow:20250709T103000
DTEND;TZID=Europe/Moscow:20250709T120000
DTSTAMP:20260421T031616
CREATED:20250704T060841Z
LAST-MODIFIED:20250704T060841Z
UID:9680-1752057000-1752062400@www.bjbraila.ro
SUMMARY:Bijoux (handmade)
DESCRIPTION:Atelier: Bijoux (handmade) \nCoodonatori:  Steluta Buzdugan\, Irina Ene \nLocația: Mediatecă
URL:https://www.bjbraila.ro/eveniment/bijoux-handmade-3/
LOCATION:Biblioteca “Panait Istrati” Braila\, Piața Poligon nr. 4\, Brăila\, Brăila\, 810026\, România
END:VEVENT
BEGIN:VEVENT
DTSTART;TZID=Europe/Moscow:20250709T110000
DTEND;TZID=Europe/Moscow:20250709T123000
DTSTAMP:20260421T031616
CREATED:20250704T061414Z
LAST-MODIFIED:20250704T061414Z
UID:9693-1752058800-1752064200@www.bjbraila.ro
SUMMARY:Descoperim Franța și Coreea cu pisicile vorbărețe
DESCRIPTION:Atelier: Descoperim Franța și Coreea cu pisicile vorbărețe – atelier de franceză și coreeană \nCoordonatori: Daria Bordei\, Andra Constantin\, Valentina Chiriac \nLocația: sala Fănuș Neagu\, etajul 3.
URL:https://www.bjbraila.ro/eveniment/descoperim-franta-si-coreea-cu-pisicile-vorbarete-3/
LOCATION:Biblioteca “Panait Istrati” Braila\, Piața Poligon nr. 4\, Brăila\, Brăila\, 810026\, România
END:VEVENT
BEGIN:VEVENT
DTSTART;TZID=Europe/Moscow:20250709T120000
DTEND;TZID=Europe/Moscow:20250709T140000
DTSTAMP:20260421T031616
CREATED:20250704T062803Z
LAST-MODIFIED:20250704T062803Z
UID:9723-1752062400-1752069600@www.bjbraila.ro
SUMMARY:Design și programare
DESCRIPTION:Atelier: Design și programare \nCoordonatori: Andrei Lascu\, Daria Șerban \nLocația: Centrul de instruire\, etajul 3
URL:https://www.bjbraila.ro/eveniment/design-si-programare-3/
LOCATION:Biblioteca “Panait Istrati” Braila\, Piața Poligon nr. 4\, Brăila\, Brăila\, 810026\, România
END:VEVENT
BEGIN:VEVENT
DTSTART;TZID=Europe/Moscow:20250710T090000
DTEND;TZID=Europe/Moscow:20250710T103000
DTSTAMP:20260421T031616
CREATED:20250704T061917Z
LAST-MODIFIED:20250704T061917Z
UID:9707-1752138000-1752143400@www.bjbraila.ro
SUMMARY:Legendele Brăilei
DESCRIPTION:Atelier: Legendele Brăilei – atelier de istorie locală \nCoordonator: Laura Caplea \nLocația: sala Fănuș Neagu\, etajul 3
URL:https://www.bjbraila.ro/eveniment/legendele-brailei-5/
LOCATION:Biblioteca “Panait Istrati” Braila\, Piața Poligon nr. 4\, Brăila\, Brăila\, 810026\, România
END:VEVENT
BEGIN:VEVENT
DTSTART;TZID=Europe/Moscow:20250710T090000
DTEND;TZID=Europe/Moscow:20250710T103000
DTSTAMP:20260421T031616
CREATED:20250704T062326Z
LAST-MODIFIED:20250704T062326Z
UID:9715-1752138000-1752143400@www.bjbraila.ro
SUMMARY:Tărâmul emoțiilor
DESCRIPTION:Atelier: Tărâmul emoțiilor \nCoordonator: Camelia Cherciu \nLocația: sala Panait Istrati\, etajul 3
URL:https://www.bjbraila.ro/eveniment/taramul-emotiilor-4/
LOCATION:Biblioteca “Panait Istrati” Braila\, Piața Poligon nr. 4\, Brăila\, Brăila\, 810026\, România
END:VEVENT
BEGIN:VEVENT
DTSTART;TZID=Europe/Moscow:20250710T103000
DTEND;TZID=Europe/Moscow:20250710T120000
DTSTAMP:20260421T031616
CREATED:20250704T060909Z
LAST-MODIFIED:20250704T060909Z
UID:9682-1752143400-1752148800@www.bjbraila.ro
SUMMARY:Bijoux (handmade)
DESCRIPTION:Atelier: Bijoux (handmade) \nCoodonatori:  Steluta Buzdugan\, Irina Ene \nLocația: Mediatecă
URL:https://www.bjbraila.ro/eveniment/bijoux-handmade-4/
LOCATION:Biblioteca “Panait Istrati” Braila\, Piața Poligon nr. 4\, Brăila\, Brăila\, 810026\, România
END:VEVENT
BEGIN:VEVENT
DTSTART;TZID=Europe/Moscow:20250710T110000
DTEND;TZID=Europe/Moscow:20250710T123000
DTSTAMP:20260421T031616
CREATED:20250704T061448Z
LAST-MODIFIED:20250704T061448Z
UID:9695-1752145200-1752150600@www.bjbraila.ro
SUMMARY:Descoperim Franța și Coreea cu pisicile vorbărețe
DESCRIPTION:Atelier: Descoperim Franța și Coreea cu pisicile vorbărețe – atelier de franceză și coreeană \nCoordonatori: Daria Bordei\, Andra Constantin\, Valentina Chiriac \nLocația: sala Fănuș Neagu\, etajul 3.
URL:https://www.bjbraila.ro/eveniment/descoperim-franta-si-coreea-cu-pisicile-vorbarete-4/
LOCATION:Biblioteca “Panait Istrati” Braila\, Piața Poligon nr. 4\, Brăila\, Brăila\, 810026\, România
END:VEVENT
BEGIN:VEVENT
DTSTART;TZID=Europe/Moscow:20250710T120000
DTEND;TZID=Europe/Moscow:20250710T140000
DTSTAMP:20260421T031616
CREATED:20250704T062832Z
LAST-MODIFIED:20250704T062832Z
UID:9725-1752148800-1752156000@www.bjbraila.ro
SUMMARY:Design și programare
DESCRIPTION:Atelier: Design și programare \nCoordonatori: Andrei Lascu\, Daria Șerban \nLocația: Centrul de instruire\, etajul 3
URL:https://www.bjbraila.ro/eveniment/design-si-programare-4/
LOCATION:Biblioteca “Panait Istrati” Braila\, Piața Poligon nr. 4\, Brăila\, Brăila\, 810026\, România
END:VEVENT
BEGIN:VEVENT
DTSTART;TZID=Europe/Moscow:20250711T090000
DTEND;TZID=Europe/Moscow:20250711T103000
DTSTAMP:20260421T031616
CREATED:20250704T061840Z
LAST-MODIFIED:20250704T061840Z
UID:9705-1752224400-1752229800@www.bjbraila.ro
SUMMARY:Legendele Brăilei
DESCRIPTION:Atelier: Legendele Brăilei – atelier de istorie locală \nCoordonator: Laura Caplea \nLocația: sala Fănuș Neagu\, etajul 3
URL:https://www.bjbraila.ro/eveniment/legendele-brailei-4/
LOCATION:Biblioteca “Panait Istrati” Braila\, Piața Poligon nr. 4\, Brăila\, Brăila\, 810026\, România
END:VEVENT
BEGIN:VEVENT
DTSTART;TZID=Europe/Moscow:20250711T090000
DTEND;TZID=Europe/Moscow:20250711T103000
DTSTAMP:20260421T031616
CREATED:20250704T062358Z
LAST-MODIFIED:20250704T062358Z
UID:9717-1752224400-1752229800@www.bjbraila.ro
SUMMARY:Tărâmul emoțiilor
DESCRIPTION:Atelier: Tărâmul emoțiilor \nCoordonator: Camelia Cherciu \nLocația: sala Panait Istrati\, etajul 3
URL:https://www.bjbraila.ro/eveniment/taramul-emotiilor-5/
LOCATION:Biblioteca “Panait Istrati” Braila\, Piața Poligon nr. 4\, Brăila\, Brăila\, 810026\, România
END:VEVENT
BEGIN:VEVENT
DTSTART;TZID=Europe/Moscow:20250711T103000
DTEND;TZID=Europe/Moscow:20250711T120000
DTSTAMP:20260421T031616
CREATED:20250704T061045Z
LAST-MODIFIED:20250704T061045Z
UID:9686-1752229800-1752235200@www.bjbraila.ro
SUMMARY:Bijoux (handmade)
DESCRIPTION:Atelier: Bijoux (handmade) \nCoodonatori:  Steluta Buzdugan\, Irina Ene \nLocația: Mediatecă
URL:https://www.bjbraila.ro/eveniment/bijoux-handmade-6/
LOCATION:Biblioteca “Panait Istrati” Braila\, Piața Poligon nr. 4\, Brăila\, Brăila\, 810026\, România
END:VEVENT
BEGIN:VEVENT
DTSTART;TZID=Europe/Moscow:20250711T110000
DTEND;TZID=Europe/Moscow:20250711T123000
DTSTAMP:20260421T031616
CREATED:20250704T061523Z
LAST-MODIFIED:20250704T061523Z
UID:9697-1752231600-1752237000@www.bjbraila.ro
SUMMARY:Descoperim Franța și Coreea cu pisicile vorbărețe
DESCRIPTION:Atelier: Descoperim Franța și Coreea cu pisicile vorbărețe – atelier de franceză și coreeană \nCoordonatori: Daria Bordei\, Andra Constantin\, Valentina Chiriac \nLocația: sala Fănuș Neagu\, etajul 3.
URL:https://www.bjbraila.ro/eveniment/descoperim-franta-si-coreea-cu-pisicile-vorbarete-5/
LOCATION:Biblioteca “Panait Istrati” Braila\, Piața Poligon nr. 4\, Brăila\, Brăila\, 810026\, România
END:VEVENT
BEGIN:VEVENT
DTSTART;TZID=Europe/Moscow:20250711T120000
DTEND;TZID=Europe/Moscow:20250711T140000
DTSTAMP:20260421T031616
CREATED:20250704T062900Z
LAST-MODIFIED:20250704T062900Z
UID:9727-1752235200-1752242400@www.bjbraila.ro
SUMMARY:Design și programare
DESCRIPTION:Atelier: Design și programare \nCoordonatori: Andrei Lascu\, Daria Șerban \nLocația: Centrul de instruire\, etajul 3
URL:https://www.bjbraila.ro/eveniment/design-si-programare-5/
LOCATION:Biblioteca “Panait Istrati” Braila\, Piața Poligon nr. 4\, Brăila\, Brăila\, 810026\, România
END:VEVENT
BEGIN:VEVENT
DTSTART;TZID=Europe/Moscow:20250714T090000
DTEND;TZID=Europe/Moscow:20250714T110000
DTSTAMP:20260421T031616
CREATED:20250711T054223Z
LAST-MODIFIED:20250711T083749Z
UID:9739-1752483600-1752490800@www.bjbraila.ro
SUMMARY:Arta vorbirii corecte
DESCRIPTION:Atelier: Arta vorbirii corecte \nCoordonator: Maria Denisa Frățilă \nLocația: sala Fănuș Neagu\, etajul 3
URL:https://www.bjbraila.ro/eveniment/arta-vorbirii-corecte/
LOCATION:Biblioteca “Panait Istrati” Braila\, Piața Poligon nr. 4\, Brăila\, Brăila\, 810026\, România
END:VEVENT
BEGIN:VEVENT
DTSTART;TZID=Europe/Moscow:20250714T103000
DTEND;TZID=Europe/Moscow:20250714T120000
DTSTAMP:20260421T031616
CREATED:20250711T055551Z
LAST-MODIFIED:20250711T055551Z
UID:9749-1752489000-1752494400@www.bjbraila.ro
SUMMARY:Atelier de pictură
DESCRIPTION:Atelier de pictură \nCoordonatori: Steluța Buzdugan\, Irina Ene\, Denisa Lilof \nLocația: Mediatecă\, parter
URL:https://www.bjbraila.ro/eveniment/atelier-de-pictura/
LOCATION:Biblioteca “Panait Istrati” Braila\, Piața Poligon nr. 4\, Brăila\, Brăila\, 810026\, România
END:VEVENT
BEGIN:VEVENT
DTSTART;TZID=Europe/Moscow:20250714T103000
DTEND;TZID=Europe/Moscow:20250714T120000
DTSTAMP:20260421T031616
CREATED:20250711T060155Z
LAST-MODIFIED:20250711T060155Z
UID:9759-1752489000-1752494400@www.bjbraila.ro
SUMMARY:Călători prin file de poveste
DESCRIPTION:Atelier: Călători prin file de poveste \nCoordonator: Roxana Neagu \nLocația: Centrul de instruire\, etajul 3
URL:https://www.bjbraila.ro/eveniment/calatori-prin-file-de-poveste/
LOCATION:Biblioteca “Panait Istrati” Braila\, Piața Poligon nr. 4\, Brăila\, Brăila\, 810026\, România
END:VEVENT
BEGIN:VEVENT
DTSTART;TZID=Europe/Moscow:20250714T110000
DTEND;TZID=Europe/Moscow:20250714T120000
DTSTAMP:20260421T031616
CREATED:20250711T060741Z
LAST-MODIFIED:20250711T084133Z
UID:9770-1752490800-1752494400@www.bjbraila.ro
SUMMARY:Filozofie pentru pici
DESCRIPTION:Atelier: Filozofie pentru pici \nCoordonator: Oana Ghetu\, Mihnea Popoacă\, Vlad Popa \nLocația: sala Fănuș Neagu\, etajul 3
URL:https://www.bjbraila.ro/eveniment/filozofie-pentru-pici/
LOCATION:Biblioteca “Panait Istrati” Braila\, Piața Poligon nr. 4\, Brăila\, Brăila\, 810026\, România
END:VEVENT
BEGIN:VEVENT
DTSTART;TZID=Europe/Moscow:20250715T090000
DTEND;TZID=Europe/Moscow:20250715T110000
DTSTAMP:20260421T031616
CREATED:20250711T054930Z
LAST-MODIFIED:20250711T083856Z
UID:9741-1752570000-1752577200@www.bjbraila.ro
SUMMARY:Arta vorbirii corecte
DESCRIPTION:Atelier: Arta vorbirii corecte \nCoordonator: Maria Denisa Frățilă \nLocația: sala Fănuș Neagu\, etajul 3
URL:https://www.bjbraila.ro/eveniment/arta-vorbirii-corecte-2/
LOCATION:Biblioteca “Panait Istrati” Braila\, Piața Poligon nr. 4\, Brăila\, Brăila\, 810026\, România
END:VEVENT
BEGIN:VEVENT
DTSTART;TZID=Europe/Moscow:20250715T103000
DTEND;TZID=Europe/Moscow:20250715T120000
DTSTAMP:20260421T031616
CREATED:20250711T055729Z
LAST-MODIFIED:20250711T055729Z
UID:9751-1752575400-1752580800@www.bjbraila.ro
SUMMARY:Atelier de pictură
DESCRIPTION:Atelier de pictură \nCoordonatori: Steluța Buzdugan\, Irina Ene\, Denisa Lilof \nLocația: Mediatecă\, parter
URL:https://www.bjbraila.ro/eveniment/atelier-de-pictura-2/
LOCATION:Biblioteca “Panait Istrati” Braila\, Piața Poligon nr. 4\, Brăila\, Brăila\, 810026\, România
END:VEVENT
BEGIN:VEVENT
DTSTART;TZID=Europe/Moscow:20250715T103000
DTEND;TZID=Europe/Moscow:20250715T120000
DTSTAMP:20260421T031616
CREATED:20250711T060308Z
LAST-MODIFIED:20250711T060308Z
UID:9761-1752575400-1752580800@www.bjbraila.ro
SUMMARY:Călători prin file de poveste
DESCRIPTION:Atelier: Călători prin file de poveste \nCoordonator: Roxana Neagu \nLocația: Centrul de instruire\, etajul 3
URL:https://www.bjbraila.ro/eveniment/calatori-prin-file-de-poveste-2/
LOCATION:Biblioteca “Panait Istrati” Braila\, Piața Poligon nr. 4\, Brăila\, Brăila\, 810026\, România
END:VEVENT
BEGIN:VEVENT
DTSTART;TZID=Europe/Moscow:20250715T110000
DTEND;TZID=Europe/Moscow:20250715T120000
DTSTAMP:20260421T031616
CREATED:20250711T060826Z
LAST-MODIFIED:20250711T084151Z
UID:9772-1752577200-1752580800@www.bjbraila.ro
SUMMARY:Filozofie pentru pici
DESCRIPTION:Atelier: Filozofie pentru pici \nCoordonator: Oana Ghetu\, Mihnea Popoacă\, Vlad Popa \nLocația: sala Fănuș Neagu\, etajul 3
URL:https://www.bjbraila.ro/eveniment/filozofie-pentru-pici-2/
LOCATION:Biblioteca “Panait Istrati” Braila\, Piața Poligon nr. 4\, Brăila\, Brăila\, 810026\, România
END:VEVENT
END:VCALENDAR