BEGIN:VCALENDAR
VERSION:2.0
PRODID:-//bjbraila.ro - ECPv6.15.20//NONSGML v1.0//EN
CALSCALE:GREGORIAN
METHOD:PUBLISH
X-ORIGINAL-URL:https://www.bjbraila.ro
X-WR-CALDESC:Evenimente pentru bjbraila.ro
REFRESH-INTERVAL;VALUE=DURATION:PT1H
X-Robots-Tag:noindex
X-PUBLISHED-TTL:PT1H
BEGIN:VTIMEZONE
TZID:Europe/Moscow
BEGIN:STANDARD
TZOFFSETFROM:+0300
TZOFFSETTO:+0300
TZNAME:MSK
DTSTART:20240101T000000
END:STANDARD
END:VTIMEZONE
BEGIN:VEVENT
DTSTART;TZID=Europe/Moscow:20250721T090000
DTEND;TZID=Europe/Moscow:20250721T103000
DTSTAMP:20260422T050808
CREATED:20250718T094551Z
LAST-MODIFIED:20250718T094551Z
UID:9832-1753088400-1753093800@www.bjbraila.ro
SUMMARY:Magia florilor
DESCRIPTION:Atelier: Magia florilor \nCoordonator: Camelia Cherciu \nLocația: Grădina Publică \n 
URL:https://www.bjbraila.ro/eveniment/magia-florilor/
LOCATION:Brăila
END:VEVENT
BEGIN:VEVENT
DTSTART;TZID=Europe/Moscow:20250721T090000
DTEND;TZID=Europe/Moscow:20250721T103000
DTSTAMP:20260422T050808
CREATED:20250718T094945Z
LAST-MODIFIED:20250718T094945Z
UID:9842-1753088400-1753093800@www.bjbraila.ro
SUMMARY:Jurnal de vacanță
DESCRIPTION:Atelier: Jurnal de vacanță \nCoordonator: Ana Maria Florică\, Olimpia Moraru \nLocația: Centrul Multicultural
URL:https://www.bjbraila.ro/eveniment/jurnal-de-vacanta/
LOCATION:Biblioteca “Panait Istrati” Braila\, Piața Poligon nr. 4\, Brăila\, Brăila\, 810026\, România
END:VEVENT
BEGIN:VEVENT
DTSTART;TZID=Europe/Moscow:20250721T090000
DTEND;TZID=Europe/Moscow:20250721T103000
DTSTAMP:20260422T050808
CREATED:20250718T095322Z
LAST-MODIFIED:20250718T095322Z
UID:9852-1753088400-1753093800@www.bjbraila.ro
SUMMARY:Învață franceza prin teatru
DESCRIPTION:Atelier: Învață franceza prin teatru \nCoordonator: Ludmila Crăciun \nLocația: sala Fănuș Neagu
URL:https://www.bjbraila.ro/eveniment/invata-franceza-prin-teatru/
LOCATION:Biblioteca “Panait Istrati” Braila\, Piața Poligon nr. 4\, Brăila\, Brăila\, 810026\, România
END:VEVENT
BEGIN:VEVENT
DTSTART;TZID=Europe/Moscow:20250721T090000
DTEND;TZID=Europe/Moscow:20250721T110000
DTSTAMP:20260422T050808
CREATED:20250718T095713Z
LAST-MODIFIED:20250718T095713Z
UID:9862-1753088400-1753095600@www.bjbraila.ro
SUMMARY:Vacanță în Ecobază
DESCRIPTION:Atelier: Vacanță în Ecobază \nCoordonator: Cornelia Miler \nLocația: curtea Bibliotecii
URL:https://www.bjbraila.ro/eveniment/vacanta-in-ecobaza/
LOCATION:Biblioteca “Panait Istrati” Braila\, Piața Poligon nr. 4\, Brăila\, Brăila\, 810026\, România
END:VEVENT
BEGIN:VEVENT
DTSTART;TZID=Europe/Moscow:20250722T090000
DTEND;TZID=Europe/Moscow:20250722T103000
DTSTAMP:20260422T050808
CREATED:20250718T094626Z
LAST-MODIFIED:20250718T094626Z
UID:9834-1753174800-1753180200@www.bjbraila.ro
SUMMARY:Magia florilor
DESCRIPTION:Atelier: Magia florilor \nCoordonator: Camelia Cherciu \nLocația: Grădina Publică
URL:https://www.bjbraila.ro/eveniment/magia-florilor-2/
LOCATION:Brăila
END:VEVENT
BEGIN:VEVENT
DTSTART;TZID=Europe/Moscow:20250722T090000
DTEND;TZID=Europe/Moscow:20250722T103000
DTSTAMP:20260422T050808
CREATED:20250718T095015Z
LAST-MODIFIED:20250718T095015Z
UID:9844-1753174800-1753180200@www.bjbraila.ro
SUMMARY:Jurnal de vacanță
DESCRIPTION:Atelier: Jurnal de vacanță \nCoordonator: Ana Maria Florică\, Olimpia Moraru \nLocația: Centrul Multicultural
URL:https://www.bjbraila.ro/eveniment/jurnal-de-vacanta-2/
LOCATION:Biblioteca “Panait Istrati” Braila\, Piața Poligon nr. 4\, Brăila\, Brăila\, 810026\, România
END:VEVENT
BEGIN:VEVENT
DTSTART;TZID=Europe/Moscow:20250722T090000
DTEND;TZID=Europe/Moscow:20250722T103000
DTSTAMP:20260422T050808
CREATED:20250718T095357Z
LAST-MODIFIED:20250718T095357Z
UID:9854-1753174800-1753180200@www.bjbraila.ro
SUMMARY:Învață franceza prin teatru
DESCRIPTION:Atelier: Învață franceza prin teatru \nCoordonator: Ludmila Crăciun \nLocația: sala Fănuș Neagu
URL:https://www.bjbraila.ro/eveniment/invata-franceza-prin-teatru-2/
LOCATION:Biblioteca “Panait Istrati” Braila\, Piața Poligon nr. 4\, Brăila\, Brăila\, 810026\, România
END:VEVENT
BEGIN:VEVENT
DTSTART;TZID=Europe/Moscow:20250722T090000
DTEND;TZID=Europe/Moscow:20250722T110000
DTSTAMP:20260422T050808
CREATED:20250718T095747Z
LAST-MODIFIED:20250718T095747Z
UID:9864-1753174800-1753182000@www.bjbraila.ro
SUMMARY:Vacanță în Ecobază
DESCRIPTION:Atelier: Vacanță în Ecobază \nCoordonator: Cornelia Miler \nLocația: curtea Bibliotecii
URL:https://www.bjbraila.ro/eveniment/vacanta-in-ecobaza-2/
LOCATION:Biblioteca “Panait Istrati” Braila\, Piața Poligon nr. 4\, Brăila\, Brăila\, 810026\, România
END:VEVENT
BEGIN:VEVENT
DTSTART;TZID=Europe/Moscow:20250723T090000
DTEND;TZID=Europe/Moscow:20250723T103000
DTSTAMP:20260422T050808
CREATED:20250718T094656Z
LAST-MODIFIED:20250718T094656Z
UID:9836-1753261200-1753266600@www.bjbraila.ro
SUMMARY:Magia florilor
DESCRIPTION:Atelier: Magia florilor \nCoordonator: Camelia Cherciu \nLocația: Grădina Publică
URL:https://www.bjbraila.ro/eveniment/magia-florilor-3/
LOCATION:Brăila
END:VEVENT
BEGIN:VEVENT
DTSTART;TZID=Europe/Moscow:20250723T090000
DTEND;TZID=Europe/Moscow:20250723T103000
DTSTAMP:20260422T050808
CREATED:20250718T095049Z
LAST-MODIFIED:20250718T095049Z
UID:9846-1753261200-1753266600@www.bjbraila.ro
SUMMARY:Jurnal de vacanță
DESCRIPTION:Atelier: Jurnal de vacanță \nCoordonator: Ana Maria Florică\, Olimpia Moraru \nLocația: Centrul Multicultural
URL:https://www.bjbraila.ro/eveniment/jurnal-de-vacanta-3/
LOCATION:Biblioteca “Panait Istrati” Braila\, Piața Poligon nr. 4\, Brăila\, Brăila\, 810026\, România
END:VEVENT
BEGIN:VEVENT
DTSTART;TZID=Europe/Moscow:20250723T090000
DTEND;TZID=Europe/Moscow:20250723T103000
DTSTAMP:20260422T050808
CREATED:20250718T095427Z
LAST-MODIFIED:20250718T095427Z
UID:9856-1753261200-1753266600@www.bjbraila.ro
SUMMARY:Învață franceza prin teatru
DESCRIPTION:Atelier: Învață franceza prin teatru \nCoordonator: Ludmila Crăciun \nLocația: sala Fănuș Neagu
URL:https://www.bjbraila.ro/eveniment/invata-franceza-prin-teatru-3/
LOCATION:Biblioteca “Panait Istrati” Braila\, Piața Poligon nr. 4\, Brăila\, Brăila\, 810026\, România
END:VEVENT
BEGIN:VEVENT
DTSTART;TZID=Europe/Moscow:20250723T090000
DTEND;TZID=Europe/Moscow:20250723T110000
DTSTAMP:20260422T050808
CREATED:20250718T095818Z
LAST-MODIFIED:20250718T095818Z
UID:9866-1753261200-1753268400@www.bjbraila.ro
SUMMARY:Vacanță în Ecobază
DESCRIPTION:Atelier: Vacanță în Ecobază \nCoordonator: Cornelia Miler \nLocația: curtea Bibliotecii
URL:https://www.bjbraila.ro/eveniment/vacanta-in-ecobaza-3/
LOCATION:Biblioteca “Panait Istrati” Braila\, Piața Poligon nr. 4\, Brăila\, Brăila\, 810026\, România
END:VEVENT
BEGIN:VEVENT
DTSTART;TZID=Europe/Moscow:20250724T090000
DTEND;TZID=Europe/Moscow:20250724T103000
DTSTAMP:20260422T050808
CREATED:20250718T094746Z
LAST-MODIFIED:20250718T094746Z
UID:9838-1753347600-1753353000@www.bjbraila.ro
SUMMARY:Magia florilor
DESCRIPTION:Atelier: Magia florilor \nCoordonator: Camelia Cherciu \nLocația: Grădina Publică
URL:https://www.bjbraila.ro/eveniment/magia-florilor-4/
LOCATION:Brăila
END:VEVENT
BEGIN:VEVENT
DTSTART;TZID=Europe/Moscow:20250724T090000
DTEND;TZID=Europe/Moscow:20250724T103000
DTSTAMP:20260422T050808
CREATED:20250718T095122Z
LAST-MODIFIED:20250718T095122Z
UID:9848-1753347600-1753353000@www.bjbraila.ro
SUMMARY:Jurnal de vacanță
DESCRIPTION:Atelier: Jurnal de vacanță \nCoordonator: Ana Maria Florică\, Olimpia Moraru \nLocația: Centrul Multicultural
URL:https://www.bjbraila.ro/eveniment/jurnal-de-vacanta-4/
LOCATION:Biblioteca “Panait Istrati” Braila\, Piața Poligon nr. 4\, Brăila\, Brăila\, 810026\, România
END:VEVENT
BEGIN:VEVENT
DTSTART;TZID=Europe/Moscow:20250724T090000
DTEND;TZID=Europe/Moscow:20250724T103000
DTSTAMP:20260422T050808
CREATED:20250718T095511Z
LAST-MODIFIED:20250718T095511Z
UID:9858-1753347600-1753353000@www.bjbraila.ro
SUMMARY:Învață franceza prin teatru
DESCRIPTION:Atelier: Învață franceza prin teatru \nCoordonator: Ludmila Crăciun \nLocația: sala Fănuș Neagu
URL:https://www.bjbraila.ro/eveniment/invata-franceza-prin-teatru-4/
LOCATION:Biblioteca “Panait Istrati” Braila\, Piața Poligon nr. 4\, Brăila\, Brăila\, 810026\, România
END:VEVENT
BEGIN:VEVENT
DTSTART;TZID=Europe/Moscow:20250724T090000
DTEND;TZID=Europe/Moscow:20250724T110000
DTSTAMP:20260422T050808
CREATED:20250718T095847Z
LAST-MODIFIED:20250718T095847Z
UID:9868-1753347600-1753354800@www.bjbraila.ro
SUMMARY:Vacanță în Ecobază
DESCRIPTION:Atelier: Vacanță în Ecobază \nCoordonator: Cornelia Miler \nLocația: curtea Bibliotecii
URL:https://www.bjbraila.ro/eveniment/vacanta-in-ecobaza-4/
LOCATION:Biblioteca “Panait Istrati” Braila\, Piața Poligon nr. 4\, Brăila\, Brăila\, 810026\, România
END:VEVENT
BEGIN:VEVENT
DTSTART;TZID=Europe/Moscow:20250725T090000
DTEND;TZID=Europe/Moscow:20250725T103000
DTSTAMP:20260422T050808
CREATED:20250718T094814Z
LAST-MODIFIED:20250718T094814Z
UID:9840-1753434000-1753439400@www.bjbraila.ro
SUMMARY:Magia florilor
DESCRIPTION:Atelier: Magia florilor \nCoordonator: Camelia Cherciu \nLocația: Grădina Publică
URL:https://www.bjbraila.ro/eveniment/magia-florilor-5/
LOCATION:Brăila
END:VEVENT
BEGIN:VEVENT
DTSTART;TZID=Europe/Moscow:20250725T090000
DTEND;TZID=Europe/Moscow:20250725T103000
DTSTAMP:20260422T050808
CREATED:20250718T095153Z
LAST-MODIFIED:20250718T095153Z
UID:9850-1753434000-1753439400@www.bjbraila.ro
SUMMARY:Jurnal de vacanță
DESCRIPTION:Atelier: Jurnal de vacanță \nCoordonator: Ana Maria Florică\, Olimpia Moraru \nLocația: Centrul Multicultural
URL:https://www.bjbraila.ro/eveniment/jurnal-de-vacanta-5/
LOCATION:Biblioteca “Panait Istrati” Braila\, Piața Poligon nr. 4\, Brăila\, Brăila\, 810026\, România
END:VEVENT
BEGIN:VEVENT
DTSTART;TZID=Europe/Moscow:20250725T090000
DTEND;TZID=Europe/Moscow:20250725T103000
DTSTAMP:20260422T050808
CREATED:20250718T095545Z
LAST-MODIFIED:20250718T095545Z
UID:9860-1753434000-1753439400@www.bjbraila.ro
SUMMARY:Învață franceza prin teatru
DESCRIPTION:Atelier: Învață franceza prin teatru \nCoordonator: Ludmila Crăciun \nLocația: sala Fănuș Neagu
URL:https://www.bjbraila.ro/eveniment/invata-franceza-prin-teatru-5/
LOCATION:Biblioteca “Panait Istrati” Braila\, Piața Poligon nr. 4\, Brăila\, Brăila\, 810026\, România
END:VEVENT
BEGIN:VEVENT
DTSTART;TZID=Europe/Moscow:20250725T090000
DTEND;TZID=Europe/Moscow:20250725T110000
DTSTAMP:20260422T050808
CREATED:20250718T095914Z
LAST-MODIFIED:20250718T095914Z
UID:9870-1753434000-1753441200@www.bjbraila.ro
SUMMARY:Vacanță în Ecobază
DESCRIPTION:Atelier: Vacanță în Ecobază \nCoordonator: Cornelia Miler \nLocația: curtea Bibliotecii
URL:https://www.bjbraila.ro/eveniment/vacanta-in-ecobaza-5/
LOCATION:Biblioteca “Panait Istrati” Braila\, Piața Poligon nr. 4\, Brăila\, Brăila\, 810026\, România
END:VEVENT
BEGIN:VEVENT
DTSTART;TZID=Europe/Moscow:20250728T090000
DTEND;TZID=Europe/Moscow:20250728T103000
DTSTAMP:20260422T050808
CREATED:20250728T054036Z
LAST-MODIFIED:20250728T054036Z
UID:9889-1753693200-1753698600@www.bjbraila.ro
SUMMARY:Pătura povestitoare
DESCRIPTION:Atelier: Pătura povestitoare \nCoordonator: Camelia Cherciu \nLocația: sala Panait Istrati
URL:https://www.bjbraila.ro/eveniment/patura-povestitoare/
LOCATION:Biblioteca “Panait Istrati” Braila\, Piața Poligon nr. 4\, Brăila\, Brăila\, 810026\, România
END:VEVENT
BEGIN:VEVENT
DTSTART;TZID=Europe/Moscow:20250728T100000
DTEND;TZID=Europe/Moscow:20250728T180000
DTSTAMP:20260422T050808
CREATED:20250728T054515Z
LAST-MODIFIED:20250728T054604Z
UID:9901-1753696800-1753725600@www.bjbraila.ro
SUMMARY:Vacanță în Ecobază
DESCRIPTION:Atelier: Vacanță în Ecobază \nCoordonator: Cornelia Miler
URL:https://www.bjbraila.ro/eveniment/vacanta-in-ecobaza-6/
LOCATION:Brăila
END:VEVENT
BEGIN:VEVENT
DTSTART;TZID=Europe/Moscow:20250728T110000
DTEND;TZID=Europe/Moscow:20250728T120000
DTSTAMP:20260422T050808
CREATED:20250728T053536Z
LAST-MODIFIED:20250728T053536Z
UID:9879-1753700400-1753704000@www.bjbraila.ro
SUMMARY:Hola ninos
DESCRIPTION:Atelier: Hola ninos (limba spaniolă) \nCoordonatori: Bianca Stroe\, Camelia Cherciu \nLocația: sala Panait Istrati
URL:https://www.bjbraila.ro/eveniment/hola-ninos/
LOCATION:Biblioteca “Panait Istrati” Braila\, Piața Poligon nr. 4\, Brăila\, Brăila\, 810026\, România
END:VEVENT
BEGIN:VEVENT
DTSTART;TZID=Europe/Moscow:20250729T090000
DTEND;TZID=Europe/Moscow:20250729T103000
DTSTAMP:20260422T050808
CREATED:20250728T054107Z
LAST-MODIFIED:20250728T054107Z
UID:9891-1753779600-1753785000@www.bjbraila.ro
SUMMARY:Pătura povestitoare
DESCRIPTION:Atelier: Pătura povestitoare \nCoordonator: Camelia Cherciu \nLocația: sala Panait Istrati
URL:https://www.bjbraila.ro/eveniment/patura-povestitoare-2/
LOCATION:Biblioteca “Panait Istrati” Braila\, Piața Poligon nr. 4\, Brăila\, Brăila\, 810026\, România
END:VEVENT
BEGIN:VEVENT
DTSTART;TZID=Europe/Moscow:20250729T100000
DTEND;TZID=Europe/Moscow:20250729T180000
DTSTAMP:20260422T050808
CREATED:20250728T054637Z
LAST-MODIFIED:20250728T054637Z
UID:9903-1753783200-1753812000@www.bjbraila.ro
SUMMARY:Vacanță în Ecobază
DESCRIPTION:Atelier: Vacanță în Ecobază \nCoordonator: Cornelia Miler
URL:https://www.bjbraila.ro/eveniment/vacanta-in-ecobaza-7/
LOCATION:Brăila
END:VEVENT
BEGIN:VEVENT
DTSTART;TZID=Europe/Moscow:20250729T110000
DTEND;TZID=Europe/Moscow:20250729T120000
DTSTAMP:20260422T050808
CREATED:20250728T053614Z
LAST-MODIFIED:20250728T053614Z
UID:9881-1753786800-1753790400@www.bjbraila.ro
SUMMARY:Hola ninos
DESCRIPTION:Atelier: Hola ninos (limba spaniolă) \nCoordonatori: Bianca Stroe\, Camelia Cherciu \nLocația: sala Panait Istrati
URL:https://www.bjbraila.ro/eveniment/hola-ninos-2/
LOCATION:Biblioteca “Panait Istrati” Braila\, Piața Poligon nr. 4\, Brăila\, Brăila\, 810026\, România
END:VEVENT
BEGIN:VEVENT
DTSTART;TZID=Europe/Moscow:20250730T090000
DTEND;TZID=Europe/Moscow:20250730T103000
DTSTAMP:20260422T050808
CREATED:20250728T054223Z
LAST-MODIFIED:20250728T054223Z
UID:9893-1753866000-1753871400@www.bjbraila.ro
SUMMARY:Pătura povestitoare
DESCRIPTION:Atelier: Pătura povestitoare \nCoordonator: Camelia Cherciu \nLocația: sala Panait Istrati
URL:https://www.bjbraila.ro/eveniment/patura-povestitoare-3/
LOCATION:Biblioteca “Panait Istrati” Braila\, Piața Poligon nr. 4\, Brăila\, Brăila\, 810026\, România
END:VEVENT
BEGIN:VEVENT
DTSTART;TZID=Europe/Moscow:20250730T100000
DTEND;TZID=Europe/Moscow:20250730T180000
DTSTAMP:20260422T050808
CREATED:20250728T054710Z
LAST-MODIFIED:20250728T054710Z
UID:9905-1753869600-1753898400@www.bjbraila.ro
SUMMARY:Vacanță în Ecobază
DESCRIPTION:Atelier: Vacanță în Ecobază \nCoordonator: Cornelia Miler
URL:https://www.bjbraila.ro/eveniment/vacanta-in-ecobaza-8/
LOCATION:Brăila
END:VEVENT
BEGIN:VEVENT
DTSTART;TZID=Europe/Moscow:20250730T110000
DTEND;TZID=Europe/Moscow:20250730T120000
DTSTAMP:20260422T050808
CREATED:20250728T053704Z
LAST-MODIFIED:20250728T053704Z
UID:9883-1753873200-1753876800@www.bjbraila.ro
SUMMARY:Hola ninos
DESCRIPTION:Atelier: Hola ninos (limba spaniolă) \nCoordonatori: Bianca Stroe\, Camelia Cherciu \nLocația: sala Panait Istrati
URL:https://www.bjbraila.ro/eveniment/hola-ninos-3/
LOCATION:Biblioteca “Panait Istrati” Braila\, Piața Poligon nr. 4\, Brăila\, Brăila\, 810026\, România
END:VEVENT
BEGIN:VEVENT
DTSTART;TZID=Europe/Moscow:20250731T090000
DTEND;TZID=Europe/Moscow:20250731T103000
DTSTAMP:20260422T050808
CREATED:20250728T054300Z
LAST-MODIFIED:20250728T054300Z
UID:9896-1753952400-1753957800@www.bjbraila.ro
SUMMARY:Pătura povestitoare
DESCRIPTION:Atelier: Pătura povestitoare \nCoordonator: Camelia Cherciu \nLocația: sala Panait Istrati
URL:https://www.bjbraila.ro/eveniment/patura-povestitoare-4/
LOCATION:Biblioteca “Panait Istrati” Braila\, Piața Poligon nr. 4\, Brăila\, Brăila\, 810026\, România
END:VEVENT
END:VCALENDAR