BEGIN:VCALENDAR
VERSION:2.0
PRODID:-//bjbraila.ro - ECPv6.15.20//NONSGML v1.0//EN
CALSCALE:GREGORIAN
METHOD:PUBLISH
X-ORIGINAL-URL:https://www.bjbraila.ro
X-WR-CALDESC:Evenimente pentru bjbraila.ro
REFRESH-INTERVAL;VALUE=DURATION:PT1H
X-Robots-Tag:noindex
X-PUBLISHED-TTL:PT1H
BEGIN:VTIMEZONE
TZID:Europe/Moscow
BEGIN:STANDARD
TZOFFSETFROM:+0300
TZOFFSETTO:+0300
TZNAME:MSK
DTSTART:20240101T000000
END:STANDARD
END:VTIMEZONE
BEGIN:VEVENT
DTSTART;TZID=Europe/Moscow:20251022T080000
DTEND;TZID=Europe/Moscow:20251022T160000
DTSTAMP:20260421T045215
CREATED:20251020T052656Z
LAST-MODIFIED:20251020T052656Z
UID:10039-1761120000-1761148800@www.bjbraila.ro
SUMMARY:Club robotică
DESCRIPTION:Club robotică \n\ncoordonator: Silviu Gheorghe;\nlocația: Makerspace\, etajul 1;\nora: 08.00 – 16.00;\natelier adresat tinerilor cu vârsta cuprinsă între 14 și 19 ani;\ndetalii: 0239 611 292
URL:https://www.bjbraila.ro/eveniment/club-robotica-52/
LOCATION:Biblioteca “Panait Istrati” Braila\, Piața Poligon nr. 4\, Brăila\, Brăila\, 810026\, România
ORGANIZER;CN="Biblioteca %E2%80%9CPanait Istrati%E2%80%9D Braila":MAILTO:bjpi@bjbraila.ro
END:VEVENT
BEGIN:VEVENT
DTSTART;TZID=Europe/Moscow:20251022T090000
DTEND;TZID=Europe/Moscow:20251022T100000
DTSTAMP:20260421T045215
CREATED:20251020T063444Z
LAST-MODIFIED:20251020T063444Z
UID:10070-1761123600-1761127200@www.bjbraila.ro
SUMMARY:Învățăm despre toamnă
DESCRIPTION:Învățăm despre toamnă \n\n\ncoordonator: Camelia Cherciu;\nlocația: CSEI;\nora: 09.00 – 10.00;\ndetalii: 0239 611 292
URL:https://www.bjbraila.ro/eveniment/invatam-despre-toamna/
LOCATION:Brăila
ORGANIZER;CN="Biblioteca %E2%80%9CPanait Istrati%E2%80%9D Braila":MAILTO:bjpi@bjbraila.ro
END:VEVENT
BEGIN:VEVENT
DTSTART;TZID=Europe/Moscow:20251022T093000
DTEND;TZID=Europe/Moscow:20251022T110000
DTSTAMP:20260421T045215
CREATED:20251020T060014Z
LAST-MODIFIED:20251020T060014Z
UID:10054-1761125400-1761130800@www.bjbraila.ro
SUMMARY:Săptămâna altfel
DESCRIPTION:Săptămâna altfel \n\ncoordonator: Valentina Chiriac;\nlocația: Fănuș Neagu\, etajul 3;\nora: 09.30 – 11.00;\ndetalii: 0239 611 292
URL:https://www.bjbraila.ro/eveniment/saptamana-altfel/
LOCATION:Biblioteca “Panait Istrati” Braila\, Piața Poligon nr. 4\, Brăila\, Brăila\, 810026\, România
END:VEVENT
BEGIN:VEVENT
DTSTART;TZID=Europe/Moscow:20251022T100000
DTEND;TZID=Europe/Moscow:20251022T110000
DTSTAMP:20260421T045215
CREATED:20251020T060348Z
LAST-MODIFIED:20251020T060431Z
UID:10057-1761127200-1761130800@www.bjbraila.ro
SUMMARY:Cartea și biblioteca
DESCRIPTION:Cartea și biblioteca \n\ncoordonator: Doina Stanciu;\nlocația: Ludoteca\, parter;\nora: 10.00 – 11.00;\ndetalii: 0239 611 292
URL:https://www.bjbraila.ro/eveniment/cartea-si-biblioteca/
LOCATION:Biblioteca “Panait Istrati” Braila\, Piața Poligon nr. 4\, Brăila\, Brăila\, 810026\, România
ORGANIZER;CN="Biblioteca %E2%80%9CPanait Istrati%E2%80%9D Braila":MAILTO:bjpi@bjbraila.ro
END:VEVENT
BEGIN:VEVENT
DTSTART;TZID=Europe/Moscow:20251022T100000
DTEND;TZID=Europe/Moscow:20251022T110000
DTSTAMP:20260421T045215
CREATED:20251020T075027Z
LAST-MODIFIED:20251020T075027Z
UID:10105-1761127200-1761130800@www.bjbraila.ro
SUMMARY:Elmer și prietenii lui în vizită la bibliotecă
DESCRIPTION:Elmer și prietenii lui în vizită la bibliotecă \n\ncoordonator: Moraru Olimpia;\nlocația: Centrul Multicultural;\nora: 10.00 – 11.00;\ndetalii: 0239 611 292\n\n 
URL:https://www.bjbraila.ro/eveniment/elmer-si-prietenii-lui-in-vizita-la-biblioteca/
LOCATION:Biblioteca “Panait Istrati” Braila\, Piața Poligon nr. 4\, Brăila\, Brăila\, 810026\, România
CATEGORIES:Evenimente
ORGANIZER;CN="Biblioteca %E2%80%9CPanait Istrati%E2%80%9D Braila":MAILTO:bjpi@bjbraila.ro
END:VEVENT
BEGIN:VEVENT
DTSTART;TZID=Europe/Moscow:20251022T140000
DTEND;TZID=Europe/Moscow:20251022T150000
DTSTAMP:20260421T045215
CREATED:20251020T075133Z
LAST-MODIFIED:20251020T075133Z
UID:10107-1761141600-1761145200@www.bjbraila.ro
SUMMARY:Halloween Contest
DESCRIPTION:Halloween Contest \n\ncoordonator: Moraru Olimpia;\nlocația: Centrul Multicultural;\nora: 14.00 – 15.00;\ndetalii: 0239 611 292\n\n 
URL:https://www.bjbraila.ro/eveniment/halloween-contest/
LOCATION:Biblioteca “Panait Istrati” Braila\, Piața Poligon nr. 4\, Brăila\, Brăila\, 810026\, România
CATEGORIES:Evenimente
ORGANIZER;CN="Biblioteca %E2%80%9CPanait Istrati%E2%80%9D Braila":MAILTO:bjpi@bjbraila.ro
END:VEVENT
BEGIN:VEVENT
DTSTART;TZID=Europe/Moscow:20251022T163000
DTEND;TZID=Europe/Moscow:20251022T180000
DTSTAMP:20260421T045215
CREATED:20251020T061551Z
LAST-MODIFIED:20251020T061551Z
UID:10062-1761150600-1761156000@www.bjbraila.ro
SUMMARY:Poveștile firelor de ață
DESCRIPTION:Poveștile firelor de ață \n\ncoordonator: Valentina Chiriac\, Leta Răileanu;\nlocația: Împrumut Adulți;\nora: 16.30 – 18.00;\ndetalii: 0239 611 292\n\n 
URL:https://www.bjbraila.ro/eveniment/povestile-firelor-de-ata-4/
LOCATION:Biblioteca “Panait Istrati” Braila\, Piața Poligon nr. 4\, Brăila\, Brăila\, 810026\, România
ORGANIZER;CN="Biblioteca %E2%80%9CPanait Istrati%E2%80%9D Braila":MAILTO:bjpi@bjbraila.ro
END:VEVENT
BEGIN:VEVENT
DTSTART;TZID=Europe/Moscow:20251022T170000
DTEND;TZID=Europe/Moscow:20251022T180000
DTSTAMP:20260421T045215
CREATED:20251020T060549Z
LAST-MODIFIED:20251020T060549Z
UID:10059-1761152400-1761156000@www.bjbraila.ro
SUMMARY:Atelier de limba engleză adulți
DESCRIPTION:Atelier de limba engleză adulți \n\n\ncoordonator: Violeta Eftime\, Nicoleta Prodan;\nlocația: Centrul de instruire\, etajul 3;\nora: 17.00 – 18.00;\ndetalii: 0239 611 292
URL:https://www.bjbraila.ro/eveniment/atelier-de-limba-engleza-adulti-2/
LOCATION:Biblioteca “Panait Istrati” Braila\, Piața Poligon nr. 4\, Brăila\, Brăila\, 810026\, România
ORGANIZER;CN="Biblioteca %E2%80%9CPanait Istrati%E2%80%9D Braila":MAILTO:bjpi@bjbraila.ro
END:VEVENT
BEGIN:VEVENT
DTSTART;TZID=Europe/Moscow:20251023T080000
DTEND;TZID=Europe/Moscow:20251023T090000
DTSTAMP:20260421T045215
CREATED:20251020T075250Z
LAST-MODIFIED:20251020T075250Z
UID:10109-1761206400-1761210000@www.bjbraila.ro
SUMMARY:Halloween Around the World
DESCRIPTION:Halloween Around the World \n\ncoordonator: Moraru Olimpia;\nlocația: Centrul Multicultural;\nora: 08.00 – 09.00;\ndetalii: 0239 611 292
URL:https://www.bjbraila.ro/eveniment/halloween-around-the-world/
LOCATION:Biblioteca “Panait Istrati” Braila\, Piața Poligon nr. 4\, Brăila\, Brăila\, 810026\, România
CATEGORIES:Evenimente
ORGANIZER;CN="Biblioteca %E2%80%9CPanait Istrati%E2%80%9D Braila":MAILTO:bjpi@bjbraila.ro
END:VEVENT
BEGIN:VEVENT
DTSTART;TZID=Europe/Moscow:20251023T080000
DTEND;TZID=Europe/Moscow:20251023T160000
DTSTAMP:20260421T045215
CREATED:20251020T052735Z
LAST-MODIFIED:20251020T052735Z
UID:10041-1761206400-1761235200@www.bjbraila.ro
SUMMARY:Club robotică
DESCRIPTION:Club robotică \n\ncoordonator: Silviu Gheorghe;\nlocația: Makerspace\, etajul 1;\nora: 08.00 – 16.00;\natelier adresat tinerilor cu vârsta cuprinsă între 14 și 19 ani;\ndetalii: 0239 611 292
URL:https://www.bjbraila.ro/eveniment/club-robotica-53/
LOCATION:Biblioteca “Panait Istrati” Braila\, Piața Poligon nr. 4\, Brăila\, Brăila\, 810026\, România
ORGANIZER;CN="Biblioteca %E2%80%9CPanait Istrati%E2%80%9D Braila":MAILTO:bjpi@bjbraila.ro
END:VEVENT
BEGIN:VEVENT
DTSTART;TZID=Europe/Moscow:20251023T100000
DTEND;TZID=Europe/Moscow:20251023T110000
DTSTAMP:20260421T045215
CREATED:20251020T075444Z
LAST-MODIFIED:20251020T075444Z
UID:10111-1761213600-1761217200@www.bjbraila.ro
SUMMARY:Isprăvile purcelușilor în „casa cărților”
DESCRIPTION:Isprăvile purcelușilor în „casa cărților” \n\ncoordonator: Moraru Olimpia;\nlocația: Centrul Multicultural;\nora: 10.00 – 11.00;\ndetalii: 0239 611 292
URL:https://www.bjbraila.ro/eveniment/ispravile-purcelusilor-in-casa-cartilor/
LOCATION:Biblioteca “Panait Istrati” Braila\, Piața Poligon nr. 4\, Brăila\, Brăila\, 810026\, România
CATEGORIES:Evenimente
ORGANIZER;CN="Biblioteca %E2%80%9CPanait Istrati%E2%80%9D Braila":MAILTO:bjpi@bjbraila.ro
END:VEVENT
BEGIN:VEVENT
DTSTART;TZID=Europe/Moscow:20251023T100000
DTEND;TZID=Europe/Moscow:20251023T113000
DTSTAMP:20260421T045215
CREATED:20251020T064036Z
LAST-MODIFIED:20251020T070946Z
UID:10072-1761213600-1761219000@www.bjbraila.ro
SUMMARY:Legendele Brăilei
DESCRIPTION:Legendele Brăilei \n\n\ncoordonator: Laura Caplea;\nlocația: Centrul de instruire\, etajul 3;\nora: 10.00 – 11.30;\ndetalii: 0239 611 292
URL:https://www.bjbraila.ro/eveniment/legendele-brailei-6/
LOCATION:Biblioteca “Panait Istrati” Braila\, Piața Poligon nr. 4\, Brăila\, Brăila\, 810026\, România
ORGANIZER;CN="Biblioteca %E2%80%9CPanait Istrati%E2%80%9D Braila":MAILTO:bjpi@bjbraila.ro
END:VEVENT
BEGIN:VEVENT
DTSTART;TZID=Europe/Moscow:20251023T100000
DTEND;TZID=Europe/Moscow:20251023T130000
DTSTAMP:20260421T045215
CREATED:20251020T070620Z
LAST-MODIFIED:20251020T070657Z
UID:10081-1761213600-1761224400@www.bjbraila.ro
SUMMARY:Săptămâna Verde
DESCRIPTION:Săptămâna Verde \n\ncoordonatori: Apostu Viorica\, Ștefu Gabriela ;\nlocația: Fănuș Neagu\, etajul 3;\nora: 10.00 – 13.00;\ndetalii: 0239 611 292
URL:https://www.bjbraila.ro/eveniment/saptamana-verde-4/
LOCATION:Biblioteca “Panait Istrati” Braila\, Piața Poligon nr. 4\, Brăila\, Brăila\, 810026\, România
ORGANIZER;CN="Biblioteca %E2%80%9CPanait Istrati%E2%80%9D Braila":MAILTO:bjpi@bjbraila.ro
END:VEVENT
BEGIN:VEVENT
DTSTART;TZID=Europe/Moscow:20251023T103000
DTEND;TZID=Europe/Moscow:20251023T123000
DTSTAMP:20260421T045215
CREATED:20251020T074053Z
LAST-MODIFIED:20251020T074053Z
UID:10099-1761215400-1761222600@www.bjbraila.ro
SUMMARY:Călătoria literelor
DESCRIPTION:Călătoria literelor \n\ncoordonator: Camelia Cherciu;\nlocația: Secția Împrumut  Adulți;\nora: 10.30 – 12.30;\ndetalii: 0239 611 292\n\n 
URL:https://www.bjbraila.ro/eveniment/calatoria-literelor/
LOCATION:Biblioteca “Panait Istrati” Braila\, Piața Poligon nr. 4\, Brăila\, Brăila\, 810026\, România
CATEGORIES:Evenimente
ORGANIZER;CN="Biblioteca %E2%80%9CPanait Istrati%E2%80%9D Braila":MAILTO:bjpi@bjbraila.ro
END:VEVENT
BEGIN:VEVENT
DTSTART;TZID=Europe/Moscow:20251023T110000
DTEND;TZID=Europe/Moscow:20251023T130000
DTSTAMP:20260421T045215
CREATED:20251020T074330Z
LAST-MODIFIED:20251020T074330Z
UID:10101-1761217200-1761224400@www.bjbraila.ro
SUMMARY:Activități cu seniorii
DESCRIPTION:Activități cu seniorii \n\ncoordonator: Apostu Viorica\, Ștefu Gabriela;\nlocația: Căminul de bătrâni Sfinții Apostoli Petru și Pavel;\nora: 11.00 – 13.00;\ndetalii: 0239 611 292\n\n 
URL:https://www.bjbraila.ro/eveniment/activitati-cu-seniorii-2/
LOCATION:Biblioteca “Panait Istrati” Braila\, Piața Poligon nr. 4\, Brăila\, Brăila\, 810026\, România
CATEGORIES:Evenimente
ORGANIZER;CN="Biblioteca %E2%80%9CPanait Istrati%E2%80%9D Braila":MAILTO:bjpi@bjbraila.ro
END:VEVENT
BEGIN:VEVENT
DTSTART;TZID=Europe/Moscow:20251023T113000
DTEND;TZID=Europe/Moscow:20251023T130000
DTSTAMP:20260421T045215
CREATED:20251020T064647Z
LAST-MODIFIED:20251020T064647Z
UID:10076-1761219000-1761224400@www.bjbraila.ro
SUMMARY:Filmul de joi
DESCRIPTION:Filmul de joi \n\ncoordonator: Irina Ene;\nlocația: Mediatecă\, parter;\nora: 11.30 – 13.00;\ndetalii: 0239 611 292
URL:https://www.bjbraila.ro/eveniment/filmul-de-joi-8/
LOCATION:Biblioteca “Panait Istrati” Braila\, Piața Poligon nr. 4\, Brăila\, Brăila\, 810026\, România
ORGANIZER;CN="Biblioteca %E2%80%9CPanait Istrati%E2%80%9D Braila":MAILTO:bjpi@bjbraila.ro
END:VEVENT
BEGIN:VEVENT
DTSTART;TZID=Europe/Moscow:20251023T140000
DTEND;TZID=Europe/Moscow:20251023T160000
DTSTAMP:20260421T045215
CREATED:20251020T071314Z
LAST-MODIFIED:20251020T071314Z
UID:10083-1761228000-1761235200@www.bjbraila.ro
SUMMARY:Sunt Creativ
DESCRIPTION:Sunt Creativ \n\ncoordonator: Iacob Silvia\, Petcu Florentina;\nlocația: Panait Istrati\, etajul 3;\nora: 14.00 – 16.00;\ndetalii: 0239 611 292
URL:https://www.bjbraila.ro/eveniment/sunt-creativ-8/
LOCATION:Biblioteca “Panait Istrati” Braila\, Piața Poligon nr. 4\, Brăila\, Brăila\, 810026\, România
ORGANIZER;CN="Biblioteca %E2%80%9CPanait Istrati%E2%80%9D Braila":MAILTO:bjpi@bjbraila.ro
END:VEVENT
BEGIN:VEVENT
DTSTART;TZID=Europe/Moscow:20251023T143000
DTEND;TZID=Europe/Moscow:20251023T160000
DTSTAMP:20260421T045215
CREATED:20251020T071527Z
LAST-MODIFIED:20251020T071527Z
UID:10085-1761229800-1761235200@www.bjbraila.ro
SUMMARY:Atelier de Caligrafie
DESCRIPTION:Atelier de Caligrafie \n\ncoordonatori: Florică Ana-Maria ;\nlocația: Centrul Multicultural;\nora:14.30 – 16.00;\ndetalii: 0239 611 292
URL:https://www.bjbraila.ro/eveniment/atelier-de-caligrafie-6/
LOCATION:Biblioteca “Panait Istrati” Braila\, Piața Poligon nr. 4\, Brăila\, Brăila\, 810026\, România
ORGANIZER;CN="Biblioteca %E2%80%9CPanait Istrati%E2%80%9D Braila":MAILTO:bjpi@bjbraila.ro
END:VEVENT
BEGIN:VEVENT
DTSTART;TZID=Europe/Moscow:20251023T163000
DTEND;TZID=Europe/Moscow:20251023T183000
DTSTAMP:20260421T045215
CREATED:20251020T074554Z
LAST-MODIFIED:20251020T074554Z
UID:10103-1761237000-1761244200@www.bjbraila.ro
SUMMARY:Șezătoare Poveștile Iei
DESCRIPTION:Șezătoare Poveștile Iei \n\ncoordonator: Corina Ciuraru;\nlocația: Centrul de Instruire\, etajul 3;\nora: 16.30 – 18.30;\natelier de cusut cămăși românești;\ndetalii: 0239 611 292\n\n 
URL:https://www.bjbraila.ro/eveniment/sezatoare-povestile-iei/
LOCATION:Biblioteca “Panait Istrati” Braila\, Piața Poligon nr. 4\, Brăila\, Brăila\, 810026\, România
CATEGORIES:Evenimente
ORGANIZER;CN="Biblioteca %E2%80%9CPanait Istrati%E2%80%9D Braila":MAILTO:bjpi@bjbraila.ro
END:VEVENT
BEGIN:VEVENT
DTSTART;TZID=Europe/Moscow:20251024T080000
DTEND;TZID=Europe/Moscow:20251024T160000
DTSTAMP:20260421T045215
CREATED:20251020T052956Z
LAST-MODIFIED:20251020T052956Z
UID:10043-1761292800-1761321600@www.bjbraila.ro
SUMMARY:Club robotică
DESCRIPTION:Club robotică \n\ncoordonator: Silviu Gheorghe;\nlocația: Makerspace\, etajul 1;\nora: 08.00 – 16.00;\natelier adresat tinerilor cu vârsta cuprinsă între 14 și 19 ani;\ndetalii: 0239 611 292
URL:https://www.bjbraila.ro/eveniment/club-robotica-54/
LOCATION:Biblioteca “Panait Istrati” Braila\, Piața Poligon nr. 4\, Brăila\, Brăila\, 810026\, România
ORGANIZER;CN="Biblioteca %E2%80%9CPanait Istrati%E2%80%9D Braila":MAILTO:bjpi@bjbraila.ro
END:VEVENT
BEGIN:VEVENT
DTSTART;TZID=Europe/Moscow:20251024T100000
DTEND;TZID=Europe/Moscow:20251024T120000
DTSTAMP:20260421T045215
CREATED:20251020T071843Z
LAST-MODIFIED:20251020T071843Z
UID:10087-1761300000-1761307200@www.bjbraila.ro
SUMMARY:Angela Burtea - Lansare de carte
DESCRIPTION:Angela Burtea  – Lansare de carte \n\nlocația: Fănuș Neagu\, etajul 3;\nora: 10.00 – 12.00;\ndetalii: 0239 611 292
URL:https://www.bjbraila.ro/eveniment/angela-burtea-lansare-de-carte/
LOCATION:Biblioteca “Panait Istrati” Braila\, Piața Poligon nr. 4\, Brăila\, Brăila\, 810026\, România
CATEGORIES:Lansare de carte
ORGANIZER;CN="Biblioteca %E2%80%9CPanait Istrati%E2%80%9D Braila":MAILTO:bjpi@bjbraila.ro
END:VEVENT
BEGIN:VEVENT
DTSTART;TZID=Europe/Moscow:20251024T140000
DTEND;TZID=Europe/Moscow:20251024T150000
DTSTAMP:20260421T045215
CREATED:20251020T072103Z
LAST-MODIFIED:20251020T072103Z
UID:10089-1761314400-1761318000@www.bjbraila.ro
SUMMARY:English is fun
DESCRIPTION:English is fun \n\ncoordonatori: Moraru Olimpia;\nlocația: Centrul Multicultural;\nora: 14.00 – 15.00;\ndetalii: 0239 611 292
URL:https://www.bjbraila.ro/eveniment/english-is-fun-9/
LOCATION:Biblioteca “Panait Istrati” Braila\, Piața Poligon nr. 4\, Brăila\, Brăila\, 810026\, România
CATEGORIES:Evenimente
ORGANIZER;CN="Biblioteca %E2%80%9CPanait Istrati%E2%80%9D Braila":MAILTO:bjpi@bjbraila.ro
END:VEVENT
BEGIN:VEVENT
DTSTART;TZID=Europe/Moscow:20251024T150000
DTEND;TZID=Europe/Moscow:20251024T170000
DTSTAMP:20260421T045215
CREATED:20251020T072350Z
LAST-MODIFIED:20251020T072350Z
UID:10091-1761318000-1761325200@www.bjbraila.ro
SUMMARY:CodeKids
DESCRIPTION:CodeKids \n\ncoordonator: Alecu Ștefăniță;\nlocația: Centrul de Instruire\, etajul 3;\nora: 15.00 – 17.00;\ndetalii: 0239 611 292
URL:https://www.bjbraila.ro/eveniment/codekids-9/
LOCATION:Biblioteca “Panait Istrati” Braila\, Piața Poligon nr. 4\, Brăila\, Brăila\, 810026\, România
CATEGORIES:Evenimente
ORGANIZER;CN="Biblioteca %E2%80%9CPanait Istrati%E2%80%9D Braila":MAILTO:bjpi@bjbraila.ro
END:VEVENT
BEGIN:VEVENT
DTSTART;TZID=Europe/Moscow:20251024T150000
DTEND;TZID=Europe/Moscow:20251024T170000
DTSTAMP:20260421T045215
CREATED:20251020T075903Z
LAST-MODIFIED:20251020T075903Z
UID:10117-1761318000-1761325200@www.bjbraila.ro
SUMMARY:CodeKids
DESCRIPTION:CodeKids \n\ncoordonator: Alecu Ștefăniță;\nlocația: Centrul de Instruire\, etajul 3;\nora: 15.00 – 17.00;\ndetalii: 0239 611 292
URL:https://www.bjbraila.ro/eveniment/codekids-10/
LOCATION:Biblioteca “Panait Istrati” Braila\, Piața Poligon nr. 4\, Brăila\, Brăila\, 810026\, România
CATEGORIES:Evenimente
ORGANIZER;CN="Biblioteca %E2%80%9CPanait Istrati%E2%80%9D Braila":MAILTO:bjpi@bjbraila.ro
END:VEVENT
BEGIN:VEVENT
DTSTART;TZID=Europe/Moscow:20251025T080000
DTEND;TZID=Europe/Moscow:20251025T160000
DTSTAMP:20260421T045215
CREATED:20251020T053054Z
LAST-MODIFIED:20251020T053639Z
UID:10045-1761379200-1761408000@www.bjbraila.ro
SUMMARY:Club robotică
DESCRIPTION:Club robotică \n\ncoordonator: Silviu Gheorghe;\nlocația: Makerspace\, etajul 1;\nora: 08.00 – 16.00;\natelier adresat tinerilor cu vârsta cuprinsă între 14 și 19 ani;\ndetalii: 0239 611 292
URL:https://www.bjbraila.ro/eveniment/club-robotica-55/
LOCATION:Biblioteca “Panait Istrati” Braila\, Piața Poligon nr. 4\, Brăila\, Brăila\, 810026\, România
ORGANIZER;CN="Biblioteca %E2%80%9CPanait Istrati%E2%80%9D Braila":MAILTO:bjpi@bjbraila.ro
END:VEVENT
BEGIN:VEVENT
DTSTART;TZID=Europe/Moscow:20251025T100000
DTEND;TZID=Europe/Moscow:20251025T120000
DTSTAMP:20260421T045215
CREATED:20251020T073303Z
LAST-MODIFIED:20251020T073303Z
UID:10093-1761386400-1761393600@www.bjbraila.ro
SUMMARY:Niciodată Singur
DESCRIPTION:Niciodată Singur \n\nlocația: Sala Dunărea;\nora: 10.00 – 12.00;\nactivități seniori;\ndetalii: 0239 611 292
URL:https://www.bjbraila.ro/eveniment/niciodata-singur-2/
LOCATION:Biblioteca “Panait Istrati” Braila\, Piața Poligon nr. 4\, Brăila\, Brăila\, 810026\, România
CATEGORIES:Evenimente
ORGANIZER;CN="Biblioteca %E2%80%9CPanait Istrati%E2%80%9D Braila":MAILTO:bjpi@bjbraila.ro
END:VEVENT
BEGIN:VEVENT
DTSTART;TZID=Europe/Moscow:20251025T100000
DTEND;TZID=Europe/Moscow:20251025T140000
DTSTAMP:20260421T045215
CREATED:20251020T073505Z
LAST-MODIFIED:20251020T073505Z
UID:10095-1761386400-1761400800@www.bjbraila.ro
SUMMARY:Atelier Marketing Digital
DESCRIPTION:Atelier Marketing Digital \n\ncoordonator: Teodora Adamache;\nlocația: Centrul de Instruire\, etajul 3;\nora: 10.00 – 14.00;\ndetalii: 0239 611 292
URL:https://www.bjbraila.ro/eveniment/atelier-marketing-digital/
LOCATION:Biblioteca “Panait Istrati” Braila\, Piața Poligon nr. 4\, Brăila\, Brăila\, 810026\, România
CATEGORIES:Evenimente
ORGANIZER;CN="Biblioteca %E2%80%9CPanait Istrati%E2%80%9D Braila":MAILTO:bjpi@bjbraila.ro
END:VEVENT
BEGIN:VEVENT
DTSTART;TZID=Europe/Moscow:20251025T110000
DTEND;TZID=Europe/Moscow:20251025T130000
DTSTAMP:20260421T045215
CREATED:20251020T073722Z
LAST-MODIFIED:20251020T073722Z
UID:10097-1761390000-1761397200@www.bjbraila.ro
SUMMARY:Nino Nino
DESCRIPTION:Nino Nino \n\ncoordonator: Barbu Lică\, Stanciu Doinița;\nlocația: sala Panait Istrati\, etajul 3;\nora: 11.00 – 13.00;\ndetalii: 0239 611 292\n\n 
URL:https://www.bjbraila.ro/eveniment/nino-nino-6/
LOCATION:Biblioteca “Panait Istrati” Braila\, Piața Poligon nr. 4\, Brăila\, Brăila\, 810026\, România
CATEGORIES:Evenimente
ORGANIZER;CN="Biblioteca %E2%80%9CPanait Istrati%E2%80%9D Braila":MAILTO:bjpi@bjbraila.ro
END:VEVENT
BEGIN:VEVENT
DTSTART;TZID=Europe/Moscow:20251027T080000
DTEND;TZID=Europe/Moscow:20251027T160000
DTSTAMP:20260421T045215
CREATED:20251027T080520Z
LAST-MODIFIED:20251027T080520Z
UID:10120-1761552000-1761580800@www.bjbraila.ro
SUMMARY:Club robotică
DESCRIPTION:Club robotică \n\ncoordonator: Silviu Gheorghe;\nlocația: Makerspace\, etajul 1;\nora: 08.00 – 16.00;\natelier adresat tinerilor cu vârsta cuprinsă între 14 și 19 ani;\ndetalii: 0239 611 292
URL:https://www.bjbraila.ro/eveniment/club-robotica-56/
LOCATION:Biblioteca “Panait Istrati” Braila\, Piața Poligon nr. 4\, Brăila\, Brăila\, 810026\, România
CATEGORIES:Evenimente
ORGANIZER;CN="Biblioteca %E2%80%9CPanait Istrati%E2%80%9D Braila":MAILTO:bjpi@bjbraila.ro
END:VEVENT
BEGIN:VEVENT
DTSTART;TZID=Europe/Moscow:20251028T080000
DTEND;TZID=Europe/Moscow:20251028T160000
DTSTAMP:20260421T045215
CREATED:20251027T080708Z
LAST-MODIFIED:20251027T080708Z
UID:10122-1761638400-1761667200@www.bjbraila.ro
SUMMARY:Club robotică
DESCRIPTION:Club robotică \n\ncoordonator: Silviu Gheorghe;\nlocația: Makerspace\, etajul 1;\nora: 08.00 – 16.00;\natelier adresat tinerilor cu vârsta cuprinsă între 14 și 19 ani;\ndetalii: 0239 611 292\n\n 
URL:https://www.bjbraila.ro/eveniment/club-robotica-57/
LOCATION:Biblioteca “Panait Istrati” Braila\, Piața Poligon nr. 4\, Brăila\, Brăila\, 810026\, România
CATEGORIES:Evenimente
ORGANIZER;CN="Biblioteca %E2%80%9CPanait Istrati%E2%80%9D Braila":MAILTO:bjpi@bjbraila.ro
END:VEVENT
END:VCALENDAR