BEGIN:VCALENDAR
VERSION:2.0
PRODID:-//bjbraila.ro - ECPv6.15.20//NONSGML v1.0//EN
CALSCALE:GREGORIAN
METHOD:PUBLISH
X-ORIGINAL-URL:https://www.bjbraila.ro
X-WR-CALDESC:Evenimente pentru bjbraila.ro
REFRESH-INTERVAL;VALUE=DURATION:PT1H
X-Robots-Tag:noindex
X-PUBLISHED-TTL:PT1H
BEGIN:VTIMEZONE
TZID:Europe/Moscow
BEGIN:STANDARD
TZOFFSETFROM:+0300
TZOFFSETTO:+0300
TZNAME:MSK
DTSTART:20240101T000000
END:STANDARD
END:VTIMEZONE
BEGIN:VEVENT
DTSTART;TZID=Europe/Moscow:20251128T080000
DTEND;TZID=Europe/Moscow:20251128T160000
DTSTAMP:20260422T014041
CREATED:20251124T072526Z
LAST-MODIFIED:20251124T072526Z
UID:10377-1764316800-1764345600@www.bjbraila.ro
SUMMARY:Club robotică
DESCRIPTION:Club robotică \n\ncoordonator: Silviu Gheorghe;\nlocația: Makerspace\, etajul 1;\nora: 08.00 – 16.00;\natelier adresat tinerilor cu vârsta cuprinsă între 14 și 19 ani;\ndetalii: 0239 611 292
URL:https://www.bjbraila.ro/eveniment/club-robotica-84/
LOCATION:Biblioteca “Panait Istrati” Braila\, Piața Poligon nr. 4\, Brăila\, Brăila\, 810026\, România
CATEGORIES:Evenimente
ORGANIZER;CN="Biblioteca %E2%80%9CPanait Istrati%E2%80%9D Braila":MAILTO:bjpi@bjbraila.ro
END:VEVENT
BEGIN:VEVENT
DTSTART;TZID=Europe/Moscow:20251128T140000
DTEND;TZID=Europe/Moscow:20251128T150000
DTSTAMP:20260422T014041
CREATED:20251124T090020Z
LAST-MODIFIED:20251124T090020Z
UID:10417-1764338400-1764342000@www.bjbraila.ro
SUMMARY:Happy Calligraphy
DESCRIPTION:Happy Calligraphy \n\ncoordonator: Olimpia Moraru;\nlocația: Centrul Multicultural;\nora: 14.00 – 15.00;\ndetalii: 0239 611 292
URL:https://www.bjbraila.ro/eveniment/happy-calligraphy-2/
LOCATION:Biblioteca “Panait Istrati” Braila\, Piața Poligon nr. 4\, Brăila\, Brăila\, 810026\, România
CATEGORIES:Evenimente
ORGANIZER;CN="Biblioteca %E2%80%9CPanait Istrati%E2%80%9D Braila":MAILTO:bjpi@bjbraila.ro
END:VEVENT
BEGIN:VEVENT
DTSTART;TZID=Europe/Moscow:20251128T150000
DTEND;TZID=Europe/Moscow:20251128T160000
DTSTAMP:20260422T014041
CREATED:20251124T090152Z
LAST-MODIFIED:20251124T090152Z
UID:10419-1764342000-1764345600@www.bjbraila.ro
SUMMARY:English is Fun
DESCRIPTION:English is Fun \n\ncoordonator: Olimpia Moraru ;\nlocația: Centrul Multicultural;\nora: 15.00 – 16.00;\ndetalii: 0239 611 292
URL:https://www.bjbraila.ro/eveniment/english-is-fun-10/
LOCATION:Biblioteca “Panait Istrati” Braila\, Piața Poligon nr. 4\, Brăila\, Brăila\, 810026\, România
CATEGORIES:Evenimente
ORGANIZER;CN="Biblioteca %E2%80%9CPanait Istrati%E2%80%9D Braila":MAILTO:bjpi@bjbraila.ro
END:VEVENT
BEGIN:VEVENT
DTSTART;TZID=Europe/Moscow:20251128T150000
DTEND;TZID=Europe/Moscow:20251128T170000
DTSTAMP:20260422T014041
CREATED:20251124T090313Z
LAST-MODIFIED:20251124T090313Z
UID:10421-1764342000-1764349200@www.bjbraila.ro
SUMMARY:CodeKids
DESCRIPTION:CodeKids \n\ncoordonator: Ștefăniță Alecu;\nlocația: Centrul de Instruire\, etajul 3;\nora: 15.00 – 17.00;\ndetalii: 0239 611 292\n\n 
URL:https://www.bjbraila.ro/eveniment/codekids-15/
LOCATION:Biblioteca “Panait Istrati” Braila\, Piața Poligon nr. 4\, Brăila\, Brăila\, 810026\, România
CATEGORIES:Evenimente
ORGANIZER;CN="Biblioteca %E2%80%9CPanait Istrati%E2%80%9D Braila":MAILTO:bjpi@bjbraila.ro
END:VEVENT
BEGIN:VEVENT
DTSTART;TZID=Europe/Moscow:20251128T160000
DTEND;TZID=Europe/Moscow:20251128T180000
DTSTAMP:20260422T014041
CREATED:20251124T090715Z
LAST-MODIFIED:20251124T090715Z
UID:10423-1764345600-1764352800@www.bjbraila.ro
SUMMARY:Călător pe mapamond
DESCRIPTION:Călător pe mapamond \n\ncoordonator: Silvia Iacob;\nlocația: sala Fănuș Neagu\, etajul 3;\nora: 16.00 – 18.00;\ndetalii: 0239 611 292\n\n 
URL:https://www.bjbraila.ro/eveniment/calator-pe-mapamond/
LOCATION:Biblioteca “Panait Istrati” Braila\, Piața Poligon nr. 4\, Brăila\, Brăila\, 810026\, România
CATEGORIES:Evenimente
ORGANIZER;CN="Biblioteca %E2%80%9CPanait Istrati%E2%80%9D Braila":MAILTO:bjpi@bjbraila.ro
END:VEVENT
BEGIN:VEVENT
DTSTART;TZID=Europe/Moscow:20251128T163000
DTEND;TZID=Europe/Moscow:20251128T173000
DTSTAMP:20260422T014041
CREATED:20251124T090857Z
LAST-MODIFIED:20251124T090857Z
UID:10425-1764347400-1764351000@www.bjbraila.ro
SUMMARY:Premiere concurs: Orașul meu\, Orașul tău
DESCRIPTION:Premiere concurs: Orașul meu\, Orașul tău \n\nlocația: sala Dunărea;\nora: 16.30 – 17.30;\ndetalii: 0239 611 292\n\n 
URL:https://www.bjbraila.ro/eveniment/premiere-concurs-orasul-meu-orasul-tau/
LOCATION:Biblioteca “Panait Istrati” Braila\, Piața Poligon nr. 4\, Brăila\, Brăila\, 810026\, România
CATEGORIES:Evenimente
ORGANIZER;CN="Biblioteca %E2%80%9CPanait Istrati%E2%80%9D Braila":MAILTO:bjpi@bjbraila.ro
END:VEVENT
BEGIN:VEVENT
DTSTART;TZID=Europe/Moscow:20251202T080000
DTEND;TZID=Europe/Moscow:20251202T160000
DTSTAMP:20260422T014041
CREATED:20251202T083702Z
LAST-MODIFIED:20251202T083702Z
UID:10436-1764662400-1764691200@www.bjbraila.ro
SUMMARY:Club robotică
DESCRIPTION:Club robotică \n\ncoordonator: Silviu Gheorghe;\nlocația: Makerspace\, etajul 1;\nora: 08.00 – 16.00;\natelier adresat tinerilor cu vârsta cuprinsă între 14 și 19 ani;\ndetalii: 0239 611 292
URL:https://www.bjbraila.ro/eveniment/club-robotica-80/
LOCATION:Biblioteca “Panait Istrati” Braila\, Piața Poligon nr. 4\, Brăila\, Brăila\, 810026\, România
CATEGORIES:Evenimente
ORGANIZER;CN="Biblioteca %E2%80%9CPanait Istrati%E2%80%9D Braila":MAILTO:bjpi@bjbraila.ro
END:VEVENT
BEGIN:VEVENT
DTSTART;TZID=Europe/Moscow:20251202T140000
DTEND;TZID=Europe/Moscow:20251202T160000
DTSTAMP:20260422T014041
CREATED:20251202T084221Z
LAST-MODIFIED:20251202T084221Z
UID:10447-1764684000-1764691200@www.bjbraila.ro
SUMMARY:Arta lumii
DESCRIPTION:Arta lumii \n\ncoordonator: Buzdugan Steluța\, Ene Irina;\nlocația: Mediatecă\, parter;\nora: 14.00 – 16.00;\ndetalii: 0239 611 292
URL:https://www.bjbraila.ro/eveniment/arta-lumii-14/
LOCATION:Biblioteca “Panait Istrati” Braila\, Piața Poligon nr. 4\, Brăila\, Brăila\, 810026\, România
CATEGORIES:Evenimente
ORGANIZER;CN="Biblioteca %E2%80%9CPanait Istrati%E2%80%9D Braila":MAILTO:bjpi@bjbraila.ro
END:VEVENT
BEGIN:VEVENT
DTSTART;TZID=Europe/Moscow:20251202T140000
DTEND;TZID=Europe/Moscow:20251202T160000
DTSTAMP:20260422T014041
CREATED:20251202T084345Z
LAST-MODIFIED:20251202T084345Z
UID:10449-1764684000-1764691200@www.bjbraila.ro
SUMMARY:Cu temele la zi
DESCRIPTION:Cu temele la zi \n\ncoordonator: Ana Maria Florică;\nlocația: Centrul Multicultural;\nora: 14.00 – 16.00;\ndetalii: 0239 611 292
URL:https://www.bjbraila.ro/eveniment/cu-temele-la-zi-5/
LOCATION:Biblioteca “Panait Istrati” Braila\, Piața Poligon nr. 4\, Brăila\, Brăila\, 810026\, România
CATEGORIES:Evenimente
ORGANIZER;CN="Biblioteca %E2%80%9CPanait Istrati%E2%80%9D Braila":MAILTO:bjpi@bjbraila.ro
END:VEVENT
BEGIN:VEVENT
DTSTART;TZID=Europe/Moscow:20251202T150000
DTEND;TZID=Europe/Moscow:20251202T160000
DTSTAMP:20260422T014041
CREATED:20251202T091318Z
LAST-MODIFIED:20251202T091318Z
UID:10451-1764687600-1764691200@www.bjbraila.ro
SUMMARY:Farmecul sărbătorilor
DESCRIPTION:Farmecul sărbătorilor \n\ncoordonator: Ana-Maria Florică;\nlocația: Centrul Multicultural;\nora: 15.00 – 16.00;\ndetalii: 0239 611 292
URL:https://www.bjbraila.ro/eveniment/farmecul-sarbatorilor/
LOCATION:Biblioteca “Panait Istrati” Braila\, Piața Poligon nr. 4\, Brăila\, Brăila\, 810026\, România
CATEGORIES:Evenimente
ORGANIZER;CN="Biblioteca %E2%80%9CPanait Istrati%E2%80%9D Braila":MAILTO:bjpi@bjbraila.ro
END:VEVENT
BEGIN:VEVENT
DTSTART;TZID=Europe/Moscow:20251202T170000
DTEND;TZID=Europe/Moscow:20251202T180000
DTSTAMP:20260422T014041
CREATED:20251202T091624Z
LAST-MODIFIED:20251202T091624Z
UID:10453-1764694800-1764698400@www.bjbraila.ro
SUMMARY:Atelier de limbă engleză adulți
DESCRIPTION:Atelier de limbă engleză adulți \n\ncoordonator: Violeta Eftime;\nlocația: Centrul de Instruire\, etajul 3;\nora: 17.00 – 18.00;\ndetalii: 0239 611 292
URL:https://www.bjbraila.ro/eveniment/atelier-de-limba-engleza-adulti-15/
LOCATION:Brăila
CATEGORIES:Evenimente
END:VEVENT
BEGIN:VEVENT
DTSTART;TZID=Europe/Moscow:20251203T080000
DTEND;TZID=Europe/Moscow:20251203T160000
DTSTAMP:20260422T014041
CREATED:20251202T083745Z
LAST-MODIFIED:20251202T083745Z
UID:10438-1764748800-1764777600@www.bjbraila.ro
SUMMARY:Club robotică
DESCRIPTION:Club robotică \n\ncoordonator: Silviu Gheorghe;\nlocația: Makerspace\, etajul 1;\nora: 08.00 – 16.00;\natelier adresat tinerilor cu vârsta cuprinsă între 14 și 19 ani;\ndetalii: 0239 611 292
URL:https://www.bjbraila.ro/eveniment/club-robotica-86/
LOCATION:Biblioteca “Panait Istrati” Braila\, Piața Poligon nr. 4\, Brăila\, Brăila\, 810026\, România
CATEGORIES:Evenimente
ORGANIZER;CN="Biblioteca %E2%80%9CPanait Istrati%E2%80%9D Braila":MAILTO:bjpi@bjbraila.ro
END:VEVENT
BEGIN:VEVENT
DTSTART;TZID=Europe/Moscow:20251203T110000
DTEND;TZID=Europe/Moscow:20251203T120000
DTSTAMP:20260422T014041
CREATED:20251202T091916Z
LAST-MODIFIED:20251202T091916Z
UID:10457-1764759600-1764763200@www.bjbraila.ro
SUMMARY:Atelier de limbă engleză adulți
DESCRIPTION:Atelier de limbă engleză adulți \n\ncoordonator: Violeta Eftime;\nlocația: Centrul de Instruire\, etajul 3;\nora: 11.00 – 12.00;\ndetalii: 0239 611 292
URL:https://www.bjbraila.ro/eveniment/atelier-de-limba-engleza-adulti-17/
LOCATION:Biblioteca “Panait Istrati” Braila\, Piața Poligon nr. 4\, Brăila\, Brăila\, 810026\, România
CATEGORIES:Evenimente
ORGANIZER;CN="Biblioteca %E2%80%9CPanait Istrati%E2%80%9D Braila":MAILTO:bjpi@bjbraila.ro
END:VEVENT
BEGIN:VEVENT
DTSTART;TZID=Europe/Moscow:20251203T143000
DTEND;TZID=Europe/Moscow:20251203T153000
DTSTAMP:20260422T014041
CREATED:20251202T092303Z
LAST-MODIFIED:20251202T092303Z
UID:10459-1764772200-1764775800@www.bjbraila.ro
SUMMARY:Magia culorilor de Crăciun - atelier de pictură
DESCRIPTION:Magia culorilor de Crăciun – atelier de pictură \n\ncoordonator: Nicoleta Prodan;\nlocația: Centrul Multicultural;\nora: 14.00 – 15.30;\ndetalii: 0239 611 292
URL:https://www.bjbraila.ro/eveniment/magia-culorilor-de-craciun-atelier-de-pictura/
LOCATION:Biblioteca “Panait Istrati” Braila\, Piața Poligon nr. 4\, Brăila\, Brăila\, 810026\, România
CATEGORIES:Evenimente
ORGANIZER;CN="Biblioteca %E2%80%9CPanait Istrati%E2%80%9D Braila":MAILTO:bjpi@bjbraila.ro
END:VEVENT
BEGIN:VEVENT
DTSTART;TZID=Europe/Moscow:20251203T163000
DTEND;TZID=Europe/Moscow:20251203T173000
DTSTAMP:20260422T014041
CREATED:20251202T092703Z
LAST-MODIFIED:20251202T092703Z
UID:10461-1764779400-1764783000@www.bjbraila.ro
SUMMARY:Șah copii
DESCRIPTION:Șah copii \n\ncoordonator: Iulian Preda;\nlocația: Mediatecă\, parter;\nora: 16.30 – 17.30;\ndetalii: 0239 611 292
URL:https://www.bjbraila.ro/eveniment/sah-copii-6/
LOCATION:Biblioteca “Panait Istrati” Braila\, Piața Poligon nr. 4\, Brăila\, Brăila\, 810026\, România
CATEGORIES:Evenimente
ORGANIZER;CN="Biblioteca %E2%80%9CPanait Istrati%E2%80%9D Braila":MAILTO:bjpi@bjbraila.ro
END:VEVENT
BEGIN:VEVENT
DTSTART;TZID=Europe/Moscow:20251203T163000
DTEND;TZID=Europe/Moscow:20251203T180000
DTSTAMP:20260422T014041
CREATED:20251202T093651Z
LAST-MODIFIED:20251202T093651Z
UID:10463-1764779400-1764784800@www.bjbraila.ro
SUMMARY:Poveștile firelor de ață - atelier cusături copii
DESCRIPTION:Poveștile firelor de ață – atelier cusături copii \n\ncoordonator: Valentina Chiriac;\nlocația: Secția Împrumut Adulți;\nora: 16.30 – 18.00;\ndetalii: 0239 611 292
URL:https://www.bjbraila.ro/eveniment/povestile-firelor-de-ata-atelier-cusaturi-copii/
LOCATION:Biblioteca “Panait Istrati” Braila\, Piața Poligon nr. 4\, Brăila\, Brăila\, 810026\, România
CATEGORIES:Evenimente
ORGANIZER;CN="Biblioteca %E2%80%9CPanait Istrati%E2%80%9D Braila":MAILTO:bjpi@bjbraila.ro
END:VEVENT
BEGIN:VEVENT
DTSTART;TZID=Europe/Moscow:20251203T170000
DTEND;TZID=Europe/Moscow:20251203T180000
DTSTAMP:20260422T014041
CREATED:20251202T091724Z
LAST-MODIFIED:20251202T091724Z
UID:10455-1764781200-1764784800@www.bjbraila.ro
SUMMARY:Atelier de limbă engleză adulți
DESCRIPTION:Atelier de limbă engleză adulți \n\ncoordonator: Violeta Eftime;\nlocația: Centrul de Instruire\, etajul 3;\nora: 17.00 – 18.00;\ndetalii: 0239 611 292
URL:https://www.bjbraila.ro/eveniment/atelier-de-limba-engleza-adulti-16/
LOCATION:Biblioteca “Panait Istrati” Braila\, Piața Poligon nr. 4\, Brăila\, Brăila\, 810026\, România
CATEGORIES:Evenimente
ORGANIZER;CN="Biblioteca %E2%80%9CPanait Istrati%E2%80%9D Braila":MAILTO:bjpi@bjbraila.ro
END:VEVENT
BEGIN:VEVENT
DTSTART;TZID=Europe/Moscow:20251204T080000
DTEND;TZID=Europe/Moscow:20251204T160000
DTSTAMP:20260422T014041
CREATED:20251202T083832Z
LAST-MODIFIED:20251202T083832Z
UID:10440-1764835200-1764864000@www.bjbraila.ro
SUMMARY:Club robotică
DESCRIPTION:Club robotică \n\ncoordonator: Silviu Gheorghe;\nlocația: Makerspace\, etajul 1;\nora: 08.00 – 16.00;\natelier adresat tinerilor cu vârsta cuprinsă între 14 și 19 ani;\ndetalii: 0239 611 292
URL:https://www.bjbraila.ro/eveniment/club-robotica-87/
LOCATION:Biblioteca “Panait Istrati” Braila\, Piața Poligon nr. 4\, Brăila\, Brăila\, 810026\, România
CATEGORIES:Evenimente
ORGANIZER;CN="Biblioteca %E2%80%9CPanait Istrati%E2%80%9D Braila":MAILTO:bjpi@bjbraila.ro
END:VEVENT
BEGIN:VEVENT
DTSTART;TZID=Europe/Moscow:20251204T113000
DTEND;TZID=Europe/Moscow:20251204T130000
DTSTAMP:20260422T014041
CREATED:20251202T094048Z
LAST-MODIFIED:20251202T094048Z
UID:10465-1764847800-1764853200@www.bjbraila.ro
SUMMARY:Așteptându-l pe Moș Nicolae
DESCRIPTION:Așteptându-l pe Moș Nicolae \n\ncoordonator: Camelia Cherciu;\nlocația: Secția Împrumut Adulți;\nora: 11.00 – 12.30;\ndetalii: 0239 611 292
URL:https://www.bjbraila.ro/eveniment/asteptandu-l-pe-mos-nicolae/
LOCATION:Biblioteca “Panait Istrati” Braila\, Piața Poligon nr. 4\, Brăila\, Brăila\, 810026\, România
CATEGORIES:Evenimente
ORGANIZER;CN="Biblioteca %E2%80%9CPanait Istrati%E2%80%9D Braila":MAILTO:bjpi@bjbraila.ro
END:VEVENT
BEGIN:VEVENT
DTSTART;TZID=Europe/Moscow:20251204T113000
DTEND;TZID=Europe/Moscow:20251204T130000
DTSTAMP:20260422T014041
CREATED:20251202T094245Z
LAST-MODIFIED:20251202T094245Z
UID:10468-1764847800-1764853200@www.bjbraila.ro
SUMMARY:Filmul de joi
DESCRIPTION:Filmul de joi \n\ncoordonator: Irina Ene\, Steluța Buzdugan;\nlocația: Mediatecă\, parter;\nora: 11.30 – 13.00;\ndetalii: 0239 611 292
URL:https://www.bjbraila.ro/eveniment/filmul-de-joi-14/
LOCATION:Biblioteca “Panait Istrati” Braila\, Piața Poligon nr. 4\, Brăila\, Brăila\, 810026\, România
CATEGORIES:Evenimente
ORGANIZER;CN="Biblioteca %E2%80%9CPanait Istrati%E2%80%9D Braila":MAILTO:bjpi@bjbraila.ro
END:VEVENT
BEGIN:VEVENT
DTSTART;TZID=Europe/Moscow:20251204T123000
DTEND;TZID=Europe/Moscow:20251204T140000
DTSTAMP:20260422T014041
CREATED:20251202T094424Z
LAST-MODIFIED:20251202T094424Z
UID:10470-1764851400-1764856800@www.bjbraila.ro
SUMMARY:Decorațiuni croșetate
DESCRIPTION:Decorațiuni croșetate \n\ncoordonator: Nicoleta Prodan;\nlocația: Centrul Multicultural;\nora: 12.30 – 14.00;\ndetalii: 0239 611 292
URL:https://www.bjbraila.ro/eveniment/decoratiuni-crosetate/
LOCATION:Biblioteca “Panait Istrati” Braila\, Piața Poligon nr. 4\, Brăila\, Brăila\, 810026\, România
CATEGORIES:Evenimente
ORGANIZER;CN="Biblioteca %E2%80%9CPanait Istrati%E2%80%9D Braila":MAILTO:bjpi@bjbraila.ro
END:VEVENT
BEGIN:VEVENT
DTSTART;TZID=Europe/Moscow:20251204T140000
DTEND;TZID=Europe/Moscow:20251204T153000
DTSTAMP:20260422T014041
CREATED:20251202T094826Z
LAST-MODIFIED:20251202T094826Z
UID:10474-1764856800-1764862200@www.bjbraila.ro
SUMMARY:Sunt Creativ - handmade
DESCRIPTION:Sunt Creativ – handmade \n\ncoordonator: Silvia Iacob;\nlocația: sala Panait Istrati\, etajul 3;\nora: 14.00 – 15.30;\ndetalii: 0239 611 292
URL:https://www.bjbraila.ro/eveniment/sunt-creativ-handmade/
LOCATION:Biblioteca “Panait Istrati” Braila\, Piața Poligon nr. 4\, Brăila\, Brăila\, 810026\, România
CATEGORIES:Evenimente
ORGANIZER;CN="Biblioteca %E2%80%9CPanait Istrati%E2%80%9D Braila":MAILTO:bjpi@bjbraila.ro
END:VEVENT
BEGIN:VEVENT
DTSTART;TZID=Europe/Moscow:20251204T143000
DTEND;TZID=Europe/Moscow:20251204T160000
DTSTAMP:20260422T014041
CREATED:20251202T094602Z
LAST-MODIFIED:20251202T094602Z
UID:10472-1764858600-1764864000@www.bjbraila.ro
SUMMARY:Atelier de Caligrafie
DESCRIPTION:Atelier de Caligrafie \n\ncoordonator: Ana-Maria Florică;\nlocația: Centrul Multicultural;\nora: 14.30 – 16.00;\ndetalii: 0239 611 292
URL:https://www.bjbraila.ro/eveniment/atelier-de-caligrafie-11/
LOCATION:Biblioteca “Panait Istrati” Braila\, Piața Poligon nr. 4\, Brăila\, Brăila\, 810026\, România
CATEGORIES:Evenimente
ORGANIZER;CN="Biblioteca %E2%80%9CPanait Istrati%E2%80%9D Braila":MAILTO:bjpi@bjbraila.ro
END:VEVENT
BEGIN:VEVENT
DTSTART;TZID=Europe/Moscow:20251204T150000
DTEND;TZID=Europe/Moscow:20251204T163000
DTSTAMP:20260422T014041
CREATED:20251202T095047Z
LAST-MODIFIED:20251202T095047Z
UID:10476-1764860400-1764865800@www.bjbraila.ro
SUMMARY:Ne distrăm și învățăm prin tradiții de Crăciun
DESCRIPTION:Ne distrăm și învățăm prin tradiții de Crăciun \n\ncoordonator: Monica Ionescu;\nlocația: Sala de lectură\, etajul 1;\nhandmade\, decorațiuni\, lectură cu povești de Crăciun\nora: 15.00 – 16.30;\ndetalii: 0239 611 292
URL:https://www.bjbraila.ro/eveniment/ne-distram-si-invatam-prin-traditii-de-craciun/
LOCATION:Biblioteca “Panait Istrati” Braila\, Piața Poligon nr. 4\, Brăila\, Brăila\, 810026\, România
CATEGORIES:Evenimente
ORGANIZER;CN="Biblioteca %E2%80%9CPanait Istrati%E2%80%9D Braila":MAILTO:bjpi@bjbraila.ro
END:VEVENT
BEGIN:VEVENT
DTSTART;TZID=Europe/Moscow:20251204T163000
DTEND;TZID=Europe/Moscow:20251204T183000
DTSTAMP:20260422T014041
CREATED:20251202T095528Z
LAST-MODIFIED:20251202T095528Z
UID:10478-1764865800-1764873000@www.bjbraila.ro
SUMMARY:Sf. Nicolae și poveștile
DESCRIPTION:Sf. Nicolae și poveștile \n\ncoordonator: Camelia Cherciu;\nlocația: Secția Împrumut adulți;\nora: 16.30 – 18.30;\ndetalii: 0239 611 292
URL:https://www.bjbraila.ro/eveniment/sf-nicolae-si-povestile/
LOCATION:Biblioteca “Panait Istrati” Braila\, Piața Poligon nr. 4\, Brăila\, Brăila\, 810026\, România
CATEGORIES:Evenimente
ORGANIZER;CN="Biblioteca %E2%80%9CPanait Istrati%E2%80%9D Braila":MAILTO:bjpi@bjbraila.ro
END:VEVENT
BEGIN:VEVENT
DTSTART;TZID=Europe/Moscow:20251204T170000
DTEND;TZID=Europe/Moscow:20251204T180000
DTSTAMP:20260422T014041
CREATED:20251202T095745Z
LAST-MODIFIED:20251202T095745Z
UID:10480-1764867600-1764871200@www.bjbraila.ro
SUMMARY:Vizionare film „Frumoasa și Bestia.  Crăciun fermecat”
DESCRIPTION:Vizionare film „Frumoasa și Bestia. Crăciun fermecat” \n\ncoordonator: Irina Ene\, Steluța Buzdugan;\nlocația: Mediatecă\, parter;\nora: 17.00 – 18.00;\ndetalii: 0239 611 292
URL:https://www.bjbraila.ro/eveniment/vizionare-film-frumoasa-si-bestia-craciun-fermecat/
LOCATION:Biblioteca “Panait Istrati” Braila\, Piața Poligon nr. 4\, Brăila\, Brăila\, 810026\, România
CATEGORIES:Evenimente
ORGANIZER;CN="Biblioteca %E2%80%9CPanait Istrati%E2%80%9D Braila":MAILTO:bjpi@bjbraila.ro
END:VEVENT
BEGIN:VEVENT
DTSTART;TZID=Europe/Moscow:20251205T080000
DTEND;TZID=Europe/Moscow:20251205T160000
DTSTAMP:20260422T014041
CREATED:20251202T083909Z
LAST-MODIFIED:20251202T083909Z
UID:10443-1764921600-1764950400@www.bjbraila.ro
SUMMARY:Club robotică
DESCRIPTION:Club robotică \n\ncoordonator: Silviu Gheorghe;\nlocația: Makerspace\, etajul 1;\nora: 08.00 – 16.00;\natelier adresat tinerilor cu vârsta cuprinsă între 14 și 19 ani;\ndetalii: 0239 611 292
URL:https://www.bjbraila.ro/eveniment/club-robotica-88/
LOCATION:Biblioteca “Panait Istrati” Braila\, Piața Poligon nr. 4\, Brăila\, Brăila\, 810026\, România
CATEGORIES:Evenimente
ORGANIZER;CN="Biblioteca %E2%80%9CPanait Istrati%E2%80%9D Braila":MAILTO:bjpi@bjbraila.ro
END:VEVENT
BEGIN:VEVENT
DTSTART;TZID=Europe/Moscow:20251205T140000
DTEND;TZID=Europe/Moscow:20251205T160000
DTSTAMP:20260422T014041
CREATED:20251202T095934Z
LAST-MODIFIED:20251202T095934Z
UID:10482-1764943200-1764950400@www.bjbraila.ro
SUMMARY:Letters for Santa - limba engleză copii
DESCRIPTION:Letters for Santa \n\ncoordonator: Olimpia Moraru;\nlocația: Centrul Multicultural;\nora: 14.00 – 16.00;\ndetalii: 0239 611 292
URL:https://www.bjbraila.ro/eveniment/letters-for-santa-limba-engleza-copii/
LOCATION:Biblioteca “Panait Istrati” Braila\, Piața Poligon nr. 4\, Brăila\, Brăila\, 810026\, România
CATEGORIES:Evenimente
ORGANIZER;CN="Biblioteca %E2%80%9CPanait Istrati%E2%80%9D Braila":MAILTO:bjpi@bjbraila.ro
END:VEVENT
BEGIN:VEVENT
DTSTART;TZID=Europe/Moscow:20251205T140000
DTEND;TZID=Europe/Moscow:20251205T160000
DTSTAMP:20260422T014041
CREATED:20251202T100206Z
LAST-MODIFIED:20251202T100206Z
UID:10485-1764943200-1764950400@www.bjbraila.ro
SUMMARY:Cromatica Crăciunului
DESCRIPTION:Cromatica Crăciunului \n\ncoordonator: Irina Ene\, Steluța Buzdugan;\nlocația: Mediatecă\, parter ;\natelier de pictură și decorațiuni de iarnă;\nora: 14.00 – 16.00;\ndetalii: 0239 611 292
URL:https://www.bjbraila.ro/eveniment/cromatica-craciunului/
LOCATION:Biblioteca “Panait Istrati” Braila\, Piața Poligon nr. 4\, Brăila\, Brăila\, 810026\, România
CATEGORIES:Evenimente
ORGANIZER;CN="Biblioteca %E2%80%9CPanait Istrati%E2%80%9D Braila":MAILTO:bjpi@bjbraila.ro
END:VEVENT
BEGIN:VEVENT
DTSTART;TZID=Europe/Moscow:20251205T160000
DTEND;TZID=Europe/Moscow:20251205T170000
DTSTAMP:20260422T014041
CREATED:20251202T100420Z
LAST-MODIFIED:20251202T100420Z
UID:10487-1764950400-1764954000@www.bjbraila.ro
SUMMARY:Codekids
DESCRIPTION:Codekids \n\ncoordonator: Ștefăniță Alecu;\nlocația: Centrul de Instruire\, etajul 3;\nora: 16.00 – 17.00;\ndetalii: 0239 611 292
URL:https://www.bjbraila.ro/eveniment/codekids-16/
LOCATION:Biblioteca “Panait Istrati” Braila\, Piața Poligon nr. 4\, Brăila\, Brăila\, 810026\, România
CATEGORIES:Evenimente
ORGANIZER;CN="Biblioteca %E2%80%9CPanait Istrati%E2%80%9D Braila":MAILTO:bjpi@bjbraila.ro
END:VEVENT
END:VCALENDAR