BEGIN:VCALENDAR
VERSION:2.0
PRODID:-//bjbraila.ro - ECPv6.15.20//NONSGML v1.0//EN
CALSCALE:GREGORIAN
METHOD:PUBLISH
X-ORIGINAL-URL:https://www.bjbraila.ro
X-WR-CALDESC:Evenimente pentru bjbraila.ro
REFRESH-INTERVAL;VALUE=DURATION:PT1H
X-Robots-Tag:noindex
X-PUBLISHED-TTL:PT1H
BEGIN:VTIMEZONE
TZID:Europe/Moscow
BEGIN:STANDARD
TZOFFSETFROM:+0300
TZOFFSETTO:+0300
TZNAME:MSK
DTSTART:20240101T000000
END:STANDARD
END:VTIMEZONE
BEGIN:VEVENT
DTSTART;TZID=Europe/Moscow:20251205T080000
DTEND;TZID=Europe/Moscow:20251205T160000
DTSTAMP:20260423T120022
CREATED:20251202T083909Z
LAST-MODIFIED:20251202T083909Z
UID:10443-1764921600-1764950400@www.bjbraila.ro
SUMMARY:Club robotică
DESCRIPTION:Club robotică \n\ncoordonator: Silviu Gheorghe;\nlocația: Makerspace\, etajul 1;\nora: 08.00 – 16.00;\natelier adresat tinerilor cu vârsta cuprinsă între 14 și 19 ani;\ndetalii: 0239 611 292
URL:https://www.bjbraila.ro/eveniment/club-robotica-88/
LOCATION:Biblioteca “Panait Istrati” Braila\, Piața Poligon nr. 4\, Brăila\, Brăila\, 810026\, România
CATEGORIES:Evenimente
ORGANIZER;CN="Biblioteca %E2%80%9CPanait Istrati%E2%80%9D Braila":MAILTO:bjpi@bjbraila.ro
END:VEVENT
BEGIN:VEVENT
DTSTART;TZID=Europe/Moscow:20251205T140000
DTEND;TZID=Europe/Moscow:20251205T160000
DTSTAMP:20260423T120022
CREATED:20251202T095934Z
LAST-MODIFIED:20251202T095934Z
UID:10482-1764943200-1764950400@www.bjbraila.ro
SUMMARY:Letters for Santa - limba engleză copii
DESCRIPTION:Letters for Santa \n\ncoordonator: Olimpia Moraru;\nlocația: Centrul Multicultural;\nora: 14.00 – 16.00;\ndetalii: 0239 611 292
URL:https://www.bjbraila.ro/eveniment/letters-for-santa-limba-engleza-copii/
LOCATION:Biblioteca “Panait Istrati” Braila\, Piața Poligon nr. 4\, Brăila\, Brăila\, 810026\, România
CATEGORIES:Evenimente
ORGANIZER;CN="Biblioteca %E2%80%9CPanait Istrati%E2%80%9D Braila":MAILTO:bjpi@bjbraila.ro
END:VEVENT
BEGIN:VEVENT
DTSTART;TZID=Europe/Moscow:20251205T140000
DTEND;TZID=Europe/Moscow:20251205T160000
DTSTAMP:20260423T120022
CREATED:20251202T100206Z
LAST-MODIFIED:20251202T100206Z
UID:10485-1764943200-1764950400@www.bjbraila.ro
SUMMARY:Cromatica Crăciunului
DESCRIPTION:Cromatica Crăciunului \n\ncoordonator: Irina Ene\, Steluța Buzdugan;\nlocația: Mediatecă\, parter ;\natelier de pictură și decorațiuni de iarnă;\nora: 14.00 – 16.00;\ndetalii: 0239 611 292
URL:https://www.bjbraila.ro/eveniment/cromatica-craciunului/
LOCATION:Biblioteca “Panait Istrati” Braila\, Piața Poligon nr. 4\, Brăila\, Brăila\, 810026\, România
CATEGORIES:Evenimente
ORGANIZER;CN="Biblioteca %E2%80%9CPanait Istrati%E2%80%9D Braila":MAILTO:bjpi@bjbraila.ro
END:VEVENT
BEGIN:VEVENT
DTSTART;TZID=Europe/Moscow:20251205T160000
DTEND;TZID=Europe/Moscow:20251205T170000
DTSTAMP:20260423T120022
CREATED:20251202T100420Z
LAST-MODIFIED:20251202T100420Z
UID:10487-1764950400-1764954000@www.bjbraila.ro
SUMMARY:Codekids
DESCRIPTION:Codekids \n\ncoordonator: Ștefăniță Alecu;\nlocația: Centrul de Instruire\, etajul 3;\nora: 16.00 – 17.00;\ndetalii: 0239 611 292
URL:https://www.bjbraila.ro/eveniment/codekids-16/
LOCATION:Biblioteca “Panait Istrati” Braila\, Piața Poligon nr. 4\, Brăila\, Brăila\, 810026\, România
CATEGORIES:Evenimente
ORGANIZER;CN="Biblioteca %E2%80%9CPanait Istrati%E2%80%9D Braila":MAILTO:bjpi@bjbraila.ro
END:VEVENT
BEGIN:VEVENT
DTSTART;TZID=Europe/Moscow:20251205T160000
DTEND;TZID=Europe/Moscow:20251205T170000
DTSTAMP:20260423T120022
CREATED:20251202T100602Z
LAST-MODIFIED:20251202T100602Z
UID:10489-1764950400-1764954000@www.bjbraila.ro
SUMMARY:Limba engleză adulți
DESCRIPTION:Limba engleză adulți \n\ncoordonator: Cătălin Rîșnoveanu;\nlocația: Centrul Multicultural ;\nora: 16.00 – 17.00;\ndetalii: 0239 611 292
URL:https://www.bjbraila.ro/eveniment/limba-engleza-adulti-4/
LOCATION:Biblioteca “Panait Istrati” Braila\, Piața Poligon nr. 4\, Brăila\, Brăila\, 810026\, România
CATEGORIES:Evenimente
ORGANIZER;CN="Biblioteca %E2%80%9CPanait Istrati%E2%80%9D Braila":MAILTO:bjpi@bjbraila.ro
END:VEVENT
BEGIN:VEVENT
DTSTART;TZID=Europe/Moscow:20251205T160000
DTEND;TZID=Europe/Moscow:20251205T180000
DTSTAMP:20260423T120022
CREATED:20251202T101215Z
LAST-MODIFIED:20251202T101215Z
UID:10491-1764950400-1764957600@www.bjbraila.ro
SUMMARY:Lansare carte „Traume” de Mircea Cărbunaru
DESCRIPTION:Lansare carte „Traume” de Mircea Cărbunaru \n\nlocația: Sala Dunărea;\nora: 16.00 – 18.00;\ndetalii: 0239 611 292
URL:https://www.bjbraila.ro/eveniment/lansare-carte-traume-de-mircea-carbunaru/
LOCATION:Biblioteca “Panait Istrati” Braila\, Piața Poligon nr. 4\, Brăila\, Brăila\, 810026\, România
CATEGORIES:Evenimente,Lansare de carte
ORGANIZER;CN="Biblioteca %E2%80%9CPanait Istrati%E2%80%9D Braila":MAILTO:bjpi@bjbraila.ro
END:VEVENT
BEGIN:VEVENT
DTSTART;TZID=Europe/Moscow:20251206T080000
DTEND;TZID=Europe/Moscow:20251206T160000
DTSTAMP:20260423T120022
CREATED:20251202T083955Z
LAST-MODIFIED:20251202T083955Z
UID:10445-1765008000-1765036800@www.bjbraila.ro
SUMMARY:Club robotică
DESCRIPTION:Club robotică \n\ncoordonator: Silviu Gheorghe;\nlocația: Makerspace\, etajul 1;\nora: 08.00 – 16.00;\natelier adresat tinerilor cu vârsta cuprinsă între 14 și 19 ani;\ndetalii: 0239 611 292
URL:https://www.bjbraila.ro/eveniment/club-robotica-89/
LOCATION:Biblioteca “Panait Istrati” Braila\, Piața Poligon nr. 4\, Brăila\, Brăila\, 810026\, România
CATEGORIES:Evenimente
ORGANIZER;CN="Biblioteca %E2%80%9CPanait Istrati%E2%80%9D Braila":MAILTO:bjpi@bjbraila.ro
END:VEVENT
BEGIN:VEVENT
DTSTART;TZID=Europe/Moscow:20251206T100000
DTEND;TZID=Europe/Moscow:20251206T120000
DTSTAMP:20260423T120022
CREATED:20251202T101517Z
LAST-MODIFIED:20251202T101517Z
UID:10493-1765015200-1765022400@www.bjbraila.ro
SUMMARY:Niciodată Singur
DESCRIPTION:Niciodată Singur \n\ncoordonator: Alina Crețu;\nlocația: sala Fănuș Neagu\, etajul 3;\nactivități seniori\nora: 08.00 – 16.00;\ndetalii: 0239 611 292
URL:https://www.bjbraila.ro/eveniment/niciodata-singur-7/
LOCATION:Biblioteca “Panait Istrati” Braila\, Piața Poligon nr. 4\, Brăila\, Brăila\, 810026\, România
CATEGORIES:Evenimente
ORGANIZER;CN="Biblioteca %E2%80%9CPanait Istrati%E2%80%9D Braila":MAILTO:bjpi@bjbraila.ro
END:VEVENT
BEGIN:VEVENT
DTSTART;TZID=Europe/Moscow:20251206T100000
DTEND;TZID=Europe/Moscow:20251206T140000
DTSTAMP:20260423T120022
CREATED:20251202T101726Z
LAST-MODIFIED:20251202T101726Z
UID:10495-1765015200-1765029600@www.bjbraila.ro
SUMMARY:Atelier Marketing Digital
DESCRIPTION:Atelier Marketing Digital \n\ncoordonator: Teodora Adamache;\nlocația: Centrul de Instruire\, etajul 3;\nora: 10.00 – 14.00;\ndetalii: 0239 611 292
URL:https://www.bjbraila.ro/eveniment/atelier-marketing-digital-6/
LOCATION:Biblioteca “Panait Istrati” Braila\, Piața Poligon nr. 4\, Brăila\, Brăila\, 810026\, România
CATEGORIES:Evenimente
ORGANIZER;CN="Biblioteca %E2%80%9CPanait Istrati%E2%80%9D Braila":MAILTO:bjpi@bjbraila.ro
END:VEVENT
BEGIN:VEVENT
DTSTART;TZID=Europe/Moscow:20251206T110000
DTEND;TZID=Europe/Moscow:20251206T130000
DTSTAMP:20260423T120022
CREATED:20251202T102012Z
LAST-MODIFIED:20251202T102012Z
UID:10497-1765018800-1765026000@www.bjbraila.ro
SUMMARY:Grup artistic Nino Nino
DESCRIPTION:Grup artistic Nino Nino \n\ncoordonator: Lică Barbu;\nlocația: sala Panait Istrati\, etajul 3;\nora: 11.00 – 13.00;\ndetalii: 0239 611 292
URL:https://www.bjbraila.ro/eveniment/grup-artistic-nino-nino-5/
LOCATION:Biblioteca “Panait Istrati” Braila\, Piața Poligon nr. 4\, Brăila\, Brăila\, 810026\, România
CATEGORIES:Evenimente
ORGANIZER;CN="Biblioteca %E2%80%9CPanait Istrati%E2%80%9D Braila":MAILTO:bjpi@bjbraila.ro
END:VEVENT
BEGIN:VEVENT
DTSTART;TZID=Europe/Moscow:20251208T080000
DTEND;TZID=Europe/Moscow:20251208T160000
DTSTAMP:20260423T120022
CREATED:20251208T082457Z
LAST-MODIFIED:20251208T082457Z
UID:10505-1765180800-1765209600@www.bjbraila.ro
SUMMARY:Club robotică
DESCRIPTION:Club robotică \n\ncoordonator: Silviu Gheorghe;\nlocația: Makerspace\, etajul 1;\nora: 08.00 – 16.00;\natelier adresat tinerilor cu vârsta cuprinsă între 14 și 19 ani;\ndetalii: 0239 611 292
URL:https://www.bjbraila.ro/eveniment/club-robotica-90/
LOCATION:Biblioteca “Panait Istrati” Braila\, Piața Poligon nr. 4\, Brăila\, Brăila\, 810026\, România
CATEGORIES:Evenimente
ORGANIZER;CN="Biblioteca %E2%80%9CPanait Istrati%E2%80%9D Braila":MAILTO:bjpi@bjbraila.ro
END:VEVENT
BEGIN:VEVENT
DTSTART;TZID=Europe/Moscow:20251208T100000
DTEND;TZID=Europe/Moscow:20251208T120000
DTSTAMP:20260423T120022
CREATED:20251208T105446Z
LAST-MODIFIED:20251208T105446Z
UID:10515-1765188000-1765195200@www.bjbraila.ro
SUMMARY:Artă\, ceară și dor de Crăciun
DESCRIPTION:Artă\, ceară și dor de Crăciun \n\nlocația: Centrul Multicultural;\nora: 10.00 – 12.00;\ndetalii: 0239 611 292
URL:https://www.bjbraila.ro/eveniment/arta-ceara-si-dor-de-craciun/
LOCATION:Biblioteca “Panait Istrati” Braila\, Piața Poligon nr. 4\, Brăila\, Brăila\, 810026\, România
CATEGORIES:Evenimente
ORGANIZER;CN="Biblioteca %E2%80%9CPanait Istrati%E2%80%9D Braila":MAILTO:bjpi@bjbraila.ro
END:VEVENT
BEGIN:VEVENT
DTSTART;TZID=Europe/Moscow:20251209T080000
DTEND;TZID=Europe/Moscow:20251209T160000
DTSTAMP:20260423T120022
CREATED:20251208T082548Z
LAST-MODIFIED:20251208T082548Z
UID:10507-1765267200-1765296000@www.bjbraila.ro
SUMMARY:Club robotică
DESCRIPTION:Club robotică \n\ncoordonator: Silviu Gheorghe;\nlocația: Makerspace\, etajul 1;\nora: 08.00 – 16.00;\natelier adresat tinerilor cu vârsta cuprinsă între 14 și 19 ani;\ndetalii: 0239 611 292
URL:https://www.bjbraila.ro/eveniment/club-robotica-91/
LOCATION:Biblioteca “Panait Istrati” Braila\, Piața Poligon nr. 4\, Brăila\, Brăila\, 810026\, România
CATEGORIES:Evenimente
ORGANIZER;CN="Biblioteca %E2%80%9CPanait Istrati%E2%80%9D Braila":MAILTO:bjpi@bjbraila.ro
END:VEVENT
BEGIN:VEVENT
DTSTART;TZID=Europe/Moscow:20251209T100000
DTEND;TZID=Europe/Moscow:20251209T120000
DTSTAMP:20260423T120022
CREATED:20251208T105640Z
LAST-MODIFIED:20251208T105640Z
UID:10517-1765274400-1765281600@www.bjbraila.ro
SUMMARY:Farmecul sărbătorilor - decorațiuni handmade
DESCRIPTION:Farmecul sărbătorilor – decorațiuni handmade \n\nlocația: Centrul Multicultural;\nora: 10.00 – 12.00;\ndetalii: 0239 611 292
URL:https://www.bjbraila.ro/eveniment/farmecul-sarbatorilor-decoratiuni-handmade/
LOCATION:Biblioteca “Panait Istrati” Braila\, Piața Poligon nr. 4\, Brăila\, Brăila\, 810026\, România
CATEGORIES:Evenimente
ORGANIZER;CN="Biblioteca %E2%80%9CPanait Istrati%E2%80%9D Braila":MAILTO:bjpi@bjbraila.ro
END:VEVENT
BEGIN:VEVENT
DTSTART;TZID=Europe/Moscow:20251209T110000
DTEND;TZID=Europe/Moscow:20251209T120000
DTSTAMP:20260423T120022
CREATED:20251208T105844Z
LAST-MODIFIED:20251208T105844Z
UID:10519-1765278000-1765281600@www.bjbraila.ro
SUMMARY:Spiridușii Moșului
DESCRIPTION:Spiridușii Moșului \n\nlocația: Secția Împrumut Adulți;\nora: 11.00 – 12.00;\ndetalii: 0239 611 292
URL:https://www.bjbraila.ro/eveniment/spiridusii-mosului/
LOCATION:Biblioteca “Panait Istrati” Braila\, Piața Poligon nr. 4\, Brăila\, Brăila\, 810026\, România
CATEGORIES:Evenimente
ORGANIZER;CN="Biblioteca %E2%80%9CPanait Istrati%E2%80%9D Braila":MAILTO:bjpi@bjbraila.ro
END:VEVENT
BEGIN:VEVENT
DTSTART;TZID=Europe/Moscow:20251209T120000
DTEND;TZID=Europe/Moscow:20251209T140000
DTSTAMP:20260423T120022
CREATED:20251208T110149Z
LAST-MODIFIED:20251208T110149Z
UID:10521-1765281600-1765288800@www.bjbraila.ro
SUMMARY:Magie cu ac și ață
DESCRIPTION:Magie cu ac și ață \n\nlocația: Secția Împrumut Adulți;\nora: 12.00 – 14.00;\ndetalii: 0239 611 292
URL:https://www.bjbraila.ro/eveniment/magie-cu-ac-si-ata/
LOCATION:Biblioteca “Panait Istrati” Braila\, Piața Poligon nr. 4\, Brăila\, Brăila\, 810026\, România
CATEGORIES:Evenimente
ORGANIZER;CN="Biblioteca %E2%80%9CPanait Istrati%E2%80%9D Braila":MAILTO:bjpi@bjbraila.ro
END:VEVENT
BEGIN:VEVENT
DTSTART;TZID=Europe/Moscow:20251209T120000
DTEND;TZID=Europe/Moscow:20251209T140000
DTSTAMP:20260423T120022
CREATED:20251208T110335Z
LAST-MODIFIED:20251208T110335Z
UID:10523-1765281600-1765288800@www.bjbraila.ro
SUMMARY:Magie  cu ață
DESCRIPTION:Magie cu ață \n\nlocația: Secția Împrumut Adulți;\nora: 12.00 – 14.00;\ndetalii: 0239 611 292
URL:https://www.bjbraila.ro/eveniment/magie-cu-ata/
LOCATION:Biblioteca “Panait Istrati” Braila\, Piața Poligon nr. 4\, Brăila\, Brăila\, 810026\, România
ORGANIZER;CN="Biblioteca %E2%80%9CPanait Istrati%E2%80%9D Braila":MAILTO:bjpi@bjbraila.ro
END:VEVENT
BEGIN:VEVENT
DTSTART;TZID=Europe/Moscow:20251209T140000
DTEND;TZID=Europe/Moscow:20251209T160000
DTSTAMP:20260423T120022
CREATED:20251208T110459Z
LAST-MODIFIED:20251208T110459Z
UID:10525-1765288800-1765296000@www.bjbraila.ro
SUMMARY:Arta lumii
DESCRIPTION:Arta lumii \n\nlocația: Mediatecă\, parter;\nora: 14.00 – 16.00;\ndetalii: 0239 611 292
URL:https://www.bjbraila.ro/eveniment/arta-lumii-15/
LOCATION:Biblioteca “Panait Istrati” Braila\, Piața Poligon nr. 4\, Brăila\, Brăila\, 810026\, România
CATEGORIES:Evenimente
ORGANIZER;CN="Biblioteca %E2%80%9CPanait Istrati%E2%80%9D Braila":MAILTO:bjpi@bjbraila.ro
END:VEVENT
BEGIN:VEVENT
DTSTART;TZID=Europe/Moscow:20251209T140000
DTEND;TZID=Europe/Moscow:20251209T160000
DTSTAMP:20260423T120022
CREATED:20251208T110647Z
LAST-MODIFIED:20251208T110647Z
UID:10527-1765288800-1765296000@www.bjbraila.ro
SUMMARY:Cu temele la zi
DESCRIPTION:Cu temele la zi \n\nlocația: Centrul Multicultural;\nora: 14.00 – 16.00;\ndetalii: 0239 611 292
URL:https://www.bjbraila.ro/eveniment/cu-temele-la-zi-6/
LOCATION:Biblioteca “Panait Istrati” Braila\, Piața Poligon nr. 4\, Brăila\, Brăila\, 810026\, România
CATEGORIES:Evenimente
ORGANIZER;CN="Biblioteca %E2%80%9CPanait Istrati%E2%80%9D Braila":MAILTO:bjpi@bjbraila.ro
END:VEVENT
BEGIN:VEVENT
DTSTART;TZID=Europe/Moscow:20251209T170000
DTEND;TZID=Europe/Moscow:20251209T180000
DTSTAMP:20260423T120022
CREATED:20251208T110815Z
LAST-MODIFIED:20251208T110815Z
UID:10529-1765299600-1765303200@www.bjbraila.ro
SUMMARY:Atelier de limba engleză adulți
DESCRIPTION:Atelier de limba engleză adulți \n\nlocația: Centrul de Instruire \, etajul 3;\nora: 17.00 – 18.00;\ndetalii: 0239 611 292
URL:https://www.bjbraila.ro/eveniment/atelier-de-limba-engleza-adulti-18/
LOCATION:Brăila
CATEGORIES:Evenimente
END:VEVENT
BEGIN:VEVENT
DTSTART;TZID=Europe/Moscow:20251210T080000
DTEND;TZID=Europe/Moscow:20251210T160000
DTSTAMP:20260423T120022
CREATED:20251208T082627Z
LAST-MODIFIED:20251208T082627Z
UID:10509-1765353600-1765382400@www.bjbraila.ro
SUMMARY:Club robotică
DESCRIPTION:Club robotică \n\ncoordonator: Silviu Gheorghe;\nlocația: Makerspace\, etajul 1;\nora: 08.00 – 16.00;\natelier adresat tinerilor cu vârsta cuprinsă între 14 și 19 ani;\ndetalii: 0239 611 292
URL:https://www.bjbraila.ro/eveniment/club-robotica-92/
LOCATION:Biblioteca “Panait Istrati” Braila\, Piața Poligon nr. 4\, Brăila\, Brăila\, 810026\, România
CATEGORIES:Evenimente
ORGANIZER;CN="Biblioteca %E2%80%9CPanait Istrati%E2%80%9D Braila":MAILTO:bjpi@bjbraila.ro
END:VEVENT
BEGIN:VEVENT
DTSTART;TZID=Europe/Moscow:20251210T110000
DTEND;TZID=Europe/Moscow:20251210T120000
DTSTAMP:20260423T120022
CREATED:20251208T122955Z
LAST-MODIFIED:20251208T122955Z
UID:10539-1765364400-1765368000@www.bjbraila.ro
SUMMARY:Atelier de limba engleză adulți
DESCRIPTION:Atelier de limba engleză adulți \n\nlocația: Centrul de Instruire \, etajul 3;\nora: 11.00 – 12.00;\ndetalii: 0239 611 292
URL:https://www.bjbraila.ro/eveniment/atelier-de-limba-engleza-adulti-19/
LOCATION:Biblioteca “Panait Istrati” Braila\, Piața Poligon nr. 4\, Brăila\, Brăila\, 810026\, România
CATEGORIES:Evenimente
ORGANIZER;CN="Biblioteca %E2%80%9CPanait Istrati%E2%80%9D Braila":MAILTO:bjpi@bjbraila.ro
END:VEVENT
BEGIN:VEVENT
DTSTART;TZID=Europe/Moscow:20251210T110000
DTEND;TZID=Europe/Moscow:20251210T123000
DTSTAMP:20260423T120022
CREATED:20251208T120438Z
LAST-MODIFIED:20251208T120438Z
UID:10531-1765364400-1765369800@www.bjbraila.ro
SUMMARY:Legendele Brăilei
DESCRIPTION:Legendele Brăilei \n\nlocația: sala Fănuș Neagu\, etajul 3;\nora: 11.00 – 12.30;\ndetalii: 0239 611 292
URL:https://www.bjbraila.ro/eveniment/legendele-brailei-8/
LOCATION:Biblioteca “Panait Istrati” Braila\, Piața Poligon nr. 4\, Brăila\, Brăila\, 810026\, România
CATEGORIES:Evenimente
ORGANIZER;CN="Biblioteca %E2%80%9CPanait Istrati%E2%80%9D Braila":MAILTO:bjpi@bjbraila.ro
END:VEVENT
BEGIN:VEVENT
DTSTART;TZID=Europe/Moscow:20251210T123000
DTEND;TZID=Europe/Moscow:20251210T140000
DTSTAMP:20260423T120022
CREATED:20251208T120619Z
LAST-MODIFIED:20251208T120619Z
UID:10533-1765369800-1765375200@www.bjbraila.ro
SUMMARY:Păturica de Crăciun - atelier de croșetat
DESCRIPTION:Păturica de Crăciun – atelier de croșetat \n\nlocația: Centrul Multicultural;\nora: 12.30 – 14.00;\ndetalii: 0239 611 292
URL:https://www.bjbraila.ro/eveniment/paturica-de-craciun-atelier-de-crosetat/
LOCATION:Biblioteca “Panait Istrati” Braila\, Piața Poligon nr. 4\, Brăila\, Brăila\, 810026\, România
CATEGORIES:Evenimente
ORGANIZER;CN="Biblioteca %E2%80%9CPanait Istrati%E2%80%9D Braila":MAILTO:bjpi@bjbraila.ro
END:VEVENT
BEGIN:VEVENT
DTSTART;TZID=Europe/Moscow:20251210T140000
DTEND;TZID=Europe/Moscow:20251210T160000
DTSTAMP:20260423T120022
CREATED:20251208T122502Z
LAST-MODIFIED:20251208T122502Z
UID:10535-1765375200-1765382400@www.bjbraila.ro
SUMMARY:Sunt creativ
DESCRIPTION:Sunt creativ \n\nlocația: sala Panait Istrati\, etajul 3;\nora: 14.00 – 16.00;\ndetalii: 0239 611 292
URL:https://www.bjbraila.ro/eveniment/sunt-creativ-11/
LOCATION:Biblioteca “Panait Istrati” Braila\, Piața Poligon nr. 4\, Brăila\, Brăila\, 810026\, România
CATEGORIES:Evenimente
ORGANIZER;CN="Biblioteca %E2%80%9CPanait Istrati%E2%80%9D Braila":MAILTO:bjpi@bjbraila.ro
END:VEVENT
BEGIN:VEVENT
DTSTART;TZID=Europe/Moscow:20251210T140000
DTEND;TZID=Europe/Moscow:20251210T160000
DTSTAMP:20260423T120022
CREATED:20251208T122814Z
LAST-MODIFIED:20251208T122814Z
UID:10537-1765375200-1765382400@www.bjbraila.ro
SUMMARY:Decor de iarnă - atelier handmade
DESCRIPTION:Decor de iarnă – atelier handmade \n\nlocația: Mediatecă\, parter;\nora: 14.00 – 16.00;\ndetalii: 0239 611 292
URL:https://www.bjbraila.ro/eveniment/decor-de-iarna-atelier-handmade/
LOCATION:Biblioteca “Panait Istrati” Braila\, Piața Poligon nr. 4\, Brăila\, Brăila\, 810026\, România
CATEGORIES:Evenimente
ORGANIZER;CN="Biblioteca %E2%80%9CPanait Istrati%E2%80%9D Braila":MAILTO:bjpi@bjbraila.ro
END:VEVENT
BEGIN:VEVENT
DTSTART;TZID=Europe/Moscow:20251210T163000
DTEND;TZID=Europe/Moscow:20251210T173000
DTSTAMP:20260423T120022
CREATED:20251208T123721Z
LAST-MODIFIED:20251208T123721Z
UID:10545-1765384200-1765387800@www.bjbraila.ro
SUMMARY:Șah copii
DESCRIPTION:Șah copii \n\nlocația: Mediatecă\, parter;\nora: 16.30 – 17.30;\ndetalii: 0239 611 292
URL:https://www.bjbraila.ro/eveniment/sah-copii-7/
LOCATION:Biblioteca “Panait Istrati” Braila\, Piața Poligon nr. 4\, Brăila\, Brăila\, 810026\, România
CATEGORIES:Evenimente
ORGANIZER;CN="Biblioteca %E2%80%9CPanait Istrati%E2%80%9D Braila":MAILTO:bjpi@bjbraila.ro
END:VEVENT
BEGIN:VEVENT
DTSTART;TZID=Europe/Moscow:20251210T163000
DTEND;TZID=Europe/Moscow:20251210T183000
DTSTAMP:20260423T120022
CREATED:20251208T123347Z
LAST-MODIFIED:20251208T123347Z
UID:10543-1765384200-1765391400@www.bjbraila.ro
SUMMARY:Poveste de Crăciun
DESCRIPTION:  \n\nlocația: Secția Împrumut Adulți;\nora: 16.30 – 18.30;\ndetalii: 0239 611 292
URL:https://www.bjbraila.ro/eveniment/poveste-de-craciun/
LOCATION:Biblioteca “Panait Istrati” Braila\, Piața Poligon nr. 4\, Brăila\, Brăila\, 810026\, România
CATEGORIES:Evenimente
ORGANIZER;CN="Biblioteca %E2%80%9CPanait Istrati%E2%80%9D Braila":MAILTO:bjpi@bjbraila.ro
END:VEVENT
BEGIN:VEVENT
DTSTART;TZID=Europe/Moscow:20251210T170000
DTEND;TZID=Europe/Moscow:20251210T180000
DTSTAMP:20260423T120022
CREATED:20251208T123116Z
LAST-MODIFIED:20251208T123116Z
UID:10541-1765386000-1765389600@www.bjbraila.ro
SUMMARY:Atelier de limba engleză adulți
DESCRIPTION:Atelier de limba engleză adulți \n\nlocația: Centrul de Instruire \, etajul 3;\nora: 17.00 – 18.00;\ndetalii: 0239 611 292
URL:https://www.bjbraila.ro/eveniment/atelier-de-limba-engleza-adulti-20/
LOCATION:Biblioteca “Panait Istrati” Braila\, Piața Poligon nr. 4\, Brăila\, Brăila\, 810026\, România
CATEGORIES:Evenimente
ORGANIZER;CN="Biblioteca %E2%80%9CPanait Istrati%E2%80%9D Braila":MAILTO:bjpi@bjbraila.ro
END:VEVENT
BEGIN:VEVENT
DTSTART;TZID=Europe/Moscow:20251210T170000
DTEND;TZID=Europe/Moscow:20251210T190000
DTSTAMP:20260423T120022
CREATED:20251208T124001Z
LAST-MODIFIED:20251208T124001Z
UID:10547-1765386000-1765393200@www.bjbraila.ro
SUMMARY:Serbare FreeChildren
DESCRIPTION:Serbare FreeChildren \n\nlocația:  Sala Dunărea;\nora: 17.00 – 19.00;\ndetalii: 0239 611 292
URL:https://www.bjbraila.ro/eveniment/serbare-freechildren/
LOCATION:Biblioteca “Panait Istrati” Braila\, Piața Poligon nr. 4\, Brăila\, Brăila\, 810026\, România
CATEGORIES:Evenimente
ORGANIZER;CN="Biblioteca %E2%80%9CPanait Istrati%E2%80%9D Braila":MAILTO:bjpi@bjbraila.ro
END:VEVENT
END:VCALENDAR