BEGIN:VCALENDAR
VERSION:2.0
PRODID:-//bjbraila.ro - ECPv6.15.20//NONSGML v1.0//EN
CALSCALE:GREGORIAN
METHOD:PUBLISH
X-ORIGINAL-URL:https://www.bjbraila.ro
X-WR-CALDESC:Evenimente pentru bjbraila.ro
REFRESH-INTERVAL;VALUE=DURATION:PT1H
X-Robots-Tag:noindex
X-PUBLISHED-TTL:PT1H
BEGIN:VTIMEZONE
TZID:Europe/Moscow
BEGIN:STANDARD
TZOFFSETFROM:+0300
TZOFFSETTO:+0300
TZNAME:MSK
DTSTART:20240101T000000
END:STANDARD
END:VTIMEZONE
BEGIN:VEVENT
DTSTART;TZID=Europe/Moscow:20251212T080000
DTEND;TZID=Europe/Moscow:20251212T160000
DTSTAMP:20260423T084548
CREATED:20251208T083535Z
LAST-MODIFIED:20251208T083535Z
UID:10513-1765526400-1765555200@www.bjbraila.ro
SUMMARY:Club robotică
DESCRIPTION:Club robotică \n\ncoordonator: Silviu Gheorghe;\nlocația: Makerspace\, etajul 1;\nora: 08.00 – 16.00;\natelier adresat tinerilor cu vârsta cuprinsă între 14 și 19 ani;\ndetalii: 0239 611 292
URL:https://www.bjbraila.ro/eveniment/club-robotica-94/
LOCATION:Brăila
CATEGORIES:Evenimente
END:VEVENT
BEGIN:VEVENT
DTSTART;TZID=Europe/Moscow:20251212T140000
DTEND;TZID=Europe/Moscow:20251212T150000
DTSTAMP:20260423T084548
CREATED:20251208T131510Z
LAST-MODIFIED:20251208T131510Z
UID:10561-1765548000-1765551600@www.bjbraila.ro
SUMMARY:Happy Calligraphy
DESCRIPTION:Happy Calligraphy \n\nlocația: Centrul Multicultural;\nora: 14.00 – 15.00;\ndetalii: 0239 611 292
URL:https://www.bjbraila.ro/eveniment/happy-calligraphy-3/
LOCATION:Biblioteca “Panait Istrati” Braila\, Piața Poligon nr. 4\, Brăila\, Brăila\, 810026\, România
CATEGORIES:Evenimente
ORGANIZER;CN="Biblioteca %E2%80%9CPanait Istrati%E2%80%9D Braila":MAILTO:bjpi@bjbraila.ro
END:VEVENT
BEGIN:VEVENT
DTSTART;TZID=Europe/Moscow:20251212T140000
DTEND;TZID=Europe/Moscow:20251212T160000
DTSTAMP:20260423T084548
CREATED:20251208T131719Z
LAST-MODIFIED:20251208T131719Z
UID:10563-1765548000-1765555200@www.bjbraila.ro
SUMMARY:Sărbătorile sunt pentru toți
DESCRIPTION:Sărbătorile sunt pentru toți\, împreună cu Penitenciarul Tichilești și SOS Autism Brăila \n\nlocația: Fănuș Neagu\, etajul 3;\nora: 14.00 – 16.00;\ndetalii: 0239 611 292
URL:https://www.bjbraila.ro/eveniment/sarbatorile-sunt-pentru-toti/
LOCATION:Biblioteca “Panait Istrati” Braila\, Piața Poligon nr. 4\, Brăila\, Brăila\, 810026\, România
CATEGORIES:Evenimente
ORGANIZER;CN="Biblioteca %E2%80%9CPanait Istrati%E2%80%9D Braila":MAILTO:bjpi@bjbraila.ro
END:VEVENT
BEGIN:VEVENT
DTSTART;TZID=Europe/Moscow:20251212T150000
DTEND;TZID=Europe/Moscow:20251212T160000
DTSTAMP:20260423T084548
CREATED:20251208T131854Z
LAST-MODIFIED:20251208T131854Z
UID:10565-1765551600-1765555200@www.bjbraila.ro
SUMMARY:English is Fun
DESCRIPTION:English is Fun \n\nlocația: Centrul Multicultural;\nora: 15.00 – 16.00;\ndetalii: 0239 611 292
URL:https://www.bjbraila.ro/eveniment/english-is-fun-11/
LOCATION:Biblioteca “Panait Istrati” Braila\, Piața Poligon nr. 4\, Brăila\, Brăila\, 810026\, România
CATEGORIES:Evenimente
ORGANIZER;CN="Biblioteca %E2%80%9CPanait Istrati%E2%80%9D Braila":MAILTO:bjpi@bjbraila.ro
END:VEVENT
BEGIN:VEVENT
DTSTART;TZID=Europe/Moscow:20251212T160000
DTEND;TZID=Europe/Moscow:20251212T170000
DTSTAMP:20260423T084548
CREATED:20251208T132017Z
LAST-MODIFIED:20251208T132017Z
UID:10567-1765555200-1765558800@www.bjbraila.ro
SUMMARY:O poveste ne învață lucruri bune despre viață
DESCRIPTION:O poveste ne învață lucruri bune despre viață \n\nlocația: Ludotecă\, parter;\nora: 16.00 – 17.00;\ndetalii: 0239 611 292
URL:https://www.bjbraila.ro/eveniment/o-poveste-ne-invata-lucruri-bune-despre-viata/
LOCATION:Biblioteca “Panait Istrati” Braila\, Piața Poligon nr. 4\, Brăila\, Brăila\, 810026\, România
CATEGORIES:Evenimente
ORGANIZER;CN="Biblioteca %E2%80%9CPanait Istrati%E2%80%9D Braila":MAILTO:bjpi@bjbraila.ro
END:VEVENT
BEGIN:VEVENT
DTSTART;TZID=Europe/Moscow:20251212T160000
DTEND;TZID=Europe/Moscow:20251212T180000
DTSTAMP:20260423T084548
CREATED:20251208T132139Z
LAST-MODIFIED:20251208T132139Z
UID:10569-1765555200-1765562400@www.bjbraila.ro
SUMMARY:Cenaclul literar Alter Ego
DESCRIPTION:Cenaclul literar Alter Ego \n\nlocația: sala Panait Istrati\, etajul 3;\nora: 16.00 – 18.00;\ndetalii: 0239 611 292
URL:https://www.bjbraila.ro/eveniment/cenaclul-literar-alter-ego-3/
LOCATION:Biblioteca “Panait Istrati” Braila\, Piața Poligon nr. 4\, Brăila\, Brăila\, 810026\, România
CATEGORIES:Evenimente
ORGANIZER;CN="Biblioteca %E2%80%9CPanait Istrati%E2%80%9D Braila":MAILTO:bjpi@bjbraila.ro
END:VEVENT
BEGIN:VEVENT
DTSTART;TZID=Europe/Moscow:20251212T160000
DTEND;TZID=Europe/Moscow:20251212T180000
DTSTAMP:20260423T084548
CREATED:20251208T132324Z
LAST-MODIFIED:20251208T132324Z
UID:10571-1765555200-1765562400@www.bjbraila.ro
SUMMARY:Călător pe mapamond - geografie distractivă
DESCRIPTION:Călător pe mapamond – geografie distractivă \n\nlocația: sala Fănuș Neagu\, etajul 3;\nora: 16.00 – 18.00;\ndetalii: 0239 611 292
URL:https://www.bjbraila.ro/eveniment/calator-pe-mapamond-geografie-distractiva-2/
LOCATION:Biblioteca “Panait Istrati” Braila\, Piața Poligon nr. 4\, Brăila\, Brăila\, 810026\, România
CATEGORIES:Evenimente
ORGANIZER;CN="Biblioteca %E2%80%9CPanait Istrati%E2%80%9D Braila":MAILTO:bjpi@bjbraila.ro
END:VEVENT
BEGIN:VEVENT
DTSTART;TZID=Europe/Moscow:20251212T163000
DTEND;TZID=Europe/Moscow:20251212T183000
DTSTAMP:20260423T084548
CREATED:20251208T132534Z
LAST-MODIFIED:20251208T132534Z
UID:10573-1765557000-1765564200@www.bjbraila.ro
SUMMARY:Muzica lumii - Simfonia colindelor
DESCRIPTION:Muzica lumii – Simfonia colindelor \n\nlocația: sala Dunărea;\nora: 16.30 – 18.30;\ndetalii: 0239 611 292
URL:https://www.bjbraila.ro/eveniment/muzica-lumii-simfonia-colindelor/
LOCATION:Biblioteca “Panait Istrati” Braila\, Piața Poligon nr. 4\, Brăila\, Brăila\, 810026\, România
CATEGORIES:Evenimente
ORGANIZER;CN="Biblioteca %E2%80%9CPanait Istrati%E2%80%9D Braila":MAILTO:bjpi@bjbraila.ro
END:VEVENT
BEGIN:VEVENT
DTSTART;TZID=Europe/Moscow:20251213T093000
DTEND;TZID=Europe/Moscow:20251213T110000
DTSTAMP:20260423T084548
CREATED:20251208T133124Z
LAST-MODIFIED:20251208T133124Z
UID:10579-1765618200-1765623600@www.bjbraila.ro
SUMMARY:Tărâmul emoțiilor
DESCRIPTION:Tărâmul emoțiilor \n\nlocația: secția Împrumut Adulți;\nora: 09.30 – 11.00;\ndetalii: 0239 611 292
URL:https://www.bjbraila.ro/eveniment/taramul-emotiilor-9/
LOCATION:Biblioteca “Panait Istrati” Braila\, Piața Poligon nr. 4\, Brăila\, Brăila\, 810026\, România
CATEGORIES:Evenimente
ORGANIZER;CN="Biblioteca %E2%80%9CPanait Istrati%E2%80%9D Braila":MAILTO:bjpi@bjbraila.ro
END:VEVENT
BEGIN:VEVENT
DTSTART;TZID=Europe/Moscow:20251213T100000
DTEND;TZID=Europe/Moscow:20251213T120000
DTSTAMP:20260423T084548
CREATED:20251208T132740Z
LAST-MODIFIED:20251208T132740Z
UID:10575-1765620000-1765627200@www.bjbraila.ro
SUMMARY:Niciodată Singur: activități seniori
DESCRIPTION:Niciodată Singur: activități seniori \n\nlocația: sala Fănuș Neagu\, etajul 3;\nora: 10.00 – 12.00;\ndetalii: 0239 611 292
URL:https://www.bjbraila.ro/eveniment/niciodata-singur-activitati-seniori/
LOCATION:Biblioteca “Panait Istrati” Braila\, Piața Poligon nr. 4\, Brăila\, Brăila\, 810026\, România
CATEGORIES:Evenimente
ORGANIZER;CN="Biblioteca %E2%80%9CPanait Istrati%E2%80%9D Braila":MAILTO:bjpi@bjbraila.ro
END:VEVENT
BEGIN:VEVENT
DTSTART;TZID=Europe/Moscow:20251213T110000
DTEND;TZID=Europe/Moscow:20251213T123000
DTSTAMP:20260423T084548
CREATED:20251208T133247Z
LAST-MODIFIED:20251208T133247Z
UID:10581-1765623600-1765629000@www.bjbraila.ro
SUMMARY:Colorăm Viața
DESCRIPTION:Colorăm Viața \n\nlocația: secția Împrumut Adulți;\nora: 11.00 – 12.30;\ndetalii: 0239 611 292
URL:https://www.bjbraila.ro/eveniment/coloram-viata-4/
LOCATION:Biblioteca “Panait Istrati” Braila\, Piața Poligon nr. 4\, Brăila\, Brăila\, 810026\, România
CATEGORIES:Evenimente
ORGANIZER;CN="Biblioteca %E2%80%9CPanait Istrati%E2%80%9D Braila":MAILTO:bjpi@bjbraila.ro
END:VEVENT
BEGIN:VEVENT
DTSTART;TZID=Europe/Moscow:20251213T110000
DTEND;TZID=Europe/Moscow:20251213T130000
DTSTAMP:20260423T084548
CREATED:20251208T132938Z
LAST-MODIFIED:20251208T132938Z
UID:10577-1765623600-1765630800@www.bjbraila.ro
SUMMARY:Grup artistic Nino Nino
DESCRIPTION:Grup artistic Nino Nino \n\nlocația: sala Panait Istrati\, etajul 3;\nora: 11.00 – 13.00;\ndetalii: 0239 611 292
URL:https://www.bjbraila.ro/eveniment/grup-artistic-nino-nino-6/
LOCATION:Biblioteca “Panait Istrati” Braila\, Piața Poligon nr. 4\, Brăila\, Brăila\, 810026\, România
CATEGORIES:Evenimente
ORGANIZER;CN="Biblioteca %E2%80%9CPanait Istrati%E2%80%9D Braila":MAILTO:bjpi@bjbraila.ro
END:VEVENT
BEGIN:VEVENT
DTSTART;TZID=Europe/Moscow:20260112T080000
DTEND;TZID=Europe/Moscow:20260112T160000
DTSTAMP:20260423T084548
CREATED:20260112T080002Z
LAST-MODIFIED:20260112T080002Z
UID:10596-1768204800-1768233600@www.bjbraila.ro
SUMMARY:Club robotică
DESCRIPTION:Club robotică \n\ncoordonator: Silviu Gheorghe;\nlocația: Makerspace\, etajul 1;\nora: 08.00 – 16.00;\natelier adresat tinerilor cu vârsta cuprinsă între 14 și 19 ani;\ndetalii: 0239 611 292
URL:https://www.bjbraila.ro/eveniment/club-robotica-95/
LOCATION:Biblioteca “Panait Istrati” Braila\, Piața Poligon nr. 4\, Brăila\, Brăila\, 810026\, România
CATEGORIES:Evenimente
ORGANIZER;CN="Biblioteca %E2%80%9CPanait Istrati%E2%80%9D Braila":MAILTO:bjpi@bjbraila.ro
END:VEVENT
BEGIN:VEVENT
DTSTART;TZID=Europe/Moscow:20260113T080000
DTEND;TZID=Europe/Moscow:20260113T170000
DTSTAMP:20260423T084548
CREATED:20260112T080047Z
LAST-MODIFIED:20260112T080047Z
UID:10598-1768291200-1768323600@www.bjbraila.ro
SUMMARY:Club robotică
DESCRIPTION:Club robotică \n\ncoordonator: Silviu Gheorghe;\nlocația: Makerspace\, etajul 1;\nora: 08.00 – 16.00;\natelier adresat tinerilor cu vârsta cuprinsă între 14 și 19 ani;\ndetalii: 0239 611 292
URL:https://www.bjbraila.ro/eveniment/club-robotica-96/
LOCATION:Biblioteca “Panait Istrati” Braila\, Piața Poligon nr. 4\, Brăila\, Brăila\, 810026\, România
CATEGORIES:Evenimente
ORGANIZER;CN="Biblioteca %E2%80%9CPanait Istrati%E2%80%9D Braila":MAILTO:bjpi@bjbraila.ro
END:VEVENT
BEGIN:VEVENT
DTSTART;TZID=Europe/Moscow:20260113T140000
DTEND;TZID=Europe/Moscow:20260113T170000
DTSTAMP:20260423T084548
CREATED:20260112T081028Z
LAST-MODIFIED:20260112T081028Z
UID:10610-1768312800-1768323600@www.bjbraila.ro
SUMMARY:Cer și destin
DESCRIPTION:Cer și destin: program literar-muzical\, omagiu marelui poet Mihai Eminescu \n\nlocația: Mediatecă\, parter ;\nora: 14.00 – 16.00;\ndetalii: 0239 611 292
URL:https://www.bjbraila.ro/eveniment/cer-si-destin/
LOCATION:Biblioteca “Panait Istrati” Braila\, Piața Poligon nr. 4\, Brăila\, Brăila\, 810026\, România
CATEGORIES:Evenimente
ORGANIZER;CN="Biblioteca %E2%80%9CPanait Istrati%E2%80%9D Braila":MAILTO:bjpi@bjbraila.ro
END:VEVENT
BEGIN:VEVENT
DTSTART;TZID=Europe/Moscow:20260113T150000
DTEND;TZID=Europe/Moscow:20260113T160000
DTSTAMP:20260423T084548
CREATED:20260112T080740Z
LAST-MODIFIED:20260112T080740Z
UID:10608-1768316400-1768320000@www.bjbraila.ro
SUMMARY:Atelier de pictură
DESCRIPTION:Atelier de pictură \n\nlocația: Centrul Multicultural;\nora: 15.00 – 16.00;\ndetalii: 0239 611 292
URL:https://www.bjbraila.ro/eveniment/atelier-de-pictura-6/
LOCATION:Biblioteca “Panait Istrati” Braila\, Piața Poligon nr. 4\, Brăila\, Brăila\, 810026\, România
CATEGORIES:Evenimente
ORGANIZER;CN="Biblioteca %E2%80%9CPanait Istrati%E2%80%9D Braila":MAILTO:bjpi@bjbraila.ro
END:VEVENT
BEGIN:VEVENT
DTSTART;TZID=Europe/Moscow:20260114T080000
DTEND;TZID=Europe/Moscow:20260114T170000
DTSTAMP:20260423T084548
CREATED:20260112T080128Z
LAST-MODIFIED:20260112T080128Z
UID:10600-1768377600-1768410000@www.bjbraila.ro
SUMMARY:Club robotică
DESCRIPTION:Club robotică \n\ncoordonator: Silviu Gheorghe;\nlocația: Makerspace\, etajul 1;\nora: 08.00 – 16.00;\natelier adresat tinerilor cu vârsta cuprinsă între 14 și 19 ani;\ndetalii: 0239 611 292
URL:https://www.bjbraila.ro/eveniment/club-robotica-97/
LOCATION:Biblioteca “Panait Istrati” Braila\, Piața Poligon nr. 4\, Brăila\, Brăila\, 810026\, România
CATEGORIES:Evenimente
ORGANIZER;CN="Biblioteca %E2%80%9CPanait Istrati%E2%80%9D Braila":MAILTO:bjpi@bjbraila.ro
END:VEVENT
BEGIN:VEVENT
DTSTART;TZID=Europe/Moscow:20260115T080000
DTEND;TZID=Europe/Moscow:20260115T170000
DTSTAMP:20260423T084548
CREATED:20260112T080207Z
LAST-MODIFIED:20260112T080207Z
UID:10602-1768464000-1768496400@www.bjbraila.ro
SUMMARY:Club robotică
DESCRIPTION:Club robotică \n\ncoordonator: Silviu Gheorghe;\nlocația: Makerspace\, etajul 1;\nora: 08.00 – 16.00;\natelier adresat tinerilor cu vârsta cuprinsă între 14 și 19 ani;\ndetalii: 0239 611 292
URL:https://www.bjbraila.ro/eveniment/club-robotica-98/
LOCATION:Biblioteca “Panait Istrati” Braila\, Piața Poligon nr. 4\, Brăila\, Brăila\, 810026\, România
CATEGORIES:Evenimente
ORGANIZER;CN="Biblioteca %E2%80%9CPanait Istrati%E2%80%9D Braila":MAILTO:bjpi@bjbraila.ro
END:VEVENT
BEGIN:VEVENT
DTSTART;TZID=Europe/Moscow:20260115T113000
DTEND;TZID=Europe/Moscow:20260115T130000
DTSTAMP:20260423T084548
CREATED:20260112T081259Z
LAST-MODIFIED:20260112T081259Z
UID:10614-1768476600-1768482000@www.bjbraila.ro
SUMMARY:Filmul de Joi
DESCRIPTION:Filmul de Joi \n\nlocația: Mediatecă\, parter;\nora: 11.30 – 13.00;\ndetalii: 0239 611 292
URL:https://www.bjbraila.ro/eveniment/filmul-de-joi-16/
LOCATION:Biblioteca “Panait Istrati” Braila\, Piața Poligon nr. 4\, Brăila\, Brăila\, 810026\, România
CATEGORIES:Evenimente
ORGANIZER;CN="Biblioteca %E2%80%9CPanait Istrati%E2%80%9D Braila":MAILTO:bjpi@bjbraila.ro
END:VEVENT
BEGIN:VEVENT
DTSTART;TZID=Europe/Moscow:20260115T120000
DTEND;TZID=Europe/Moscow:20260115T140000
DTSTAMP:20260423T084548
CREATED:20260112T081147Z
LAST-MODIFIED:20260112T081147Z
UID:10612-1768478400-1768485600@www.bjbraila.ro
SUMMARY:Ziua Culturii Naționale
DESCRIPTION:Ziua Culturii Naționale \n\nlocația: Centrul Multicultural;\nora: 12.00 – 14.00;\ndetalii: 0239 611 292
URL:https://www.bjbraila.ro/eveniment/ziua-culturii-nationale-5/
LOCATION:Biblioteca “Panait Istrati” Braila\, Piața Poligon nr. 4\, Brăila\, Brăila\, 810026\, România
CATEGORIES:Evenimente
ORGANIZER;CN="Biblioteca %E2%80%9CPanait Istrati%E2%80%9D Braila":MAILTO:bjpi@bjbraila.ro
END:VEVENT
BEGIN:VEVENT
DTSTART;TZID=Europe/Moscow:20260115T140000
DTEND;TZID=Europe/Moscow:20260115T160000
DTSTAMP:20260423T084548
CREATED:20260112T081550Z
LAST-MODIFIED:20260112T081550Z
UID:10618-1768485600-1768492800@www.bjbraila.ro
SUMMARY:Sunt Creativ
DESCRIPTION:Sunt Creativ \n\nlocația: Sala Panait Istrati\, etajul 3;\nora: 14.00 – 16.00;\ndetalii: 0239 611 292
URL:https://www.bjbraila.ro/eveniment/sunt-creativ-12/
LOCATION:Biblioteca “Panait Istrati” Braila\, Piața Poligon nr. 4\, Brăila\, Brăila\, 810026\, România
CATEGORIES:Evenimente
ORGANIZER;CN="Biblioteca %E2%80%9CPanait Istrati%E2%80%9D Braila":MAILTO:bjpi@bjbraila.ro
END:VEVENT
BEGIN:VEVENT
DTSTART;TZID=Europe/Moscow:20260115T143000
DTEND;TZID=Europe/Moscow:20260115T160000
DTSTAMP:20260423T084548
CREATED:20260112T081418Z
LAST-MODIFIED:20260112T081418Z
UID:10616-1768487400-1768492800@www.bjbraila.ro
SUMMARY:Atelier de Caligrafie
DESCRIPTION:Atelier de Caligrafie \n\nlocația: Centrul Multicultural;\nora: 14.30 – 16.00;\ndetalii: 0239 611 292
URL:https://www.bjbraila.ro/eveniment/atelier-de-caligrafie-13/
LOCATION:Biblioteca “Panait Istrati” Braila\, Piața Poligon nr. 4\, Brăila\, Brăila\, 810026\, România
CATEGORIES:Evenimente
ORGANIZER;CN="Biblioteca %E2%80%9CPanait Istrati%E2%80%9D Braila":MAILTO:bjpi@bjbraila.ro
END:VEVENT
BEGIN:VEVENT
DTSTART;TZID=Europe/Moscow:20260115T160000
DTEND;TZID=Europe/Moscow:20260115T170000
DTSTAMP:20260423T084548
CREATED:20260112T081731Z
LAST-MODIFIED:20260112T081731Z
UID:10620-1768492800-1768496400@www.bjbraila.ro
SUMMARY:Dublă lansare  de carte Dr. Mariana Cărare
DESCRIPTION:Dublă lansare de carte Dr. Mariana Cărare \n\nlocația: Sala Fănuș Neagu\, etajul 3;\nora: 16.00 – 17.00;\ndetalii: 0239 611 292
URL:https://www.bjbraila.ro/eveniment/dubla-lansare-de-carte-dr-mariana-carare/
LOCATION:Biblioteca “Panait Istrati” Braila\, Piața Poligon nr. 4\, Brăila\, Brăila\, 810026\, România
CATEGORIES:Lansare de carte
ORGANIZER;CN="Biblioteca %E2%80%9CPanait Istrati%E2%80%9D Braila":MAILTO:bjpi@bjbraila.ro
END:VEVENT
BEGIN:VEVENT
DTSTART;TZID=Europe/Moscow:20260115T160000
DTEND;TZID=Europe/Moscow:20260115T173000
DTSTAMP:20260423T084548
CREATED:20260115T112625Z
LAST-MODIFIED:20260115T112626Z
UID:10637-1768492800-1768498200@www.bjbraila.ro
SUMMARY:Ziua Culturii Naționale
DESCRIPTION:Joi\, 15 ianuarie 2026\, începând cu ora 16.00\, la Casa memorială „Petre Ștefănescu Goangă”\, va avea loc un eveniment cultural dedicat Zilei Culturii Naționale\, organizat de Centrul Cultural și de Agrement „Chira Chiralina” Brăila și Biblioteca Județeană „Panait Istrati” Brăila.\nManifestarea prilejuiește și aniversarea a 145 de ani de la inaugurarea Bibliotecii\, moment ce va fi marcat prin prelegerea „145 de ani de la inaugurarea Bibliotecii Publice din Brăila. Câteva repere esențiale”\, susținută de prof. univ. dr. Cristinel Munteanu. În cadrul evenimentului vor fi decernate premiile producției editoriale brăileane pentru anii 2024 și 2025\, ca recunoaștere a valorii și dinamismului vieții culturale locale. De asemenea\, publicul va putea urmări alocuțiunea „Eminescu – Ieri\, Azi\, mâine\, întotdeauna…”\, susținută de prof. dr. Viorel Coman\, dedicată operei și moștenirii culturale a poetului național Mihai Eminescu. Programul se va încheia într-o notă muzicală\, printr-un moment de muzică folk susținut de Grupul „Generații”\, sub coordonarea profesorului Dumitru Popescu.
URL:https://www.bjbraila.ro/eveniment/ziua-culturii-nationale-6/
LOCATION:Brăila
CATEGORIES:Evenimente
ATTACH;FMTTYPE=image/jpeg:https://www.bjbraila.ro/wp-content/uploads/2026/01/afis-Ziua-Culturii-Nationale.jpg
END:VEVENT
BEGIN:VEVENT
DTSTART;TZID=Europe/Moscow:20260116T080000
DTEND;TZID=Europe/Moscow:20260116T170000
DTSTAMP:20260423T084548
CREATED:20260112T080256Z
LAST-MODIFIED:20260112T080256Z
UID:10604-1768550400-1768582800@www.bjbraila.ro
SUMMARY:Club robotică
DESCRIPTION:Club robotică \n\ncoordonator: Silviu Gheorghe;\nlocația: Makerspace\, etajul 1;\nora: 08.00 – 16.00;\natelier adresat tinerilor cu vârsta cuprinsă între 14 și 19 ani;\ndetalii: 0239 611 292
URL:https://www.bjbraila.ro/eveniment/club-robotica-99/
LOCATION:Biblioteca “Panait Istrati” Braila\, Piața Poligon nr. 4\, Brăila\, Brăila\, 810026\, România
CATEGORIES:Evenimente
ORGANIZER;CN="Biblioteca %E2%80%9CPanait Istrati%E2%80%9D Braila":MAILTO:bjpi@bjbraila.ro
END:VEVENT
BEGIN:VEVENT
DTSTART;TZID=Europe/Moscow:20260116T140000
DTEND;TZID=Europe/Moscow:20260116T160000
DTSTAMP:20260423T084548
CREATED:20260112T081908Z
LAST-MODIFIED:20260112T081908Z
UID:10622-1768572000-1768579200@www.bjbraila.ro
SUMMARY:English is Fun
DESCRIPTION:English is Fun \n\nlocația: Centrul Multicultural;\nora: 14.00 – 16.00;\ndetalii: 0239 611 292
URL:https://www.bjbraila.ro/eveniment/english-is-fun-12/
LOCATION:Biblioteca “Panait Istrati” Braila\, Piața Poligon nr. 4\, Brăila\, Brăila\, 810026\, România
CATEGORIES:Evenimente
ORGANIZER;CN="Biblioteca %E2%80%9CPanait Istrati%E2%80%9D Braila":MAILTO:bjpi@bjbraila.ro
END:VEVENT
BEGIN:VEVENT
DTSTART;TZID=Europe/Moscow:20260116T150000
DTEND;TZID=Europe/Moscow:20260116T170000
DTSTAMP:20260423T084548
CREATED:20260112T082009Z
LAST-MODIFIED:20260112T082009Z
UID:10624-1768575600-1768582800@www.bjbraila.ro
SUMMARY:Codekids
DESCRIPTION:Codekids \n\nlocația: Centrul de Instruire \, etajul 3;\nora: 15.00 – 17.00;\ndetalii: 0239 611 292
URL:https://www.bjbraila.ro/eveniment/codekids-17/
LOCATION:Biblioteca “Panait Istrati” Braila\, Piața Poligon nr. 4\, Brăila\, Brăila\, 810026\, România
CATEGORIES:Evenimente
ORGANIZER;CN="Biblioteca %E2%80%9CPanait Istrati%E2%80%9D Braila":MAILTO:bjpi@bjbraila.ro
END:VEVENT
BEGIN:VEVENT
DTSTART;TZID=Europe/Moscow:20260117T080000
DTEND;TZID=Europe/Moscow:20260117T170000
DTSTAMP:20260423T084548
CREATED:20260112T080410Z
LAST-MODIFIED:20260112T080410Z
UID:10606-1768636800-1768669200@www.bjbraila.ro
SUMMARY:Club robotică
DESCRIPTION:Club robotică \n\ncoordonator: Silviu Gheorghe;\nlocația: Makerspace\, etajul 1;\nora: 08.00 – 16.00;\natelier adresat tinerilor cu vârsta cuprinsă între 14 și 19 ani;\ndetalii: 0239 611 292
URL:https://www.bjbraila.ro/eveniment/club-robotica-100/
LOCATION:Biblioteca “Panait Istrati” Braila\, Piața Poligon nr. 4\, Brăila\, Brăila\, 810026\, România
CATEGORIES:Evenimente
ORGANIZER;CN="Biblioteca %E2%80%9CPanait Istrati%E2%80%9D Braila":MAILTO:bjpi@bjbraila.ro
END:VEVENT
BEGIN:VEVENT
DTSTART;TZID=Europe/Moscow:20260117T100000
DTEND;TZID=Europe/Moscow:20260117T120000
DTSTAMP:20260423T084548
CREATED:20260112T082240Z
LAST-MODIFIED:20260112T082240Z
UID:10626-1768644000-1768651200@www.bjbraila.ro
SUMMARY:Niciodată Singur - activități seniori
DESCRIPTION:Niciodată Singur – activităși seniori \n  \n\nlocația: sala Fănuș Neagu \,etajul 3;\nora: 10.00 – 12.00;\ndetalii: 0239 611 292
URL:https://www.bjbraila.ro/eveniment/niciodata-singur-activitati-seniori-2/
LOCATION:Biblioteca “Panait Istrati” Braila\, Piața Poligon nr. 4\, Brăila\, Brăila\, 810026\, România
CATEGORIES:Evenimente
ORGANIZER;CN="Biblioteca %E2%80%9CPanait Istrati%E2%80%9D Braila":MAILTO:bjpi@bjbraila.ro
END:VEVENT
BEGIN:VEVENT
DTSTART;TZID=Europe/Moscow:20260117T110000
DTEND;TZID=Europe/Moscow:20260117T130000
DTSTAMP:20260423T084548
CREATED:20260112T082405Z
LAST-MODIFIED:20260112T082405Z
UID:10629-1768647600-1768654800@www.bjbraila.ro
SUMMARY:Atelier de teatru copii Aeris
DESCRIPTION:Atelier de teatru copii Aeris \n\nlocația: sala Panait Istrati\, etajul 3;\nora: 11.00 – 13.00;\ndetalii: 0239 611 292
URL:https://www.bjbraila.ro/eveniment/atelier-de-teatru-copii-aeris/
LOCATION:Biblioteca “Panait Istrati” Braila\, Piața Poligon nr. 4\, Brăila\, Brăila\, 810026\, România
CATEGORIES:Evenimente
ORGANIZER;CN="Biblioteca %E2%80%9CPanait Istrati%E2%80%9D Braila":MAILTO:bjpi@bjbraila.ro
END:VEVENT
END:VCALENDAR