BEGIN:VCALENDAR
VERSION:2.0
PRODID:-//bjbraila.ro - ECPv6.15.20//NONSGML v1.0//EN
CALSCALE:GREGORIAN
METHOD:PUBLISH
X-ORIGINAL-URL:https://www.bjbraila.ro
X-WR-CALDESC:Evenimente pentru bjbraila.ro
REFRESH-INTERVAL;VALUE=DURATION:PT1H
X-Robots-Tag:noindex
X-PUBLISHED-TTL:PT1H
BEGIN:VTIMEZONE
TZID:Europe/Helsinki
BEGIN:DAYLIGHT
TZOFFSETFROM:+0200
TZOFFSETTO:+0300
TZNAME:EEST
DTSTART:20230326T010000
END:DAYLIGHT
BEGIN:STANDARD
TZOFFSETFROM:+0300
TZOFFSETTO:+0200
TZNAME:EET
DTSTART:20231029T010000
END:STANDARD
BEGIN:DAYLIGHT
TZOFFSETFROM:+0200
TZOFFSETTO:+0300
TZNAME:EEST
DTSTART:20240331T010000
END:DAYLIGHT
BEGIN:STANDARD
TZOFFSETFROM:+0300
TZOFFSETTO:+0200
TZNAME:EET
DTSTART:20241027T010000
END:STANDARD
BEGIN:DAYLIGHT
TZOFFSETFROM:+0200
TZOFFSETTO:+0300
TZNAME:EEST
DTSTART:20250330T010000
END:DAYLIGHT
BEGIN:STANDARD
TZOFFSETFROM:+0300
TZOFFSETTO:+0200
TZNAME:EET
DTSTART:20251026T010000
END:STANDARD
END:VTIMEZONE
BEGIN:VEVENT
DTSTART;TZID=Europe/Helsinki:20240507T080000
DTEND;TZID=Europe/Helsinki:20240511T190000
DTSTAMP:20260422T010724
CREATED:20240507T095455Z
LAST-MODIFIED:20240507T095455Z
UID:8235-1715068800-1715454000@www.bjbraila.ro
SUMMARY:Activități 6-11 mai 2024
DESCRIPTION:
URL:https://www.bjbraila.ro/eveniment/activitati-6-11-mai-2024/
LOCATION:Biblioteca “Panait Istrati” Braila\, Piața Poligon nr. 4\, Brăila\, Brăila\, 810026\, România
CATEGORIES:Evenimente
ATTACH;FMTTYPE=image/jpeg:https://www.bjbraila.ro/wp-content/uploads/2024/05/6-11-mai.jpg
END:VEVENT
BEGIN:VEVENT
DTSTART;TZID=Europe/Helsinki:20240509T080000
DTEND;TZID=Europe/Helsinki:20240509T190000
DTSTAMP:20260422T010724
CREATED:20240509T063713Z
LAST-MODIFIED:20240509T063713Z
UID:8254-1715241600-1715281200@www.bjbraila.ro
SUMMARY:Împreună\, mai puternici!
DESCRIPTION: În fiecare an la data de 9 mai este celebrată ziua Europei. Biblioteca Judeteana „Panait Istrati” Braila marchează acest eveniment prin organizarea unei expoziții documentare intitulată „Împreună\, mai puternici”. Cărțile prezentate în expoziție fac parte din colecțiile Bibliotecii și sunt disponibile pentru împrumut. Expoziția se poate viziona la parterul Secției Împrumut pentru Adulți în perioada 9 – 16 mai a.c.\nExpoziția documentară este organizată de Doina Lalu\, bibliotecar.
URL:https://www.bjbraila.ro/eveniment/impreuna-mai-puternici/
LOCATION:Biblioteca “Panait Istrati” Braila\, Piața Poligon nr. 4\, Brăila\, Brăila\, 810026\, România
CATEGORIES:Expoziție
ATTACH;FMTTYPE=image/jpeg:https://www.bjbraila.ro/wp-content/uploads/2024/05/9-mai.jpg
END:VEVENT
BEGIN:VEVENT
DTSTART;TZID=Europe/Helsinki:20240510T170000
DTEND;TZID=Europe/Helsinki:20240510T190000
DTSTAMP:20260422T010724
CREATED:20240507T095716Z
LAST-MODIFIED:20240507T095717Z
UID:8239-1715360400-1715367600@www.bjbraila.ro
SUMMARY:Biserica Sfânta Cruce din Brăila - lansare de carte
DESCRIPTION:Biblioteca Județeană „Panait Istrati” vă invită vineri\, 10 mai 2024\, începând cu ora 17.00\, la lansarea volumului „Biserica Sfânta Cruce din Brăila” de Octavian Osanu.\n\n\nÎn cuprinsul cărții cititorii vor descoperi file din istoria parohiei\, slujitorii sfântului locaș\, programele filantropice\, culturale și educaționale desfășurate aici de-a lungul timpului\, precum și informații inedite despre ridicarea bisericii în cartierul Obor din municipiul Brăila.\n\n\nPrezintă: prof. dr. Ștefan Aftodor\, prof. Ioan Munteanu\, prof. Daniel Voinea.\nModerează: Dragoș Adriana Neagu\, directorul Bibliotecii.\n\n\nLansarea cărții are loc la sala Fănuș Neagu\, et. 3!\nVă așteptăm!
URL:https://www.bjbraila.ro/eveniment/biserica-sfanta-cruce-din-braila-lansare-de-carte/
LOCATION:Biblioteca “Panait Istrati” Braila\, Piața Poligon nr. 4\, Brăila\, Brăila\, 810026\, România
CATEGORIES:Lansare de carte
ATTACH;FMTTYPE=image/png:https://www.bjbraila.ro/wp-content/uploads/2024/05/afis-lansare-Octavian-Osanu.png
END:VEVENT
BEGIN:VEVENT
DTSTART;TZID=Europe/Helsinki:20240513T080000
DTEND;TZID=Europe/Helsinki:20240518T190000
DTSTAMP:20260422T010724
CREATED:20240513T064517Z
LAST-MODIFIED:20240513T064517Z
UID:8261-1715587200-1716058800@www.bjbraila.ro
SUMMARY:Atelierele săptămânii 13-18 mai 2024
DESCRIPTION:
URL:https://www.bjbraila.ro/eveniment/atelierele-saptamanii-13-18-mai-2024/
LOCATION:Brăila
CATEGORIES:Evenimente
ATTACH;FMTTYPE=image/jpeg:https://www.bjbraila.ro/wp-content/uploads/2024/05/13-18-mai.jpg
END:VEVENT
BEGIN:VEVENT
DTSTART;TZID=Europe/Helsinki:20240516T120000
DTEND;TZID=Europe/Helsinki:20240516T133000
DTSTAMP:20260422T010724
CREATED:20240515T070318Z
LAST-MODIFIED:20240515T070318Z
UID:8269-1715860800-1715866200@www.bjbraila.ro
SUMMARY:Dialog între generații la Biblioteca Județeană
DESCRIPTION:Joi\, 16 mai 2024\, de la ora 12\, Biblioteca Județeană ”Panait Istrati” are un invitat deosebit\, pe domnul profesor doctor Corneliu Zeana\, medic primar cardiologie\, medicină internă\, reumatologie\, hematologie\, autor al unor tratate de specialitate\, cu peste 40 ani de experiență în spitale de stat\, ca Spitalul de Urgență Floreasca\, precum și în clinici private. \nDomnul doctor Corneliu Zeana este și scriitor\, membru al Uniunii Scriitorilor Români\, al Uniunii Ziariștilor Profesioniști Români și al Uniunii Epigramiștilor\, vicepreședinte al Societății Medicilor Scriitori și Publiciști Români și membru al Uniunii Mondiale a Scriitorilor Medici. \nÎn plus\, invitatul se declară un voluntar convins și\, ca o coincidență fericită\, fiind legat sufletește de Brăila\, așa cum mărturisește\, în Săptămâna Națională a Voluntariatului (13-19 mai 2024) și-a propus să se întâlnească cu tinerii brăileni pentru o discuție liberă despre idealuri\, modele și alegeri pe care adolescenții trebuie să le facă în această perioadă a vieții lor. \nParteneri de dialog și beneficiari ai acestei întâlniri de suflet sunt elevii de la următoarele licee brăilene: Colegiul Național ”Gh. Munteanu-Murgoci”\, Colegiul Național ”Nicolae Iorga” și Liceul Teoretic ”Mihail Sebastian”. Organizatorii își propun\, prin astfel de întâlniri cu personalități și specialiști de top din România\, să inspire tânăra generație și să ofere alternative sănătoase pentru aceste vremuri în care poate deveni dificil să identifici drumul corect în viață.
URL:https://www.bjbraila.ro/eveniment/dialog-intre-generatii-la-biblioteca-judeteana/
LOCATION:Biblioteca “Panait Istrati” Braila\, Piața Poligon nr. 4\, Brăila\, Brăila\, 810026\, România
CATEGORIES:Evenimente
ATTACH;FMTTYPE=image/jpeg:https://www.bjbraila.ro/wp-content/uploads/2024/05/corneliu-zeana.jpg
END:VEVENT
BEGIN:VEVENT
DTSTART;TZID=Europe/Helsinki:20240517T080000
DTEND;TZID=Europe/Helsinki:20240517T170000
DTSTAMP:20260422T010724
CREATED:20240517T053608Z
LAST-MODIFIED:20240517T053621Z
UID:8276-1715932800-1715965200@www.bjbraila.ro
SUMMARY:Ziua Pictorilor\, expoziție documentară
DESCRIPTION:În perioada 17 mai – 4 iunie 2024\, Secția Împrumut pentru Adulți organizează o expoziție foto-documentară cu ocazia Zilei Pictorilor\, care conține o serie de volume aflate în colecțiile bibliotecii.\nZiua pictorilor se marchează în fiecare an la 19 mai. Aceasta este și ziua în care s-a născut Ion Țuculescu (1910-1962)\, pictor reprezentativ pentru spiritul românesc.\nPrima expoziție de pictură a fost la Craiova în anul 1925\, la Cercul artiștilor Oltenia. Ultima sa lucrare a fost în anul 1962\, când a expus \,\,Portretul bunicului”\, la Expoziția regională de pictură\, grafică și sculptură. În lipsa unor studii de specialitate\, s-a format aprofundând tehnica unor maeștri ai picturii românești sau universale; a făcut dese călătorii de studii în Franța\, Elveția\, Grecia sau Italia\, decisivă fiind întâlnirea cu arta lui Van Gogh\, cu prilejul retrospectivei de la Paris\, din 1937.\nCreația lui Țuculescu este definită de scriitorul și criticul de artă Petru Comarnescu\, astfel: ”Forța expresivă pe care o au puternicele și tulburătoarele sale imagini — în culori de o mare vitalitate și susținute de ritmuri ce pulsează ca gândurile și inima”. Ion Țuculescu s-a stins din viață la 27 iulie 1962\, la Bucuresti\, la vârsta de 52 de ani.\nExpoziție realizată de Florentina Petcu\, bibliotecar.
URL:https://www.bjbraila.ro/eveniment/ziua-pictorilor-expozitie-documentara/
LOCATION:Biblioteca “Panait Istrati” Braila\, Piața Poligon nr. 4\, Brăila\, Brăila\, 810026\, România
CATEGORIES:Expoziție
ATTACH;FMTTYPE=image/jpeg:https://www.bjbraila.ro/wp-content/uploads/2024/05/438125023_7361329727248950_7046265449799421914_n.jpg
END:VEVENT
BEGIN:VEVENT
DTSTART;TZID=Europe/Helsinki:20240520T080000
DTEND;TZID=Europe/Helsinki:20240525T190000
DTSTAMP:20260422T010724
CREATED:20240520T080637Z
LAST-MODIFIED:20240520T080638Z
UID:8282-1716192000-1716663600@www.bjbraila.ro
SUMMARY:Activități 20-25 mai 2024
DESCRIPTION:
URL:https://www.bjbraila.ro/eveniment/activitati-20-25-mai-2024/
LOCATION:Brăila
CATEGORIES:Evenimente
ATTACH;FMTTYPE=image/jpeg:https://www.bjbraila.ro/wp-content/uploads/2024/05/20-25-mai.jpg
END:VEVENT
END:VCALENDAR