BEGIN:VCALENDAR
VERSION:2.0
PRODID:-//bjbraila.ro - ECPv6.15.20//NONSGML v1.0//EN
CALSCALE:GREGORIAN
METHOD:PUBLISH
X-ORIGINAL-URL:https://www.bjbraila.ro
X-WR-CALDESC:Evenimente pentru bjbraila.ro
REFRESH-INTERVAL;VALUE=DURATION:PT1H
X-Robots-Tag:noindex
X-PUBLISHED-TTL:PT1H
BEGIN:VTIMEZONE
TZID:Europe/Moscow
BEGIN:STANDARD
TZOFFSETFROM:+0300
TZOFFSETTO:+0300
TZNAME:MSK
DTSTART:20240101T000000
END:STANDARD
END:VTIMEZONE
BEGIN:VEVENT
DTSTART;TZID=Europe/Moscow:20250901T100000
DTEND;TZID=Europe/Moscow:20250907T190000
DTSTAMP:20260421T012237
CREATED:20250902T112215Z
LAST-MODIFIED:20250902T112215Z
UID:9960-1756720800-1757271600@www.bjbraila.ro
SUMMARY:Târg de Carte 2025
DESCRIPTION:Biblioteca Judeteana „Panait Istrati” Braila\, în calitate de partener al evenimentului\, are bucuria să vă invite la Târgul de Carte organizat în această săptămână pe str. Mihai Eminescu – un prilej minunat de a descoperi cele mai noi apariții editoriale.\nParticipă edituri din întreaga țară\, cu titluri variate pentru toate vârstele și gusturile.\nVă așteptăm la lansări de carte\, întâlniri cu scriitorii și alte momente speciale!
URL:https://www.bjbraila.ro/eveniment/targ-de-carte-2025/
LOCATION:Târg de Carte\, Strada Mihai Eminescu
CATEGORIES:Evenimente
ATTACH;FMTTYPE=image/jpeg:https://www.bjbraila.ro/wp-content/uploads/2025/09/afis-targ-de-carte-2025.jpg
END:VEVENT
BEGIN:VEVENT
DTSTART;TZID=Europe/Moscow:20250904T110000
DTEND;TZID=Europe/Moscow:20250905T160000
DTSTAMP:20260421T012237
CREATED:20250902T101928Z
LAST-MODIFIED:20250902T101929Z
UID:9947-1756983600-1757088000@www.bjbraila.ro
SUMMARY:Victoria Furcoiu Bunica - întâlnire cu copiii la Târgul de Carte
DESCRIPTION:În perioada 4 – 5 septembrie 2025\, între orele 11 – 16\, se anunță o atmosferă de poveste la Târgul de Carte de pe Str. Mihai Eminescu! \nBiblioteca Județeană Panait Istrati Brăila\, în calitate de partener al evenimentului\, are bucuria să invite copiii\, părinții\, bunicii și cadrele didactice la o întâlnire memorabilă cu autoarea de cărți pentru copii\, Victoria Furcoiu – Bunica. \nVeți găsi cărți pentru toate vârstele copilăriei: povești din curtea bunicilor\, povești nemuritoare în versuri\, povești cu umor vindecător\, fabule și ghicitori. \nPentru cadrele didactice interesate să participe cu clasa de elevi\, programările se fac la telefon 0239 619590\, persoană de contact Doinița Mihaela Stanciu sau pe email: sectiacopiibjbraila@gmail.com. \nAșadar\, vă așteptăm cu drag să vă bucurați de cărți\, de întâlnirea cu scriitorii și editorii prezenți la Târgul de Carte!
URL:https://www.bjbraila.ro/eveniment/victoria-furcoiu-bunica-intalnire-cu-copiii-la-targul-de-carte/
LOCATION:Târg de Carte\, Strada Mihai Eminescu
CATEGORIES:Evenimente,Lansare de carte
ATTACH;FMTTYPE=image/jpeg:https://www.bjbraila.ro/wp-content/uploads/2025/09/afis-Victoria-Furcoiu-–-Bunica.jpg
END:VEVENT
BEGIN:VEVENT
DTSTART;TZID=Europe/Moscow:20250904T163000
DTEND;TZID=Europe/Moscow:20250904T173000
DTSTAMP:20260421T012237
CREATED:20250902T102234Z
LAST-MODIFIED:20250902T102551Z
UID:9951-1757003400-1757007000@www.bjbraila.ro
SUMMARY:Lansare carte "Armata luminii"
DESCRIPTION:Joi\, 4 septembrie 2025\, începând cu ora 16.30\, la Standul Colecției de Carte și Artă – Harnău din Iași se organizează în cadrul Târgului de Carte lansarea volumului „Armata luminii”\, semnat de Cristian Harnău. Autorul se caracterizează ca fiind „patriot\, poet\, publicist\, autor de scrieri privind poporul român\, de sinteze asupra problematicii globale contemporane\, de volume care cuprind cazuistica unor fenomene inexplicabile și de volume autobiografice”.\nEvenimentul de lansare include și lectură publică din opera autorului.
URL:https://www.bjbraila.ro/eveniment/lansare-carte-armata-luminii/
LOCATION:Târg de Carte\, Strada Mihai Eminescu
CATEGORIES:Lansare de carte
ATTACH;FMTTYPE=image/jpeg:https://www.bjbraila.ro/wp-content/uploads/2025/09/afis-Cristian-Harnau.jpg
END:VEVENT
BEGIN:VEVENT
DTSTART;TZID=Europe/Moscow:20250905T170000
DTEND;TZID=Europe/Moscow:20250905T190000
DTSTAMP:20260421T012237
CREATED:20250902T111201Z
LAST-MODIFIED:20250902T111913Z
UID:9957-1757091600-1757098800@www.bjbraila.ro
SUMMARY:Body Symphony
DESCRIPTION:Seria Body Symphony ajunge la Brăila pentru o nouă serie de reconectare la corp prin yoga și dans conștient!\nBiblioteca Județeană „Panait Istrati” ne va găzdui pentru două ore de prezență\, prin posturi de Yoga și tehnici de Mișcare conștientă. Sesiunea va fi susținută de Daniel Meze\, instructor de yoga\, și psihoterapeut integrativ Teodora Dumitru.\nVor fi și exerciții individuale\, și în echipă\, așa că nu ezita să vii cu partenerul sau cu prietenii. Ai nevoie doar de haine confortabile\, de o saltea de yoga și de o sticlă cu apă.\nIntrarea este gratuită! Participarea se face pe bază de înscriere la nr. de mai jos. Locurile sunt limitate. La final vă vom surprinde cu o serie de cuvinte în versuri și în proză\, din cărțile noastre.\nDetalii: Biblioteca Județeană „Panait Istrati” (Sala Fănuș Neagu)\, Piața Poligon\, nr. 4\, Brăila 5 septembrie\, vineri 17:00 – 19:00 (2h) Rezervări: 0744438000
URL:https://www.bjbraila.ro/eveniment/body-symphony/
LOCATION:Biblioteca “Panait Istrati” Braila\, Piața Poligon nr. 4\, Brăila\, Brăila\, 810026\, România
CATEGORIES:Evenimente
ATTACH;FMTTYPE=image/jpeg:https://www.bjbraila.ro/wp-content/uploads/2025/09/540024372_24402873809400619_4177619380242955393_n.jpg
END:VEVENT
BEGIN:VEVENT
DTSTART;TZID=Europe/Moscow:20250906T110000
DTEND;TZID=Europe/Moscow:20250906T123000
DTSTAMP:20260421T012237
CREATED:20250902T102748Z
LAST-MODIFIED:20250902T102748Z
UID:9954-1757156400-1757161800@www.bjbraila.ro
SUMMARY:Lansare carte "Din inima Auschwitz-ului"
DESCRIPTION:Biblioteca Județeană „Panait Istrati” Brăila vă invită sâmbătă\, 6 septembrie 2025\, începând cu ora 11.00\, la lansarea cărții „Din inima Auschwitz-ului”\, autor Maria Gabriela Boboc. \nInvitate să prezinte cartea sunt profesoarele Gianina Maria Cîrîc și Alina Elena Giurgiu. \nModerează: dr. Eduard Claudiu Brăileanu\, șef serviciu în cadrul Bibliotecii. \nMaria Gabriela Boboc este studentă la Facultatea de Istorie\, Filosofie și Teologie din cadrul Universității „Dunărea de Jos” Galați și a început să scrie în timpul liceului\, când a descoperit pasiunea pentru istoria Holocaustului. Din dorința de a readuce în atenția oamenilor – și mai ales a tinerilor – această pagină întunecată a istoriei\, autoarea a scris romanul „Din inima Auschwitz-ului”\, care spune povestea unei familii de evrei francezi. Personajele trec împreună prin cei mai grei ani ca prizonieri în lagărul de exterminare\, dar dincolo de aceste orori există o forță interioară care poate înfrunta chiar și cele mai întunecate vremuri. Cartea nu este doar despre trecut\, ci și despre responsabilitatea noastră de a nu uita\, o lectură tulburătoare\, dar necesară. \nVă așteptăm la sala Fănuș Neagu\, etajul 3\, Piața Poligon nr. 4. Intrarea liberă.
URL:https://www.bjbraila.ro/eveniment/lansare-carte-din-inima-auschwitz-ului/
LOCATION:Biblioteca “Panait Istrati” Braila\, Piața Poligon nr. 4\, Brăila\, Brăila\, 810026\, România
CATEGORIES:Lansare de carte
ATTACH;FMTTYPE=image/jpeg:https://www.bjbraila.ro/wp-content/uploads/2025/09/afis-lansare-carte.jpg
END:VEVENT
BEGIN:VEVENT
DTSTART;TZID=Europe/Moscow:20250908T080000
DTEND;TZID=Europe/Moscow:20250908T190000
DTSTAMP:20260421T012237
CREATED:20250905T055205Z
LAST-MODIFIED:20250905T055205Z
UID:9965-1757318400-1757358000@www.bjbraila.ro
SUMMARY:𝐌𝐚𝐫𝐤𝐞𝐭𝐢𝐧𝐠 𝐃𝐢𝐠𝐢𝐭𝐚𝐥 – modul pentru adulți
DESCRIPTION:Vrei să înțelegi cum funcționează promovarea online\, să folosești rețelele sociale pentru carieră sau pentru afacerea ta și să îți construiești o prezență digitală convingătoare?\nBiblioteca Judeteana „Panait Istrati” Braila și agenția See First Marketing  te invită să participi\, începând din octombrie 2025\, la Atelierul de Marketing Digital – modul pentru adulți\, un program GRATUIT de inițiere în marketing digital\, destinat celor care vor să se dezvolte profesional.\nCui se adresează?\n Adulților cu domiciliul în județul Brăila\n Deținători ai unui permis valabil la Biblioteca Județeană „Panait Istrati”\n Persoanelor aflate în activitate sau în căutarea unui nou început profesional\n Începătorilor – nu este nevoie de cunoștințe sau experiență anterioară în marketing\n Ce vor învăța participanții?\n●Cum funcționează marketingul digital și cum îi poate ajuta în carieră\n●Cum îți construiești o identitate online credibilă (inclusiv LinkedIn)\n●Cum folosești platformele sociale în mod profesionist (Facebook\, Instagram\, WhatsApp Business)\n●Cum poți comunica mai eficient în rolul tău actual sau viitor\n●Ce înseamnă o campanie de promovare simplă\, dar eficientă\nTotul într-un limbaj accesibil\, explicat pas cu pas\, cu exemple concrete și aplicații utile în viața reală.\nPerioadă: Octombrie 2025 – Mai 2026\nÎntâlniri săptămânale\, în fiecare sâmbătă\, în format hibrid:\n– fizic la Biblioteca Județeană „Panait Istrati” Brăila\n– online pe Google Meet\, în funcție de disponibilitate\nTrainer: Teodora Adamache – formator acreditat & consultant în marketing digital\nPentru a participa\, te rugăm să completezi formularul de înscriere: https://docs.google.com/…/1tggJ4q6gFrEJ…/edit\nTermen limită înscrieri: 30 septembrie 2025\n Atelierul nu reprezintă un curs de acreditare profesională\, totuși competențele dobândite pot fi aplicate imediat.\nContact: bjpi@bjbraila.ro\, 0765240145
URL:https://www.bjbraila.ro/eveniment/%f0%9d%90%8c%f0%9d%90%9a%f0%9d%90%ab%f0%9d%90%a4%f0%9d%90%9e%f0%9d%90%ad%f0%9d%90%a2%f0%9d%90%a7%f0%9d%90%a0-%f0%9d%90%83%f0%9d%90%a2%f0%9d%90%a0%f0%9d%90%a2%f0%9d%90%ad%f0%9d%90%9a%f0%9d%90%a5/
LOCATION:Biblioteca “Panait Istrati” Braila\, Piața Poligon nr. 4\, Brăila\, Brăila\, 810026\, România
CATEGORIES:Evenimente
ATTACH;FMTTYPE=image/jpeg:https://www.bjbraila.ro/wp-content/uploads/2025/09/afis-atelier-adulti.jpg
END:VEVENT
BEGIN:VEVENT
DTSTART;TZID=Europe/Moscow:20250908T080000
DTEND;TZID=Europe/Moscow:20250908T190000
DTSTAMP:20260421T012237
CREATED:20250905T055448Z
LAST-MODIFIED:20250905T055805Z
UID:9968-1757318400-1757358000@www.bjbraila.ro
SUMMARY:Marketing Digital pentru liceeni
DESCRIPTION:Atelierul de Marketing Digital pentru liceeni revine!\nBiblioteca Judeteana „Panait Istrati” Braila în parteneriat cu agenția See First Marketing anunță reluarea Atelierului de Marketing Digital pentru liceeni începând cu luna octombrie 2025\, sub coordonarea Teodorei Adamache\, formator acreditat și managing consultant la See First Marketing.\nNoua ediție va avea o durată extinsă pe întreg anul școlar 2025 – 2026\, cu sesiuni săptămânale și ateliere practice care vor dezvolta abilitățile de comunicare\, creație de conținut și lucru în echipă ale liceenilor brăileni. Programul va include mai mulți invitați speciali din domenii diverse\, care le vor oferi tinerilor perspective autentice din lumea marketingului și antreprenoriatului digital. Participanții vor lucra pe proiecte concrete\, inclusiv campanii de promovare reale\, își vor îmbunătăți abilitățile de analiză a trendurilor pe rețele sociale (Instagram\, TikTok) și vor descoperi cum pot folosi marketingul digital pentru a crea schimbări pozitive în comunitatea lor.\nParticiparea la atelier este gratuită\, iar locurile sunt limitate. Înscrierile încep în luna septembrie 2025\, iar detaliile privind calendarul vor fi disponibile pe paginile de social media ale Bibliotecii.\nPentru înscrieri completează acest formular: https://docs.google.com/…/1tggJ4q6gFrEJ…/edit
URL:https://www.bjbraila.ro/eveniment/marketing-digital-pentru-liceeni/
LOCATION:Biblioteca “Panait Istrati” Braila\, Piața Poligon nr. 4\, Brăila\, Brăila\, 810026\, România
CATEGORIES:Evenimente
ATTACH;FMTTYPE=image/jpeg:https://www.bjbraila.ro/wp-content/uploads/2025/09/afis-Mk-Digital-2025-2026.jpg
END:VEVENT
BEGIN:VEVENT
DTSTART;TZID=Europe/Moscow:20250920T100000
DTEND;TZID=Europe/Moscow:20250920T120000
DTSTAMP:20260421T012237
CREATED:20250917T075548Z
LAST-MODIFIED:20250917T075548Z
UID:9991-1758362400-1758369600@www.bjbraila.ro
SUMMARY:CASA MARE
DESCRIPTION:Șezătoarea Poveștile IEI vă invită cu drag la o nouă ediție a evenimentului 𝐂𝐀𝐒𝐀 𝐌𝐀𝐑𝐄\, sâmbătă\, 20 septembrie 2025\, de la ora 10.00\, care-și propune să aducă împreună pe toți iubitorii tradițiilor românești în spațiul primitor al Bibliotecii Județene „Panait Istrati” Brăila.\nProgramul zilei cuprinde:\nPrelegere susținută de dr. Ion CHERCIU\, cercetător științific și etnograf\, despre cămașa românească tradițională – simbolul identității noastre și un tezaur de artă populară transmis din generație în generație;\nLansarea volumului II al lucrării „IA românească – cămașa cu altiță”\, autor dr. Ion CHERCIU\, lucrare enciclopedică dedicată evoluției iei și fenomenului șezătorilor românești contemporane. Cu acest prilej\, va fi prezentată mapa reeditată cu planșe de izvoade vrâncenești culese de Elena Cuparencu\, etnograf;\nProgram artistic de cântece şi dansuri susținut de Ansamblul Folcloric de renume internațional „Țara Vrancei”\, condus de Maria MURGOCI;\nExpoziție de cămăși românești cusute de participantele șezătorii Poveștile IEI Brăila.\nVremea se anunță frumoasă\, iar toamna blândă ne adună pe toți în Casa Mare. Așadar\, luaţi-vă prietenii şi familia și haideți să celebrăm împreună cămașa românească de la malul Dunării albastre!
URL:https://www.bjbraila.ro/eveniment/casa-mare/
LOCATION:Biblioteca “Panait Istrati” Braila\, Piața Poligon nr. 4\, Brăila\, Brăila\, 810026\, România
CATEGORIES:Evenimente,Expoziție,Lansare de carte
ATTACH;FMTTYPE=image/jpeg:https://www.bjbraila.ro/wp-content/uploads/2025/09/afis-Casa-Mare-2025.jpg
END:VEVENT
BEGIN:VEVENT
DTSTART;TZID=Europe/Moscow:20250926T170000
DTEND;TZID=Europe/Moscow:20250926T210000
DTSTAMP:20260421T012237
CREATED:20250924T072124Z
LAST-MODIFIED:20250924T072534Z
UID:10000-1758906000-1758920400@www.bjbraila.ro
SUMMARY:Nocturna bibliotecilor
DESCRIPTION:NOCTURNA BIBLIOTECILOR 2025: vineri\, 26 septembrie\, începând cu ora 17.00\nVă așteptăm la o seară magică plină de povești\, filme și ateliere creative!\nIată ce activități am pregătit pentru voi:\n17\,00 – 18\,00 TRAGEM\, RÂDEM\, POVESTIM – RIDICHEA O BIRUIM: lecturarea poveștii Ridichea uriașă și jocuri de rol (Coordonator: Jeni Petrof)\, Ludotecă\n17\,00 – 18\,15 Vizionarea filmului DUMBRAVA MINUNATĂ\, Mediatecă\n17\,00 – 18\,30 SEMNE DE CARTE FERMECATE – PERSONAJELE PRIND VIAȚĂ – atelier handmade – se confecționează semne de carte cu personaje din poveste (Coordonatori: Monica Ionescu și Carmen Damian)\, Sala de Lectură\n17\,00 – 19\,00 Proiecție de film românesc\, Sala Dunărea\n17\,00 – 19\,00 ANTONIU ȘI CLEOPATRA – scrisori enigmatice pe hârtie pergament\, folosind alfabetul hieroglific (Coordonatori: Camelia Cherciu și Silvia Iacob)\, Împrumut de Carte pentru Adulți – parter\n17 – 19\,30 ROBOȚI PRINTRE CĂRȚI – atelier interactiv pentru descoperirea principiilor de bază ale roboticii (exerciții și demonstrații) (Coordonatori: Echipa HELIX)\, Makerspace\n 17\,30 – 19\,30 PINOCCHIO ȘI PRIETENII – atelier interactiv\, combinat cu activitate handmade (Coordonatori: Mihaela Lungu și Doina Lalu)\, Împrumut de Carte pentru Adulți – etaj 1\n17\,30 – 19\,30 PANAIT ISTRATI\, CULTUL PRIETENIEI – expoziție tematică cu documente aflate în cadrul secției Colecții Speciale (Coordonatori: Cătălin Râșnoveanu și Ana-Maria Florică)\, Colecții Speciale\n17\,30 – 19\,30 PE URMELE LUI MOWGLI – DESCOPERĂ PRIETENII ACESTUIA PRINTRE CĂRȚI (Coordonatori: Olimpia Moraru\, Nicoleta Prodan și Ana-Maria Florică)\, Centrul Multicultural\n18\,30 – 19\,30 MINUNATA DUMBRAVĂ A LIZUCĂI – activitate interactivă și practică (Coordonatori: Steluța Buzdugan și Irina Ene)\, Mediatecă\n 19\,00 – 20\,00 PRIETENII PESTE TIMP – activități interactive pe echipe (Coordonatori: Valentina Chiriac și Leta Răileanu)\, Împrumut de Carte pt Adulți – parter\n Surpriză muzicală:\n19\,00 – 20\,00 Recital formațiile Rithmix și ReStart\, în colaborare cu Școala Populară de Arte Vespasian Lungu – în curtea Bibliotecii.\nIntrarea este liberă! Copiii\, părinții și bunicii sunt așteptați să se bucure împreună de cărți\, muzică\, jocuri și surprize!\n Haideți să dăm de știre! Un share poate aduce un prieten sau o familie la bibliotecă.
URL:https://www.bjbraila.ro/eveniment/nocturna-bibliotecilor/
LOCATION:Brăila
ATTACH;FMTTYPE=image/jpeg:https://www.bjbraila.ro/wp-content/uploads/2025/09/553754465_1192183486267750_1661022105848187487_n.jpg
END:VEVENT
BEGIN:VEVENT
DTSTART;TZID=Europe/Moscow:20250926T170000
DTEND;TZID=Europe/Moscow:20250926T210000
DTSTAMP:20260421T012237
CREATED:20250924T075621Z
LAST-MODIFIED:20250924T124338Z
UID:10005-1758906000-1758920400@www.bjbraila.ro
SUMMARY:Nocturna Bibliotecilor 2025
DESCRIPTION:Evenimentul cultural anual Nocturna Bibliotecilor\, organizat de Asociația Națională a Bibliotecarilor și Bibliotecilor Publice din România (ANBPR)\, are loc în perioada 26-27 septembrie 2025\, reunind biblioteci publice din România și Republica Moldova într-o celebrare comună a lecturii\, prieteniei și incluziunii. Sub tema Destine și personaje celebre din literatură – lecția prieteniei și a solidarității\, ediția din acest an invită cititorii de toate vârstele să redescopere poveștile care ne unesc. \nLa Brăila\, Nocturna Bibliotecilor se desfășoară vineri\, 26 septembrie\, începând cu ora 17.00\, la sediul Bibliotecii Județene Panait Istrati. \nIată ce activități am pregătit pentru brăileni: \n\n17\,00 – 18\,00 TRAGEM\, RÂDEM\, POVESTIM – RIDICHEA O BIRUIM: lecturarea poveștii Ridichea uriașă și jocuri de rol (Coordonator: Jeni Petrof)\, Ludotecă\n17\,00 – 18\,15 Vizionarea filmului DUMBRAVA MINUNATĂ\, Mediatecă\n17\,00 – 18\,30 SEMNE DE CARTE FERMECATE – PERSONAJELE PRIND VIAȚĂ – atelier handmade – se confecționează semne de carte cu personaje din poveste (Coordonatori: Monica Ionescu și Carmen Damian)\, Sala de Lectură\n17\,00 – 18\,30 Proiecție de film românesc la sala Dunărea: Osânda\n17\,00 – 19\,00 ANTONIU ȘI CLEOPATRA – scrisori enigmatice pe hârtie pergament\, folosind alfabetul hieroglific (Coordonatori: Camelia Cherciu și Silvia Iacob)\, Împrumut de Carte pentru Adulți – parter\n17\,00 – 19\,30 ROBOȚI PRINTRE CĂRȚI – atelier interactiv pentru descoperirea principiilor de bază ale roboticii (exerciții și demonstrații) (Coordonatori: Echipa HELIX)\, Makerspace\n17\,30 – 19\,30 PINOCCHIO ȘI PRIETENII – atelier interactiv\, combinat cu activitate handmade (Coordonatori: Mihaela Lungu și Doina Lalu)\, Împrumut de Carte pentru Adulți – etaj 1\n17\,30 – 19\,30 PANAIT ISTRATI\, CULTUL PRIETENIEI – expoziție tematică cu documente aflate în cadrul secției Colecții Speciale (Coordonatori: Cătălin Râșnoveanu și Ana-Maria Florică)\, Colecții Speciale\n17\,30 – 19\,30 PE URMELE LUI MOWGLI – DESCOPERĂ PRIETENII ACESTUIA PRINTRE CĂRȚI (Coordonatori: Olimpia Moraru\, Nicoleta Prodan și Ana-Maria Florică)\, Centrul Multicultural\n18\,30 – 19\,30 MINUNATA DUMBRAVĂ A LIZUCĂI – activitate interactivă și practică (Coordonatori: Steluța Buzdugan și Irina Ene)\, Mediatecă\n18\,30 – 20\,00 Proiecție de film românesc la Sala Dunărea: Două lozuri / D-ale Carnavalului\n19\,00 – 20\,00 PRIETENII PESTE TIMP – activități interactive pe echipe (Coordonatori: Valentina Chiriac și Leta Răileanu)\, Împrumut de Carte pentru Adulți – parter\n19\,00 – 20\,00 Recital formațiile Rithmix și ReStart\, în colaborare cu Școala Populară de Arte Vespasian Lungu – în curtea Bibliotecii.\n20\,00 – 21\,30 – Proiecție de film românesc la sala Dunărea: Actorul și Sălbaticii\n\nNocturna Bibliotecilor continuă tradiția unei mișcări culturale care aduce împreună oameni\, idei și valori\, transformând biblioteca într-un spațiu viu\, al dialogului și al solidarității prin cultură. \nIntrarea este liberă! Copiii\, părinții și bunicii sunt așteptați să se bucure împreună de o seară magică cu filme\, muzică\, lectură și ateliere creative!
URL:https://www.bjbraila.ro/eveniment/nocturna-bibliotecilor-2025/
LOCATION:Biblioteca “Panait Istrati” Braila\, Piața Poligon nr. 4\, Brăila\, Brăila\, 810026\, România
CATEGORIES:Evenimente,Expoziție
ATTACH;FMTTYPE=image/jpeg:https://www.bjbraila.ro/wp-content/uploads/2025/09/Nocturna-Bibliotecilor-2025.jpg
END:VEVENT
END:VCALENDAR